BEGIN:VCALENDAR
VERSION:2.0
PRODID:-//Horizon Health - ECPv6.15.20//NONSGML v1.0//EN
CALSCALE:GREGORIAN
METHOD:PUBLISH
X-ORIGINAL-URL:https://horizonhealthky.org
X-WR-CALDESC:Events for Horizon Health
REFRESH-INTERVAL;VALUE=DURATION:PT1H
X-Robots-Tag:noindex
X-PUBLISHED-TTL:PT1H
BEGIN:VTIMEZONE
TZID:America/Kentucky/Louisville
BEGIN:DAYLIGHT
TZOFFSETFROM:-0500
TZOFFSETTO:-0400
TZNAME:EDT
DTSTART:20250309T070000
END:DAYLIGHT
BEGIN:STANDARD
TZOFFSETFROM:-0400
TZOFFSETTO:-0500
TZNAME:EST
DTSTART:20251102T060000
END:STANDARD
BEGIN:DAYLIGHT
TZOFFSETFROM:-0500
TZOFFSETTO:-0400
TZNAME:EDT
DTSTART:20260308T070000
END:DAYLIGHT
BEGIN:STANDARD
TZOFFSETFROM:-0400
TZOFFSETTO:-0500
TZNAME:EST
DTSTART:20261101T060000
END:STANDARD
BEGIN:DAYLIGHT
TZOFFSETFROM:-0500
TZOFFSETTO:-0400
TZNAME:EDT
DTSTART:20270314T070000
END:DAYLIGHT
BEGIN:STANDARD
TZOFFSETFROM:-0400
TZOFFSETTO:-0500
TZNAME:EST
DTSTART:20271107T060000
END:STANDARD
END:VTIMEZONE
BEGIN:VEVENT
DTSTART;TZID=America/Kentucky/Louisville:20260702T100000
DTEND;TZID=America/Kentucky/Louisville:20260702T140000
DTSTAMP:20260422T173539
CREATED:20250513T204828Z
LAST-MODIFIED:20250514T173142Z
UID:10001213-1782986400-1783000800@horizonhealthky.org
SUMMARY:Knox County Syringe Exchange
DESCRIPTION:Knox County Health Department (261 Hospital Dr\, Barbourville\, KY 40906\, United States)
URL:https://horizonhealthky.org/event/knox-county-syringe-exchange/2026-07-02/
LOCATION:Knox County Health Department\, 261 Hospital Dr\, Barbourville\, KY\, 40906\, United States
END:VEVENT
BEGIN:VEVENT
DTSTART;TZID=America/Kentucky/Louisville:20260707T100000
DTEND;TZID=America/Kentucky/Louisville:20260707T140000
DTSTAMP:20260422T173539
CREATED:20250513T204828Z
LAST-MODIFIED:20250514T173142Z
UID:10001214-1783418400-1783432800@horizonhealthky.org
SUMMARY:Knox County Syringe Exchange
DESCRIPTION:Knox County Health Department (261 Hospital Dr\, Barbourville\, KY 40906\, United States)
URL:https://horizonhealthky.org/event/knox-county-syringe-exchange/2026-07-07/
LOCATION:Knox County Health Department\, 261 Hospital Dr\, Barbourville\, KY\, 40906\, United States
END:VEVENT
BEGIN:VEVENT
DTSTART;TZID=America/Kentucky/Louisville:20260709T100000
DTEND;TZID=America/Kentucky/Louisville:20260709T140000
DTSTAMP:20260422T173539
CREATED:20250513T204828Z
LAST-MODIFIED:20250514T173142Z
UID:10001215-1783591200-1783605600@horizonhealthky.org
SUMMARY:Knox County Syringe Exchange
DESCRIPTION:Knox County Health Department (261 Hospital Dr\, Barbourville\, KY 40906\, United States)
URL:https://horizonhealthky.org/event/knox-county-syringe-exchange/2026-07-09/
LOCATION:Knox County Health Department\, 261 Hospital Dr\, Barbourville\, KY\, 40906\, United States
END:VEVENT
BEGIN:VEVENT
DTSTART;TZID=America/Kentucky/Louisville:20260714T100000
DTEND;TZID=America/Kentucky/Louisville:20260714T140000
DTSTAMP:20260422T173539
CREATED:20250513T204828Z
LAST-MODIFIED:20250514T173142Z
UID:10001216-1784023200-1784037600@horizonhealthky.org
SUMMARY:Knox County Syringe Exchange
DESCRIPTION:Knox County Health Department (261 Hospital Dr\, Barbourville\, KY 40906\, United States)
URL:https://horizonhealthky.org/event/knox-county-syringe-exchange/2026-07-14/
LOCATION:Knox County Health Department\, 261 Hospital Dr\, Barbourville\, KY\, 40906\, United States
END:VEVENT
BEGIN:VEVENT
DTSTART;TZID=America/Kentucky/Louisville:20260716T100000
DTEND;TZID=America/Kentucky/Louisville:20260716T140000
DTSTAMP:20260422T173539
CREATED:20250513T204828Z
LAST-MODIFIED:20250514T173142Z
UID:10001217-1784196000-1784210400@horizonhealthky.org
SUMMARY:Knox County Syringe Exchange
DESCRIPTION:Knox County Health Department (261 Hospital Dr\, Barbourville\, KY 40906\, United States)
URL:https://horizonhealthky.org/event/knox-county-syringe-exchange/2026-07-16/
LOCATION:Knox County Health Department\, 261 Hospital Dr\, Barbourville\, KY\, 40906\, United States
END:VEVENT
BEGIN:VEVENT
DTSTART;TZID=America/Kentucky/Louisville:20260721T100000
DTEND;TZID=America/Kentucky/Louisville:20260721T140000
DTSTAMP:20260422T173539
CREATED:20250513T204828Z
LAST-MODIFIED:20250514T173142Z
UID:10001218-1784628000-1784642400@horizonhealthky.org
SUMMARY:Knox County Syringe Exchange
DESCRIPTION:Knox County Health Department (261 Hospital Dr\, Barbourville\, KY 40906\, United States)
URL:https://horizonhealthky.org/event/knox-county-syringe-exchange/2026-07-21/
LOCATION:Knox County Health Department\, 261 Hospital Dr\, Barbourville\, KY\, 40906\, United States
END:VEVENT
BEGIN:VEVENT
DTSTART;TZID=America/Kentucky/Louisville:20260723T100000
DTEND;TZID=America/Kentucky/Louisville:20260723T140000
DTSTAMP:20260422T173539
CREATED:20250513T204828Z
LAST-MODIFIED:20250514T173142Z
UID:10001219-1784800800-1784815200@horizonhealthky.org
SUMMARY:Knox County Syringe Exchange
DESCRIPTION:Knox County Health Department (261 Hospital Dr\, Barbourville\, KY 40906\, United States)
URL:https://horizonhealthky.org/event/knox-county-syringe-exchange/2026-07-23/
LOCATION:Knox County Health Department\, 261 Hospital Dr\, Barbourville\, KY\, 40906\, United States
END:VEVENT
BEGIN:VEVENT
DTSTART;TZID=America/Kentucky/Louisville:20260728T100000
DTEND;TZID=America/Kentucky/Louisville:20260728T140000
DTSTAMP:20260422T173539
CREATED:20250513T204828Z
LAST-MODIFIED:20250514T173142Z
UID:10001220-1785232800-1785247200@horizonhealthky.org
SUMMARY:Knox County Syringe Exchange
DESCRIPTION:Knox County Health Department (261 Hospital Dr\, Barbourville\, KY 40906\, United States)
URL:https://horizonhealthky.org/event/knox-county-syringe-exchange/2026-07-28/
LOCATION:Knox County Health Department\, 261 Hospital Dr\, Barbourville\, KY\, 40906\, United States
END:VEVENT
BEGIN:VEVENT
DTSTART;TZID=America/Kentucky/Louisville:20260730T100000
DTEND;TZID=America/Kentucky/Louisville:20260730T140000
DTSTAMP:20260422T173539
CREATED:20250513T204828Z
LAST-MODIFIED:20250514T173142Z
UID:10001221-1785405600-1785420000@horizonhealthky.org
SUMMARY:Knox County Syringe Exchange
DESCRIPTION:Knox County Health Department (261 Hospital Dr\, Barbourville\, KY 40906\, United States)
URL:https://horizonhealthky.org/event/knox-county-syringe-exchange/2026-07-30/
LOCATION:Knox County Health Department\, 261 Hospital Dr\, Barbourville\, KY\, 40906\, United States
END:VEVENT
BEGIN:VEVENT
DTSTART;TZID=America/Kentucky/Louisville:20260804T100000
DTEND;TZID=America/Kentucky/Louisville:20260804T140000
DTSTAMP:20260422T173539
CREATED:20250513T204828Z
LAST-MODIFIED:20250514T173142Z
UID:10001222-1785837600-1785852000@horizonhealthky.org
SUMMARY:Knox County Syringe Exchange
DESCRIPTION:Knox County Health Department (261 Hospital Dr\, Barbourville\, KY 40906\, United States)
URL:https://horizonhealthky.org/event/knox-county-syringe-exchange/2026-08-04/
LOCATION:Knox County Health Department\, 261 Hospital Dr\, Barbourville\, KY\, 40906\, United States
END:VEVENT
BEGIN:VEVENT
DTSTART;TZID=America/Kentucky/Louisville:20260806T100000
DTEND;TZID=America/Kentucky/Louisville:20260806T140000
DTSTAMP:20260422T173539
CREATED:20250513T204828Z
LAST-MODIFIED:20250514T173142Z
UID:10001223-1786010400-1786024800@horizonhealthky.org
SUMMARY:Knox County Syringe Exchange
DESCRIPTION:Knox County Health Department (261 Hospital Dr\, Barbourville\, KY 40906\, United States)
URL:https://horizonhealthky.org/event/knox-county-syringe-exchange/2026-08-06/
LOCATION:Knox County Health Department\, 261 Hospital Dr\, Barbourville\, KY\, 40906\, United States
END:VEVENT
BEGIN:VEVENT
DTSTART;TZID=America/Kentucky/Louisville:20260811T100000
DTEND;TZID=America/Kentucky/Louisville:20260811T140000
DTSTAMP:20260422T173539
CREATED:20250513T204828Z
LAST-MODIFIED:20250514T173142Z
UID:10001224-1786442400-1786456800@horizonhealthky.org
SUMMARY:Knox County Syringe Exchange
DESCRIPTION:Knox County Health Department (261 Hospital Dr\, Barbourville\, KY 40906\, United States)
URL:https://horizonhealthky.org/event/knox-county-syringe-exchange/2026-08-11/
LOCATION:Knox County Health Department\, 261 Hospital Dr\, Barbourville\, KY\, 40906\, United States
END:VEVENT
BEGIN:VEVENT
DTSTART;TZID=America/Kentucky/Louisville:20260813T100000
DTEND;TZID=America/Kentucky/Louisville:20260813T140000
DTSTAMP:20260422T173539
CREATED:20250513T204828Z
LAST-MODIFIED:20250514T173142Z
UID:10001225-1786615200-1786629600@horizonhealthky.org
SUMMARY:Knox County Syringe Exchange
DESCRIPTION:Knox County Health Department (261 Hospital Dr\, Barbourville\, KY 40906\, United States)
URL:https://horizonhealthky.org/event/knox-county-syringe-exchange/2026-08-13/
LOCATION:Knox County Health Department\, 261 Hospital Dr\, Barbourville\, KY\, 40906\, United States
END:VEVENT
BEGIN:VEVENT
DTSTART;TZID=America/Kentucky/Louisville:20260818T100000
DTEND;TZID=America/Kentucky/Louisville:20260818T140000
DTSTAMP:20260422T173539
CREATED:20250513T204828Z
LAST-MODIFIED:20250514T173142Z
UID:10001226-1787047200-1787061600@horizonhealthky.org
SUMMARY:Knox County Syringe Exchange
DESCRIPTION:Knox County Health Department (261 Hospital Dr\, Barbourville\, KY 40906\, United States)
URL:https://horizonhealthky.org/event/knox-county-syringe-exchange/2026-08-18/
LOCATION:Knox County Health Department\, 261 Hospital Dr\, Barbourville\, KY\, 40906\, United States
END:VEVENT
BEGIN:VEVENT
DTSTART;TZID=America/Kentucky/Louisville:20260820T100000
DTEND;TZID=America/Kentucky/Louisville:20260820T140000
DTSTAMP:20260422T173539
CREATED:20250513T204828Z
LAST-MODIFIED:20250514T173142Z
UID:10001227-1787220000-1787234400@horizonhealthky.org
SUMMARY:Knox County Syringe Exchange
DESCRIPTION:Knox County Health Department (261 Hospital Dr\, Barbourville\, KY 40906\, United States)
URL:https://horizonhealthky.org/event/knox-county-syringe-exchange/2026-08-20/
LOCATION:Knox County Health Department\, 261 Hospital Dr\, Barbourville\, KY\, 40906\, United States
END:VEVENT
BEGIN:VEVENT
DTSTART;TZID=America/Kentucky/Louisville:20260825T100000
DTEND;TZID=America/Kentucky/Louisville:20260825T140000
DTSTAMP:20260422T173539
CREATED:20250513T204828Z
LAST-MODIFIED:20250514T173142Z
UID:10001228-1787652000-1787666400@horizonhealthky.org
SUMMARY:Knox County Syringe Exchange
DESCRIPTION:Knox County Health Department (261 Hospital Dr\, Barbourville\, KY 40906\, United States)
URL:https://horizonhealthky.org/event/knox-county-syringe-exchange/2026-08-25/
LOCATION:Knox County Health Department\, 261 Hospital Dr\, Barbourville\, KY\, 40906\, United States
END:VEVENT
BEGIN:VEVENT
DTSTART;TZID=America/Kentucky/Louisville:20260827T100000
DTEND;TZID=America/Kentucky/Louisville:20260827T140000
DTSTAMP:20260422T173539
CREATED:20250513T204828Z
LAST-MODIFIED:20250514T173142Z
UID:10001229-1787824800-1787839200@horizonhealthky.org
SUMMARY:Knox County Syringe Exchange
DESCRIPTION:Knox County Health Department (261 Hospital Dr\, Barbourville\, KY 40906\, United States)
URL:https://horizonhealthky.org/event/knox-county-syringe-exchange/2026-08-27/
LOCATION:Knox County Health Department\, 261 Hospital Dr\, Barbourville\, KY\, 40906\, United States
END:VEVENT
BEGIN:VEVENT
DTSTART;TZID=America/Kentucky/Louisville:20260901T100000
DTEND;TZID=America/Kentucky/Louisville:20260901T140000
DTSTAMP:20260422T173539
CREATED:20250513T204828Z
LAST-MODIFIED:20250514T173142Z
UID:10001230-1788256800-1788271200@horizonhealthky.org
SUMMARY:Knox County Syringe Exchange
DESCRIPTION:Knox County Health Department (261 Hospital Dr\, Barbourville\, KY 40906\, United States)
URL:https://horizonhealthky.org/event/knox-county-syringe-exchange/2026-09-01/
LOCATION:Knox County Health Department\, 261 Hospital Dr\, Barbourville\, KY\, 40906\, United States
END:VEVENT
BEGIN:VEVENT
DTSTART;TZID=America/Kentucky/Louisville:20260903T100000
DTEND;TZID=America/Kentucky/Louisville:20260903T140000
DTSTAMP:20260422T173539
CREATED:20250513T204828Z
LAST-MODIFIED:20250514T173142Z
UID:10001231-1788429600-1788444000@horizonhealthky.org
SUMMARY:Knox County Syringe Exchange
DESCRIPTION:Knox County Health Department (261 Hospital Dr\, Barbourville\, KY 40906\, United States)
URL:https://horizonhealthky.org/event/knox-county-syringe-exchange/2026-09-03/
LOCATION:Knox County Health Department\, 261 Hospital Dr\, Barbourville\, KY\, 40906\, United States
END:VEVENT
BEGIN:VEVENT
DTSTART;TZID=America/Kentucky/Louisville:20260908T100000
DTEND;TZID=America/Kentucky/Louisville:20260908T140000
DTSTAMP:20260422T173539
CREATED:20250513T204828Z
LAST-MODIFIED:20250514T173142Z
UID:10001232-1788861600-1788876000@horizonhealthky.org
SUMMARY:Knox County Syringe Exchange
DESCRIPTION:Knox County Health Department (261 Hospital Dr\, Barbourville\, KY 40906\, United States)
URL:https://horizonhealthky.org/event/knox-county-syringe-exchange/2026-09-08/
LOCATION:Knox County Health Department\, 261 Hospital Dr\, Barbourville\, KY\, 40906\, United States
END:VEVENT
BEGIN:VEVENT
DTSTART;TZID=America/Kentucky/Louisville:20260910T100000
DTEND;TZID=America/Kentucky/Louisville:20260910T140000
DTSTAMP:20260422T173539
CREATED:20250513T204828Z
LAST-MODIFIED:20250514T173142Z
UID:10001233-1789034400-1789048800@horizonhealthky.org
SUMMARY:Knox County Syringe Exchange
DESCRIPTION:Knox County Health Department (261 Hospital Dr\, Barbourville\, KY 40906\, United States)
URL:https://horizonhealthky.org/event/knox-county-syringe-exchange/2026-09-10/
LOCATION:Knox County Health Department\, 261 Hospital Dr\, Barbourville\, KY\, 40906\, United States
END:VEVENT
BEGIN:VEVENT
DTSTART;TZID=America/Kentucky/Louisville:20260915T100000
DTEND;TZID=America/Kentucky/Louisville:20260915T140000
DTSTAMP:20260422T173539
CREATED:20250513T204828Z
LAST-MODIFIED:20250514T173142Z
UID:10001234-1789466400-1789480800@horizonhealthky.org
SUMMARY:Knox County Syringe Exchange
DESCRIPTION:Knox County Health Department (261 Hospital Dr\, Barbourville\, KY 40906\, United States)
URL:https://horizonhealthky.org/event/knox-county-syringe-exchange/2026-09-15/
LOCATION:Knox County Health Department\, 261 Hospital Dr\, Barbourville\, KY\, 40906\, United States
END:VEVENT
BEGIN:VEVENT
DTSTART;TZID=America/Kentucky/Louisville:20260917T100000
DTEND;TZID=America/Kentucky/Louisville:20260917T140000
DTSTAMP:20260422T173539
CREATED:20250513T204828Z
LAST-MODIFIED:20250514T173142Z
UID:10001235-1789639200-1789653600@horizonhealthky.org
SUMMARY:Knox County Syringe Exchange
DESCRIPTION:Knox County Health Department (261 Hospital Dr\, Barbourville\, KY 40906\, United States)
URL:https://horizonhealthky.org/event/knox-county-syringe-exchange/2026-09-17/
LOCATION:Knox County Health Department\, 261 Hospital Dr\, Barbourville\, KY\, 40906\, United States
END:VEVENT
BEGIN:VEVENT
DTSTART;TZID=America/Kentucky/Louisville:20260922T100000
DTEND;TZID=America/Kentucky/Louisville:20260922T140000
DTSTAMP:20260422T173539
CREATED:20250513T204828Z
LAST-MODIFIED:20250514T173142Z
UID:10001236-1790071200-1790085600@horizonhealthky.org
SUMMARY:Knox County Syringe Exchange
DESCRIPTION:Knox County Health Department (261 Hospital Dr\, Barbourville\, KY 40906\, United States)
URL:https://horizonhealthky.org/event/knox-county-syringe-exchange/2026-09-22/
LOCATION:Knox County Health Department\, 261 Hospital Dr\, Barbourville\, KY\, 40906\, United States
END:VEVENT
BEGIN:VEVENT
DTSTART;TZID=America/Kentucky/Louisville:20260924T100000
DTEND;TZID=America/Kentucky/Louisville:20260924T140000
DTSTAMP:20260422T173539
CREATED:20250513T204828Z
LAST-MODIFIED:20250514T173142Z
UID:10001237-1790244000-1790258400@horizonhealthky.org
SUMMARY:Knox County Syringe Exchange
DESCRIPTION:Knox County Health Department (261 Hospital Dr\, Barbourville\, KY 40906\, United States)
URL:https://horizonhealthky.org/event/knox-county-syringe-exchange/2026-09-24/
LOCATION:Knox County Health Department\, 261 Hospital Dr\, Barbourville\, KY\, 40906\, United States
END:VEVENT
BEGIN:VEVENT
DTSTART;TZID=America/Kentucky/Louisville:20260929T100000
DTEND;TZID=America/Kentucky/Louisville:20260929T140000
DTSTAMP:20260422T173539
CREATED:20250513T204828Z
LAST-MODIFIED:20250514T173142Z
UID:10001238-1790676000-1790690400@horizonhealthky.org
SUMMARY:Knox County Syringe Exchange
DESCRIPTION:Knox County Health Department (261 Hospital Dr\, Barbourville\, KY 40906\, United States)
URL:https://horizonhealthky.org/event/knox-county-syringe-exchange/2026-09-29/
LOCATION:Knox County Health Department\, 261 Hospital Dr\, Barbourville\, KY\, 40906\, United States
END:VEVENT
BEGIN:VEVENT
DTSTART;TZID=America/Kentucky/Louisville:20261001T100000
DTEND;TZID=America/Kentucky/Louisville:20261001T140000
DTSTAMP:20260422T173539
CREATED:20250513T204828Z
LAST-MODIFIED:20250514T173142Z
UID:10001239-1790848800-1790863200@horizonhealthky.org
SUMMARY:Knox County Syringe Exchange
DESCRIPTION:Knox County Health Department (261 Hospital Dr\, Barbourville\, KY 40906\, United States)
URL:https://horizonhealthky.org/event/knox-county-syringe-exchange/2026-10-01/
LOCATION:Knox County Health Department\, 261 Hospital Dr\, Barbourville\, KY\, 40906\, United States
END:VEVENT
BEGIN:VEVENT
DTSTART;TZID=America/Kentucky/Louisville:20261006T100000
DTEND;TZID=America/Kentucky/Louisville:20261006T140000
DTSTAMP:20260422T173539
CREATED:20250513T204828Z
LAST-MODIFIED:20250514T173142Z
UID:10001240-1791280800-1791295200@horizonhealthky.org
SUMMARY:Knox County Syringe Exchange
DESCRIPTION:Knox County Health Department (261 Hospital Dr\, Barbourville\, KY 40906\, United States)
URL:https://horizonhealthky.org/event/knox-county-syringe-exchange/2026-10-06/
LOCATION:Knox County Health Department\, 261 Hospital Dr\, Barbourville\, KY\, 40906\, United States
END:VEVENT
BEGIN:VEVENT
DTSTART;TZID=America/Kentucky/Louisville:20261008T100000
DTEND;TZID=America/Kentucky/Louisville:20261008T140000
DTSTAMP:20260422T173539
CREATED:20250513T204828Z
LAST-MODIFIED:20250514T173142Z
UID:10001241-1791453600-1791468000@horizonhealthky.org
SUMMARY:Knox County Syringe Exchange
DESCRIPTION:Knox County Health Department (261 Hospital Dr\, Barbourville\, KY 40906\, United States)
URL:https://horizonhealthky.org/event/knox-county-syringe-exchange/2026-10-08/
LOCATION:Knox County Health Department\, 261 Hospital Dr\, Barbourville\, KY\, 40906\, United States
END:VEVENT
BEGIN:VEVENT
DTSTART;TZID=America/Kentucky/Louisville:20261013T100000
DTEND;TZID=America/Kentucky/Louisville:20261013T140000
DTSTAMP:20260422T173539
CREATED:20250513T204828Z
LAST-MODIFIED:20250514T173142Z
UID:10001242-1791885600-1791900000@horizonhealthky.org
SUMMARY:Knox County Syringe Exchange
DESCRIPTION:Knox County Health Department (261 Hospital Dr\, Barbourville\, KY 40906\, United States)
URL:https://horizonhealthky.org/event/knox-county-syringe-exchange/2026-10-13/
LOCATION:Knox County Health Department\, 261 Hospital Dr\, Barbourville\, KY\, 40906\, United States
END:VEVENT
END:VCALENDAR