BEGIN:VCALENDAR
VERSION:2.0
PRODID:-//Horizon Health - ECPv6.15.20//NONSGML v1.0//EN
CALSCALE:GREGORIAN
METHOD:PUBLISH
X-WR-CALNAME:Horizon Health
X-ORIGINAL-URL:https://horizonhealthky.org
X-WR-CALDESC:Events for Horizon Health
REFRESH-INTERVAL;VALUE=DURATION:PT1H
X-Robots-Tag:noindex
X-PUBLISHED-TTL:PT1H
BEGIN:VTIMEZONE
TZID:America/Kentucky/Louisville
BEGIN:DAYLIGHT
TZOFFSETFROM:-0500
TZOFFSETTO:-0400
TZNAME:EDT
DTSTART:20240310T070000
END:DAYLIGHT
BEGIN:STANDARD
TZOFFSETFROM:-0400
TZOFFSETTO:-0500
TZNAME:EST
DTSTART:20241103T060000
END:STANDARD
BEGIN:DAYLIGHT
TZOFFSETFROM:-0500
TZOFFSETTO:-0400
TZNAME:EDT
DTSTART:20250309T070000
END:DAYLIGHT
BEGIN:STANDARD
TZOFFSETFROM:-0400
TZOFFSETTO:-0500
TZNAME:EST
DTSTART:20251102T060000
END:STANDARD
BEGIN:DAYLIGHT
TZOFFSETFROM:-0500
TZOFFSETTO:-0400
TZNAME:EDT
DTSTART:20260308T070000
END:DAYLIGHT
BEGIN:STANDARD
TZOFFSETFROM:-0400
TZOFFSETTO:-0500
TZNAME:EST
DTSTART:20261101T060000
END:STANDARD
END:VTIMEZONE
BEGIN:VEVENT
DTSTART;TZID=America/Kentucky/Louisville:20250926T130000
DTEND;TZID=America/Kentucky/Louisville:20250926T170000
DTSTAMP:20260423T084443
CREATED:20250811T162438Z
LAST-MODIFIED:20250811T162438Z
UID:10001282-1758891600-1758906000@horizonhealthky.org
SUMMARY:CPR & First Aid Training
DESCRIPTION:Join us on September 26th for a CPR & First Aid Training from 1 PM – 5 PM. This event is open to the community and is taught by veteran\, Jason W. It will be held at our Gray\, KY location. \nThe cost for this event is $30. To register\, please contact Rebecca Cope at (606) 657-2030 (ext. 5) or email rmullins@horizonhealthky.org. \n 
URL:https://horizonhealthky.org/event/cpr-first-aid-training/
LOCATION:Horizon Health (Gray Training Center)\, 9555 N Hwy 25E\, Gray\, KY\, 40734\, United States
ATTACH;FMTTYPE=image/jpeg:https://horizonhealthky.org/wp-content/uploads/2025/08/CPR-Training-Flyer-Sept-26th-Training.jpg
ORGANIZER;CN="Rebecca Cope%2C Training Coordinator":MAILTO:rmullins@horizonhealthky.org
END:VEVENT
BEGIN:VEVENT
DTSTART;TZID=America/Kentucky/Louisville:20250829T100000
DTEND;TZID=America/Kentucky/Louisville:20250829T160000
DTSTAMP:20260423T084443
CREATED:20250811T162132Z
LAST-MODIFIED:20250811T162132Z
UID:10001281-1756461600-1756483200@horizonhealthky.org
SUMMARY:Following All Future Opportunities Community Event
DESCRIPTION:Join us for a Community Event on August 29\, 2025 from 10 AM – 4 PM at our Gray\, KY clinic location. Lunch will be provided. \nWhat To Expect? \n\nResume Building\nProfessional Headshots\nCommunity Resources\nVR Job Training\n\nCareer Advancement Resources: \n\nCHW\nAPSS\nCSA\nCPR/First Aid\n\nOn-Site Overdose Response Training (2 PM – 3 PM)
URL:https://horizonhealthky.org/event/following-all-future-opportunities-community-event/
LOCATION:Horizon Health (Gray Training Center)\, 9555 N Hwy 25E\, Gray\, KY\, 40734\, United States
ATTACH;FMTTYPE=image/jpeg:https://horizonhealthky.org/wp-content/uploads/2025/08/FAFO-Flyer-final-revised.jpg
ORGANIZER;CN="Rebecca Cope%2C Training Coordinator":MAILTO:rmullins@horizonhealthky.org
END:VEVENT
BEGIN:VEVENT
DTSTART;TZID=America/Kentucky/Louisville:20250627T113000
DTEND;TZID=America/Kentucky/Louisville:20250627T133000
DTSTAMP:20260423T084443
CREATED:20250610T142821Z
LAST-MODIFIED:20250610T142821Z
UID:10001279-1751023800-1751031000@horizonhealthky.org
SUMMARY:Ribbon Cutting - Horizon Health's New Gray Location
DESCRIPTION:Join us for a ribbon cutting at Horizon Health\, celebrating the opening of our new location in Gray\, Kentucky\, on Friday\, June 27\, 2025. \nThe Open House will be from 11:30 AM – 1:00 PM\, with the ribbon cutting taking place at 12:00 PM. This event is located at 9555 N US HWY 25E\, Gray\, KY 40734. \nWe look forward to seeing you there!
URL:https://horizonhealthky.org/event/ribbon-cutting-horizon-healths-new-gray-location/
LOCATION:Horizon Health (Gray Training Center)\, 9555 N Hwy 25E\, Gray\, KY\, 40734\, United States
ATTACH;FMTTYPE=image/png:https://horizonhealthky.org/wp-content/uploads/2025/06/HH-Gray-Ribbon-Cutting-Gray-Location-06-10-25.png
END:VEVENT
BEGIN:VEVENT
DTSTART;TZID=America/Kentucky/Louisville:20250516T150000
DTEND;TZID=America/Kentucky/Louisville:20250516T160000
DTSTAMP:20260423T084443
CREATED:20250513T152859Z
LAST-MODIFIED:20250513T152859Z
UID:10000004-1747407600-1747411200@horizonhealthky.org
SUMMARY:Overdose Response Training
DESCRIPTION:Overdose Response Training will be held at our Gray Training Center on May 16th\, 2025 from 3 PM – 4 PM.
URL:https://horizonhealthky.org/event/overdose-response-training/
LOCATION:Horizon Health (Gray Training Center)\, 9555 N Hwy 25E\, Gray\, KY\, 40734\, United States
END:VEVENT
END:VCALENDAR