BEGIN:VCALENDAR
VERSION:2.0
PRODID:-//Horizon Health - ECPv6.15.20//NONSGML v1.0//EN
CALSCALE:GREGORIAN
METHOD:PUBLISH
X-WR-CALNAME:Horizon Health
X-ORIGINAL-URL:https://horizonhealthky.org
X-WR-CALDESC:Events for Horizon Health
REFRESH-INTERVAL;VALUE=DURATION:PT1H
X-Robots-Tag:noindex
X-PUBLISHED-TTL:PT1H
BEGIN:VTIMEZONE
TZID:America/Kentucky/Louisville
BEGIN:DAYLIGHT
TZOFFSETFROM:-0500
TZOFFSETTO:-0400
TZNAME:EDT
DTSTART:20240310T070000
END:DAYLIGHT
BEGIN:STANDARD
TZOFFSETFROM:-0400
TZOFFSETTO:-0500
TZNAME:EST
DTSTART:20241103T060000
END:STANDARD
BEGIN:DAYLIGHT
TZOFFSETFROM:-0500
TZOFFSETTO:-0400
TZNAME:EDT
DTSTART:20250309T070000
END:DAYLIGHT
BEGIN:STANDARD
TZOFFSETFROM:-0400
TZOFFSETTO:-0500
TZNAME:EST
DTSTART:20251102T060000
END:STANDARD
BEGIN:DAYLIGHT
TZOFFSETFROM:-0500
TZOFFSETTO:-0400
TZNAME:EDT
DTSTART:20260308T070000
END:DAYLIGHT
BEGIN:STANDARD
TZOFFSETFROM:-0400
TZOFFSETTO:-0500
TZNAME:EST
DTSTART:20261101T060000
END:STANDARD
END:VTIMEZONE
BEGIN:VEVENT
DTSTART;TZID=America/Kentucky/Louisville:20250521T100000
DTEND;TZID=America/Kentucky/Louisville:20250521T120000
DTSTAMP:20260423T154102
CREATED:20250513T153051Z
LAST-MODIFIED:20250513T153051Z
UID:10000005-1747821600-1747828800@horizonhealthky.org
SUMMARY:Goodwill Partner Day
DESCRIPTION:Join us for Goodwill Partner Day at the Goodwill Opportunity Center\, Corbin KY on May 21\, 2025 from 10:00 AM – 12:00 PM.
URL:https://horizonhealthky.org/event/goodwill-partner-day/
LOCATION:Goodwill Opportunity Center (Corbin\, KY)\, 37 South Park Center Dr.\, Suites 11 & 12\, Corbin\, KY\, KY\, 40701\, United States
END:VEVENT
END:VCALENDAR