BEGIN:VCALENDAR
VERSION:2.0
PRODID:-//Horizon Health - ECPv6.15.20//NONSGML v1.0//EN
CALSCALE:GREGORIAN
METHOD:PUBLISH
X-WR-CALNAME:Horizon Health
X-ORIGINAL-URL:https://horizonhealthky.org
X-WR-CALDESC:Events for Horizon Health
REFRESH-INTERVAL;VALUE=DURATION:PT1H
X-Robots-Tag:noindex
X-PUBLISHED-TTL:PT1H
BEGIN:VTIMEZONE
TZID:America/Kentucky/Louisville
BEGIN:DAYLIGHT
TZOFFSETFROM:-0500
TZOFFSETTO:-0400
TZNAME:EDT
DTSTART:20250309T070000
END:DAYLIGHT
BEGIN:STANDARD
TZOFFSETFROM:-0400
TZOFFSETTO:-0500
TZNAME:EST
DTSTART:20251102T060000
END:STANDARD
BEGIN:DAYLIGHT
TZOFFSETFROM:-0500
TZOFFSETTO:-0400
TZNAME:EDT
DTSTART:20260308T070000
END:DAYLIGHT
BEGIN:STANDARD
TZOFFSETFROM:-0400
TZOFFSETTO:-0500
TZNAME:EST
DTSTART:20261101T060000
END:STANDARD
BEGIN:DAYLIGHT
TZOFFSETFROM:-0500
TZOFFSETTO:-0400
TZNAME:EDT
DTSTART:20270314T070000
END:DAYLIGHT
BEGIN:STANDARD
TZOFFSETFROM:-0400
TZOFFSETTO:-0500
TZNAME:EST
DTSTART:20271107T060000
END:STANDARD
END:VTIMEZONE
BEGIN:VEVENT
DTSTART;TZID=America/Kentucky/Louisville:20260803T080000
DTEND;TZID=America/Kentucky/Louisville:20260803T150000
DTSTAMP:20260422T184004
CREATED:20250513T204428Z
LAST-MODIFIED:20250514T173049Z
UID:10000900-1785744000-1785769200@horizonhealthky.org
SUMMARY:Whitley Syringe Exchange
DESCRIPTION:Whitley County Health Department (368 Penny Ln\, Williamsburg\, KY 40769\, United States)
URL:https://horizonhealthky.org/event/whitley-syringe-exchange/2026-08-03/
LOCATION:Whitley County Health Department\, 368 Penny Ln\, Williamsburg\, KY\, 40769\, United States
END:VEVENT
BEGIN:VEVENT
DTSTART;TZID=America/Kentucky/Louisville:20260804T080000
DTEND;TZID=America/Kentucky/Louisville:20260804T150000
DTSTAMP:20260422T184004
CREATED:20250513T204428Z
LAST-MODIFIED:20250514T173049Z
UID:10000901-1785830400-1785855600@horizonhealthky.org
SUMMARY:Whitley Syringe Exchange
DESCRIPTION:Whitley County Health Department (368 Penny Ln\, Williamsburg\, KY 40769\, United States)
URL:https://horizonhealthky.org/event/whitley-syringe-exchange/2026-08-04/
LOCATION:Whitley County Health Department\, 368 Penny Ln\, Williamsburg\, KY\, 40769\, United States
END:VEVENT
BEGIN:VEVENT
DTSTART;TZID=America/Kentucky/Louisville:20260804T100000
DTEND;TZID=America/Kentucky/Louisville:20260804T140000
DTSTAMP:20260422T184004
CREATED:20250513T204617Z
LAST-MODIFIED:20250514T173119Z
UID:10001064-1785837600-1785852000@horizonhealthky.org
SUMMARY:Laurel County Syringe Exchange
DESCRIPTION:Laurel County Health Department (525 Whitley St\, London\, KY 40741\, United States)
URL:https://horizonhealthky.org/event/laurel-county-syringe-exchange/2026-08-04/
LOCATION:Laurel County Health Department\, 525 Whitley St\, London\, KY\, 40741\, United States
END:VEVENT
BEGIN:VEVENT
DTSTART;TZID=America/Kentucky/Louisville:20260804T100000
DTEND;TZID=America/Kentucky/Louisville:20260804T140000
DTSTAMP:20260422T184004
CREATED:20250513T204828Z
LAST-MODIFIED:20250514T173142Z
UID:10001222-1785837600-1785852000@horizonhealthky.org
SUMMARY:Knox County Syringe Exchange
DESCRIPTION:Knox County Health Department (261 Hospital Dr\, Barbourville\, KY 40906\, United States)
URL:https://horizonhealthky.org/event/knox-county-syringe-exchange/2026-08-04/
LOCATION:Knox County Health Department\, 261 Hospital Dr\, Barbourville\, KY\, 40906\, United States
END:VEVENT
BEGIN:VEVENT
DTSTART;TZID=America/Kentucky/Louisville:20260805T080000
DTEND;TZID=America/Kentucky/Louisville:20260805T150000
DTSTAMP:20260422T184004
CREATED:20250513T204428Z
LAST-MODIFIED:20250514T173049Z
UID:10000902-1785916800-1785942000@horizonhealthky.org
SUMMARY:Whitley Syringe Exchange
DESCRIPTION:Whitley County Health Department (368 Penny Ln\, Williamsburg\, KY 40769\, United States)
URL:https://horizonhealthky.org/event/whitley-syringe-exchange/2026-08-05/
LOCATION:Whitley County Health Department\, 368 Penny Ln\, Williamsburg\, KY\, 40769\, United States
END:VEVENT
BEGIN:VEVENT
DTSTART;TZID=America/Kentucky/Louisville:20260806T080000
DTEND;TZID=America/Kentucky/Louisville:20260806T150000
DTSTAMP:20260422T184004
CREATED:20250513T204428Z
LAST-MODIFIED:20250514T173049Z
UID:10000903-1786003200-1786028400@horizonhealthky.org
SUMMARY:Whitley Syringe Exchange
DESCRIPTION:Whitley County Health Department (368 Penny Ln\, Williamsburg\, KY 40769\, United States)
URL:https://horizonhealthky.org/event/whitley-syringe-exchange/2026-08-06/
LOCATION:Whitley County Health Department\, 368 Penny Ln\, Williamsburg\, KY\, 40769\, United States
END:VEVENT
BEGIN:VEVENT
DTSTART;TZID=America/Kentucky/Louisville:20260806T100000
DTEND;TZID=America/Kentucky/Louisville:20260806T140000
DTSTAMP:20260422T184004
CREATED:20250513T204617Z
LAST-MODIFIED:20250514T173119Z
UID:10001065-1786010400-1786024800@horizonhealthky.org
SUMMARY:Laurel County Syringe Exchange
DESCRIPTION:Laurel County Health Department (525 Whitley St\, London\, KY 40741\, United States)
URL:https://horizonhealthky.org/event/laurel-county-syringe-exchange/2026-08-06/
LOCATION:Laurel County Health Department\, 525 Whitley St\, London\, KY\, 40741\, United States
END:VEVENT
BEGIN:VEVENT
DTSTART;TZID=America/Kentucky/Louisville:20260806T100000
DTEND;TZID=America/Kentucky/Louisville:20260806T140000
DTSTAMP:20260422T184004
CREATED:20250513T204828Z
LAST-MODIFIED:20250514T173142Z
UID:10001223-1786010400-1786024800@horizonhealthky.org
SUMMARY:Knox County Syringe Exchange
DESCRIPTION:Knox County Health Department (261 Hospital Dr\, Barbourville\, KY 40906\, United States)
URL:https://horizonhealthky.org/event/knox-county-syringe-exchange/2026-08-06/
LOCATION:Knox County Health Department\, 261 Hospital Dr\, Barbourville\, KY\, 40906\, United States
END:VEVENT
BEGIN:VEVENT
DTSTART;TZID=America/Kentucky/Louisville:20260810T080000
DTEND;TZID=America/Kentucky/Louisville:20260810T150000
DTSTAMP:20260422T184004
CREATED:20250513T204428Z
LAST-MODIFIED:20250514T173049Z
UID:10000904-1786348800-1786374000@horizonhealthky.org
SUMMARY:Whitley Syringe Exchange
DESCRIPTION:Whitley County Health Department (368 Penny Ln\, Williamsburg\, KY 40769\, United States)
URL:https://horizonhealthky.org/event/whitley-syringe-exchange/2026-08-10/
LOCATION:Whitley County Health Department\, 368 Penny Ln\, Williamsburg\, KY\, 40769\, United States
END:VEVENT
BEGIN:VEVENT
DTSTART;TZID=America/Kentucky/Louisville:20260811T080000
DTEND;TZID=America/Kentucky/Louisville:20260811T150000
DTSTAMP:20260422T184004
CREATED:20250513T204428Z
LAST-MODIFIED:20250514T173049Z
UID:10000905-1786435200-1786460400@horizonhealthky.org
SUMMARY:Whitley Syringe Exchange
DESCRIPTION:Whitley County Health Department (368 Penny Ln\, Williamsburg\, KY 40769\, United States)
URL:https://horizonhealthky.org/event/whitley-syringe-exchange/2026-08-11/
LOCATION:Whitley County Health Department\, 368 Penny Ln\, Williamsburg\, KY\, 40769\, United States
END:VEVENT
BEGIN:VEVENT
DTSTART;TZID=America/Kentucky/Louisville:20260811T100000
DTEND;TZID=America/Kentucky/Louisville:20260811T140000
DTSTAMP:20260422T184004
CREATED:20250513T204617Z
LAST-MODIFIED:20250514T173119Z
UID:10001066-1786442400-1786456800@horizonhealthky.org
SUMMARY:Laurel County Syringe Exchange
DESCRIPTION:Laurel County Health Department (525 Whitley St\, London\, KY 40741\, United States)
URL:https://horizonhealthky.org/event/laurel-county-syringe-exchange/2026-08-11/
LOCATION:Laurel County Health Department\, 525 Whitley St\, London\, KY\, 40741\, United States
END:VEVENT
BEGIN:VEVENT
DTSTART;TZID=America/Kentucky/Louisville:20260811T100000
DTEND;TZID=America/Kentucky/Louisville:20260811T140000
DTSTAMP:20260422T184004
CREATED:20250513T204828Z
LAST-MODIFIED:20250514T173142Z
UID:10001224-1786442400-1786456800@horizonhealthky.org
SUMMARY:Knox County Syringe Exchange
DESCRIPTION:Knox County Health Department (261 Hospital Dr\, Barbourville\, KY 40906\, United States)
URL:https://horizonhealthky.org/event/knox-county-syringe-exchange/2026-08-11/
LOCATION:Knox County Health Department\, 261 Hospital Dr\, Barbourville\, KY\, 40906\, United States
END:VEVENT
BEGIN:VEVENT
DTSTART;TZID=America/Kentucky/Louisville:20260812T080000
DTEND;TZID=America/Kentucky/Louisville:20260812T150000
DTSTAMP:20260422T184004
CREATED:20250513T204428Z
LAST-MODIFIED:20250514T173049Z
UID:10000906-1786521600-1786546800@horizonhealthky.org
SUMMARY:Whitley Syringe Exchange
DESCRIPTION:Whitley County Health Department (368 Penny Ln\, Williamsburg\, KY 40769\, United States)
URL:https://horizonhealthky.org/event/whitley-syringe-exchange/2026-08-12/
LOCATION:Whitley County Health Department\, 368 Penny Ln\, Williamsburg\, KY\, 40769\, United States
END:VEVENT
BEGIN:VEVENT
DTSTART;TZID=America/Kentucky/Louisville:20260813T080000
DTEND;TZID=America/Kentucky/Louisville:20260813T150000
DTSTAMP:20260422T184004
CREATED:20250513T204428Z
LAST-MODIFIED:20250514T173049Z
UID:10000907-1786608000-1786633200@horizonhealthky.org
SUMMARY:Whitley Syringe Exchange
DESCRIPTION:Whitley County Health Department (368 Penny Ln\, Williamsburg\, KY 40769\, United States)
URL:https://horizonhealthky.org/event/whitley-syringe-exchange/2026-08-13/
LOCATION:Whitley County Health Department\, 368 Penny Ln\, Williamsburg\, KY\, 40769\, United States
END:VEVENT
BEGIN:VEVENT
DTSTART;TZID=America/Kentucky/Louisville:20260813T100000
DTEND;TZID=America/Kentucky/Louisville:20260813T140000
DTSTAMP:20260422T184004
CREATED:20250513T204617Z
LAST-MODIFIED:20250514T173119Z
UID:10001067-1786615200-1786629600@horizonhealthky.org
SUMMARY:Laurel County Syringe Exchange
DESCRIPTION:Laurel County Health Department (525 Whitley St\, London\, KY 40741\, United States)
URL:https://horizonhealthky.org/event/laurel-county-syringe-exchange/2026-08-13/
LOCATION:Laurel County Health Department\, 525 Whitley St\, London\, KY\, 40741\, United States
END:VEVENT
BEGIN:VEVENT
DTSTART;TZID=America/Kentucky/Louisville:20260813T100000
DTEND;TZID=America/Kentucky/Louisville:20260813T140000
DTSTAMP:20260422T184004
CREATED:20250513T204828Z
LAST-MODIFIED:20250514T173142Z
UID:10001225-1786615200-1786629600@horizonhealthky.org
SUMMARY:Knox County Syringe Exchange
DESCRIPTION:Knox County Health Department (261 Hospital Dr\, Barbourville\, KY 40906\, United States)
URL:https://horizonhealthky.org/event/knox-county-syringe-exchange/2026-08-13/
LOCATION:Knox County Health Department\, 261 Hospital Dr\, Barbourville\, KY\, 40906\, United States
END:VEVENT
BEGIN:VEVENT
DTSTART;TZID=America/Kentucky/Louisville:20260817T080000
DTEND;TZID=America/Kentucky/Louisville:20260817T150000
DTSTAMP:20260422T184004
CREATED:20250513T204428Z
LAST-MODIFIED:20250514T173049Z
UID:10000908-1786953600-1786978800@horizonhealthky.org
SUMMARY:Whitley Syringe Exchange
DESCRIPTION:Whitley County Health Department (368 Penny Ln\, Williamsburg\, KY 40769\, United States)
URL:https://horizonhealthky.org/event/whitley-syringe-exchange/2026-08-17/
LOCATION:Whitley County Health Department\, 368 Penny Ln\, Williamsburg\, KY\, 40769\, United States
END:VEVENT
BEGIN:VEVENT
DTSTART;TZID=America/Kentucky/Louisville:20260818T080000
DTEND;TZID=America/Kentucky/Louisville:20260818T150000
DTSTAMP:20260422T184004
CREATED:20250513T204428Z
LAST-MODIFIED:20250514T173049Z
UID:10000909-1787040000-1787065200@horizonhealthky.org
SUMMARY:Whitley Syringe Exchange
DESCRIPTION:Whitley County Health Department (368 Penny Ln\, Williamsburg\, KY 40769\, United States)
URL:https://horizonhealthky.org/event/whitley-syringe-exchange/2026-08-18/
LOCATION:Whitley County Health Department\, 368 Penny Ln\, Williamsburg\, KY\, 40769\, United States
END:VEVENT
BEGIN:VEVENT
DTSTART;TZID=America/Kentucky/Louisville:20260818T100000
DTEND;TZID=America/Kentucky/Louisville:20260818T140000
DTSTAMP:20260422T184004
CREATED:20250513T204617Z
LAST-MODIFIED:20250514T173119Z
UID:10001068-1787047200-1787061600@horizonhealthky.org
SUMMARY:Laurel County Syringe Exchange
DESCRIPTION:Laurel County Health Department (525 Whitley St\, London\, KY 40741\, United States)
URL:https://horizonhealthky.org/event/laurel-county-syringe-exchange/2026-08-18/
LOCATION:Laurel County Health Department\, 525 Whitley St\, London\, KY\, 40741\, United States
END:VEVENT
BEGIN:VEVENT
DTSTART;TZID=America/Kentucky/Louisville:20260818T100000
DTEND;TZID=America/Kentucky/Louisville:20260818T140000
DTSTAMP:20260422T184004
CREATED:20250513T204828Z
LAST-MODIFIED:20250514T173142Z
UID:10001226-1787047200-1787061600@horizonhealthky.org
SUMMARY:Knox County Syringe Exchange
DESCRIPTION:Knox County Health Department (261 Hospital Dr\, Barbourville\, KY 40906\, United States)
URL:https://horizonhealthky.org/event/knox-county-syringe-exchange/2026-08-18/
LOCATION:Knox County Health Department\, 261 Hospital Dr\, Barbourville\, KY\, 40906\, United States
END:VEVENT
BEGIN:VEVENT
DTSTART;TZID=America/Kentucky/Louisville:20260819T080000
DTEND;TZID=America/Kentucky/Louisville:20260819T150000
DTSTAMP:20260422T184004
CREATED:20250513T204428Z
LAST-MODIFIED:20250514T173049Z
UID:10000910-1787126400-1787151600@horizonhealthky.org
SUMMARY:Whitley Syringe Exchange
DESCRIPTION:Whitley County Health Department (368 Penny Ln\, Williamsburg\, KY 40769\, United States)
URL:https://horizonhealthky.org/event/whitley-syringe-exchange/2026-08-19/
LOCATION:Whitley County Health Department\, 368 Penny Ln\, Williamsburg\, KY\, 40769\, United States
END:VEVENT
BEGIN:VEVENT
DTSTART;TZID=America/Kentucky/Louisville:20260820T080000
DTEND;TZID=America/Kentucky/Louisville:20260820T150000
DTSTAMP:20260422T184004
CREATED:20250513T204428Z
LAST-MODIFIED:20250514T173049Z
UID:10000911-1787212800-1787238000@horizonhealthky.org
SUMMARY:Whitley Syringe Exchange
DESCRIPTION:Whitley County Health Department (368 Penny Ln\, Williamsburg\, KY 40769\, United States)
URL:https://horizonhealthky.org/event/whitley-syringe-exchange/2026-08-20/
LOCATION:Whitley County Health Department\, 368 Penny Ln\, Williamsburg\, KY\, 40769\, United States
END:VEVENT
BEGIN:VEVENT
DTSTART;TZID=America/Kentucky/Louisville:20260820T100000
DTEND;TZID=America/Kentucky/Louisville:20260820T140000
DTSTAMP:20260422T184004
CREATED:20250513T204617Z
LAST-MODIFIED:20250514T173119Z
UID:10001069-1787220000-1787234400@horizonhealthky.org
SUMMARY:Laurel County Syringe Exchange
DESCRIPTION:Laurel County Health Department (525 Whitley St\, London\, KY 40741\, United States)
URL:https://horizonhealthky.org/event/laurel-county-syringe-exchange/2026-08-20/
LOCATION:Laurel County Health Department\, 525 Whitley St\, London\, KY\, 40741\, United States
END:VEVENT
BEGIN:VEVENT
DTSTART;TZID=America/Kentucky/Louisville:20260820T100000
DTEND;TZID=America/Kentucky/Louisville:20260820T140000
DTSTAMP:20260422T184004
CREATED:20250513T204828Z
LAST-MODIFIED:20250514T173142Z
UID:10001227-1787220000-1787234400@horizonhealthky.org
SUMMARY:Knox County Syringe Exchange
DESCRIPTION:Knox County Health Department (261 Hospital Dr\, Barbourville\, KY 40906\, United States)
URL:https://horizonhealthky.org/event/knox-county-syringe-exchange/2026-08-20/
LOCATION:Knox County Health Department\, 261 Hospital Dr\, Barbourville\, KY\, 40906\, United States
END:VEVENT
BEGIN:VEVENT
DTSTART;TZID=America/Kentucky/Louisville:20260824T080000
DTEND;TZID=America/Kentucky/Louisville:20260824T150000
DTSTAMP:20260422T184004
CREATED:20250513T204428Z
LAST-MODIFIED:20250514T173049Z
UID:10000912-1787558400-1787583600@horizonhealthky.org
SUMMARY:Whitley Syringe Exchange
DESCRIPTION:Whitley County Health Department (368 Penny Ln\, Williamsburg\, KY 40769\, United States)
URL:https://horizonhealthky.org/event/whitley-syringe-exchange/2026-08-24/
LOCATION:Whitley County Health Department\, 368 Penny Ln\, Williamsburg\, KY\, 40769\, United States
END:VEVENT
BEGIN:VEVENT
DTSTART;TZID=America/Kentucky/Louisville:20260825T080000
DTEND;TZID=America/Kentucky/Louisville:20260825T150000
DTSTAMP:20260422T184004
CREATED:20250513T204428Z
LAST-MODIFIED:20250514T173049Z
UID:10000913-1787644800-1787670000@horizonhealthky.org
SUMMARY:Whitley Syringe Exchange
DESCRIPTION:Whitley County Health Department (368 Penny Ln\, Williamsburg\, KY 40769\, United States)
URL:https://horizonhealthky.org/event/whitley-syringe-exchange/2026-08-25/
LOCATION:Whitley County Health Department\, 368 Penny Ln\, Williamsburg\, KY\, 40769\, United States
END:VEVENT
BEGIN:VEVENT
DTSTART;TZID=America/Kentucky/Louisville:20260825T100000
DTEND;TZID=America/Kentucky/Louisville:20260825T140000
DTSTAMP:20260422T184004
CREATED:20250513T204617Z
LAST-MODIFIED:20250514T173119Z
UID:10001070-1787652000-1787666400@horizonhealthky.org
SUMMARY:Laurel County Syringe Exchange
DESCRIPTION:Laurel County Health Department (525 Whitley St\, London\, KY 40741\, United States)
URL:https://horizonhealthky.org/event/laurel-county-syringe-exchange/2026-08-25/
LOCATION:Laurel County Health Department\, 525 Whitley St\, London\, KY\, 40741\, United States
END:VEVENT
BEGIN:VEVENT
DTSTART;TZID=America/Kentucky/Louisville:20260825T100000
DTEND;TZID=America/Kentucky/Louisville:20260825T140000
DTSTAMP:20260422T184004
CREATED:20250513T204828Z
LAST-MODIFIED:20250514T173142Z
UID:10001228-1787652000-1787666400@horizonhealthky.org
SUMMARY:Knox County Syringe Exchange
DESCRIPTION:Knox County Health Department (261 Hospital Dr\, Barbourville\, KY 40906\, United States)
URL:https://horizonhealthky.org/event/knox-county-syringe-exchange/2026-08-25/
LOCATION:Knox County Health Department\, 261 Hospital Dr\, Barbourville\, KY\, 40906\, United States
END:VEVENT
BEGIN:VEVENT
DTSTART;TZID=America/Kentucky/Louisville:20260826T080000
DTEND;TZID=America/Kentucky/Louisville:20260826T150000
DTSTAMP:20260422T184004
CREATED:20250513T204428Z
LAST-MODIFIED:20250514T173049Z
UID:10000914-1787731200-1787756400@horizonhealthky.org
SUMMARY:Whitley Syringe Exchange
DESCRIPTION:Whitley County Health Department (368 Penny Ln\, Williamsburg\, KY 40769\, United States)
URL:https://horizonhealthky.org/event/whitley-syringe-exchange/2026-08-26/
LOCATION:Whitley County Health Department\, 368 Penny Ln\, Williamsburg\, KY\, 40769\, United States
END:VEVENT
BEGIN:VEVENT
DTSTART;TZID=America/Kentucky/Louisville:20260827T080000
DTEND;TZID=America/Kentucky/Louisville:20260827T150000
DTSTAMP:20260422T184004
CREATED:20250513T204428Z
LAST-MODIFIED:20250514T173049Z
UID:10000915-1787817600-1787842800@horizonhealthky.org
SUMMARY:Whitley Syringe Exchange
DESCRIPTION:Whitley County Health Department (368 Penny Ln\, Williamsburg\, KY 40769\, United States)
URL:https://horizonhealthky.org/event/whitley-syringe-exchange/2026-08-27/
LOCATION:Whitley County Health Department\, 368 Penny Ln\, Williamsburg\, KY\, 40769\, United States
END:VEVENT
END:VCALENDAR