BEGIN:VCALENDAR
VERSION:2.0
PRODID:-//Horizon Health - ECPv6.15.20//NONSGML v1.0//EN
CALSCALE:GREGORIAN
METHOD:PUBLISH
X-WR-CALNAME:Horizon Health
X-ORIGINAL-URL:https://horizonhealthky.org
X-WR-CALDESC:Events for Horizon Health
REFRESH-INTERVAL;VALUE=DURATION:PT1H
X-Robots-Tag:noindex
X-PUBLISHED-TTL:PT1H
BEGIN:VTIMEZONE
TZID:America/Kentucky/Louisville
BEGIN:DAYLIGHT
TZOFFSETFROM:-0500
TZOFFSETTO:-0400
TZNAME:EDT
DTSTART:20240310T070000
END:DAYLIGHT
BEGIN:STANDARD
TZOFFSETFROM:-0400
TZOFFSETTO:-0500
TZNAME:EST
DTSTART:20241103T060000
END:STANDARD
BEGIN:DAYLIGHT
TZOFFSETFROM:-0500
TZOFFSETTO:-0400
TZNAME:EDT
DTSTART:20250309T070000
END:DAYLIGHT
BEGIN:STANDARD
TZOFFSETFROM:-0400
TZOFFSETTO:-0500
TZNAME:EST
DTSTART:20251102T060000
END:STANDARD
BEGIN:DAYLIGHT
TZOFFSETFROM:-0500
TZOFFSETTO:-0400
TZNAME:EDT
DTSTART:20260308T070000
END:DAYLIGHT
BEGIN:STANDARD
TZOFFSETFROM:-0400
TZOFFSETTO:-0500
TZNAME:EST
DTSTART:20261101T060000
END:STANDARD
END:VTIMEZONE
BEGIN:VEVENT
DTSTART;TZID=America/Kentucky/Louisville:20250528T080000
DTEND;TZID=America/Kentucky/Louisville:20250528T150000
DTSTAMP:20260423T141314
CREATED:20250513T204428Z
LAST-MODIFIED:20250514T173049Z
UID:10000654-1748419200-1748444400@horizonhealthky.org
SUMMARY:Whitley Syringe Exchange
DESCRIPTION:Whitley County Health Department (368 Penny Ln\, Williamsburg\, KY 40769\, United States)
URL:https://horizonhealthky.org/event/whitley-syringe-exchange/2025-05-28/
LOCATION:Whitley County Health Department\, 368 Penny Ln\, Williamsburg\, KY\, 40769\, United States
END:VEVENT
BEGIN:VEVENT
DTSTART;TZID=America/Kentucky/Louisville:20250529T080000
DTEND;TZID=America/Kentucky/Louisville:20250529T150000
DTSTAMP:20260423T141314
CREATED:20250513T204428Z
LAST-MODIFIED:20250514T173049Z
UID:10000655-1748505600-1748530800@horizonhealthky.org
SUMMARY:Whitley Syringe Exchange
DESCRIPTION:Whitley County Health Department (368 Penny Ln\, Williamsburg\, KY 40769\, United States)
URL:https://horizonhealthky.org/event/whitley-syringe-exchange/2025-05-29/
LOCATION:Whitley County Health Department\, 368 Penny Ln\, Williamsburg\, KY\, 40769\, United States
END:VEVENT
BEGIN:VEVENT
DTSTART;TZID=America/Kentucky/Louisville:20250529T100000
DTEND;TZID=America/Kentucky/Louisville:20250529T140000
DTSTAMP:20260423T141314
CREATED:20250513T204617Z
LAST-MODIFIED:20250514T173119Z
UID:10000941-1748512800-1748527200@horizonhealthky.org
SUMMARY:Laurel County Syringe Exchange
DESCRIPTION:Laurel County Health Department (525 Whitley St\, London\, KY 40741\, United States)
URL:https://horizonhealthky.org/event/laurel-county-syringe-exchange/2025-05-29/
LOCATION:Laurel County Health Department\, 525 Whitley St\, London\, KY\, 40741\, United States
END:VEVENT
BEGIN:VEVENT
DTSTART;TZID=America/Kentucky/Louisville:20250529T100000
DTEND;TZID=America/Kentucky/Louisville:20250529T140000
DTSTAMP:20260423T141314
CREATED:20250513T204828Z
LAST-MODIFIED:20250514T173142Z
UID:10001099-1748512800-1748527200@horizonhealthky.org
SUMMARY:Knox County Syringe Exchange
DESCRIPTION:Knox County Health Department (261 Hospital Dr\, Barbourville\, KY 40906\, United States)
URL:https://horizonhealthky.org/event/knox-county-syringe-exchange/2025-05-29/
LOCATION:Knox County Health Department\, 261 Hospital Dr\, Barbourville\, KY\, 40906\, United States
END:VEVENT
BEGIN:VEVENT
DTSTART;TZID=America/Kentucky/Louisville:20250530T100000
DTEND;TZID=America/Kentucky/Louisville:20250530T140000
DTSTAMP:20260423T141314
CREATED:20250513T205155Z
LAST-MODIFIED:20250514T173205Z
UID:10001254-1748599200-1748613600@horizonhealthky.org
SUMMARY:Redemption & Recovery
DESCRIPTION:Redemption & Recovery at East Barbourville Baptist Church
URL:https://horizonhealthky.org/event/knox-county-redemption-recovery/2025-05-30/
LOCATION:East Barbourville Baptist Church\, 279 Old 25 E\, Barbourville\, KY\, 40906\, United States
END:VEVENT
BEGIN:VEVENT
DTSTART;TZID=America/Kentucky/Louisville:20250602T080000
DTEND;TZID=America/Kentucky/Louisville:20250602T150000
DTSTAMP:20260423T141314
CREATED:20250513T204428Z
LAST-MODIFIED:20250514T173049Z
UID:10000656-1748851200-1748876400@horizonhealthky.org
SUMMARY:Whitley Syringe Exchange
DESCRIPTION:Whitley County Health Department (368 Penny Ln\, Williamsburg\, KY 40769\, United States)
URL:https://horizonhealthky.org/event/whitley-syringe-exchange/2025-06-02/
LOCATION:Whitley County Health Department\, 368 Penny Ln\, Williamsburg\, KY\, 40769\, United States
END:VEVENT
BEGIN:VEVENT
DTSTART;TZID=America/Kentucky/Louisville:20250603T080000
DTEND;TZID=America/Kentucky/Louisville:20250603T150000
DTSTAMP:20260423T141314
CREATED:20250513T204428Z
LAST-MODIFIED:20250514T173049Z
UID:10000657-1748937600-1748962800@horizonhealthky.org
SUMMARY:Whitley Syringe Exchange
DESCRIPTION:Whitley County Health Department (368 Penny Ln\, Williamsburg\, KY 40769\, United States)
URL:https://horizonhealthky.org/event/whitley-syringe-exchange/2025-06-03/
LOCATION:Whitley County Health Department\, 368 Penny Ln\, Williamsburg\, KY\, 40769\, United States
END:VEVENT
BEGIN:VEVENT
DTSTART;TZID=America/Kentucky/Louisville:20250603T100000
DTEND;TZID=America/Kentucky/Louisville:20250603T140000
DTSTAMP:20260423T141314
CREATED:20250513T204617Z
LAST-MODIFIED:20250514T173119Z
UID:10000942-1748944800-1748959200@horizonhealthky.org
SUMMARY:Laurel County Syringe Exchange
DESCRIPTION:Laurel County Health Department (525 Whitley St\, London\, KY 40741\, United States)
URL:https://horizonhealthky.org/event/laurel-county-syringe-exchange/2025-06-03/
LOCATION:Laurel County Health Department\, 525 Whitley St\, London\, KY\, 40741\, United States
END:VEVENT
BEGIN:VEVENT
DTSTART;TZID=America/Kentucky/Louisville:20250603T100000
DTEND;TZID=America/Kentucky/Louisville:20250603T140000
DTSTAMP:20260423T141314
CREATED:20250513T204828Z
LAST-MODIFIED:20250514T173142Z
UID:10001100-1748944800-1748959200@horizonhealthky.org
SUMMARY:Knox County Syringe Exchange
DESCRIPTION:Knox County Health Department (261 Hospital Dr\, Barbourville\, KY 40906\, United States)
URL:https://horizonhealthky.org/event/knox-county-syringe-exchange/2025-06-03/
LOCATION:Knox County Health Department\, 261 Hospital Dr\, Barbourville\, KY\, 40906\, United States
END:VEVENT
BEGIN:VEVENT
DTSTART;TZID=America/Kentucky/Louisville:20250604T080000
DTEND;TZID=America/Kentucky/Louisville:20250604T150000
DTSTAMP:20260423T141314
CREATED:20250513T204428Z
LAST-MODIFIED:20250514T173049Z
UID:10000658-1749024000-1749049200@horizonhealthky.org
SUMMARY:Whitley Syringe Exchange
DESCRIPTION:Whitley County Health Department (368 Penny Ln\, Williamsburg\, KY 40769\, United States)
URL:https://horizonhealthky.org/event/whitley-syringe-exchange/2025-06-04/
LOCATION:Whitley County Health Department\, 368 Penny Ln\, Williamsburg\, KY\, 40769\, United States
END:VEVENT
BEGIN:VEVENT
DTSTART;TZID=America/Kentucky/Louisville:20250605T080000
DTEND;TZID=America/Kentucky/Louisville:20250605T150000
DTSTAMP:20260423T141314
CREATED:20250513T204428Z
LAST-MODIFIED:20250514T173049Z
UID:10000659-1749110400-1749135600@horizonhealthky.org
SUMMARY:Whitley Syringe Exchange
DESCRIPTION:Whitley County Health Department (368 Penny Ln\, Williamsburg\, KY 40769\, United States)
URL:https://horizonhealthky.org/event/whitley-syringe-exchange/2025-06-05/
LOCATION:Whitley County Health Department\, 368 Penny Ln\, Williamsburg\, KY\, 40769\, United States
END:VEVENT
BEGIN:VEVENT
DTSTART;TZID=America/Kentucky/Louisville:20250605T100000
DTEND;TZID=America/Kentucky/Louisville:20250605T140000
DTSTAMP:20260423T141314
CREATED:20250513T204617Z
LAST-MODIFIED:20250514T173119Z
UID:10000943-1749117600-1749132000@horizonhealthky.org
SUMMARY:Laurel County Syringe Exchange
DESCRIPTION:Laurel County Health Department (525 Whitley St\, London\, KY 40741\, United States)
URL:https://horizonhealthky.org/event/laurel-county-syringe-exchange/2025-06-05/
LOCATION:Laurel County Health Department\, 525 Whitley St\, London\, KY\, 40741\, United States
END:VEVENT
BEGIN:VEVENT
DTSTART;TZID=America/Kentucky/Louisville:20250605T100000
DTEND;TZID=America/Kentucky/Louisville:20250605T140000
DTSTAMP:20260423T141314
CREATED:20250513T204828Z
LAST-MODIFIED:20250514T173142Z
UID:10001101-1749117600-1749132000@horizonhealthky.org
SUMMARY:Knox County Syringe Exchange
DESCRIPTION:Knox County Health Department (261 Hospital Dr\, Barbourville\, KY 40906\, United States)
URL:https://horizonhealthky.org/event/knox-county-syringe-exchange/2025-06-05/
LOCATION:Knox County Health Department\, 261 Hospital Dr\, Barbourville\, KY\, 40906\, United States
END:VEVENT
BEGIN:VEVENT
DTSTART;TZID=America/Kentucky/Louisville:20250606T100000
DTEND;TZID=America/Kentucky/Louisville:20250606T140000
DTSTAMP:20260423T141314
CREATED:20250513T205155Z
LAST-MODIFIED:20250514T173205Z
UID:10001255-1749204000-1749218400@horizonhealthky.org
SUMMARY:Redemption & Recovery
DESCRIPTION:Redemption & Recovery at East Barbourville Baptist Church
URL:https://horizonhealthky.org/event/knox-county-redemption-recovery/2025-06-06/
LOCATION:East Barbourville Baptist Church\, 279 Old 25 E\, Barbourville\, KY\, 40906\, United States
END:VEVENT
BEGIN:VEVENT
DTSTART;TZID=America/Kentucky/Louisville:20250609T080000
DTEND;TZID=America/Kentucky/Louisville:20250609T150000
DTSTAMP:20260423T141314
CREATED:20250513T204428Z
LAST-MODIFIED:20250514T173049Z
UID:10000660-1749456000-1749481200@horizonhealthky.org
SUMMARY:Whitley Syringe Exchange
DESCRIPTION:Whitley County Health Department (368 Penny Ln\, Williamsburg\, KY 40769\, United States)
URL:https://horizonhealthky.org/event/whitley-syringe-exchange/2025-06-09/
LOCATION:Whitley County Health Department\, 368 Penny Ln\, Williamsburg\, KY\, 40769\, United States
END:VEVENT
BEGIN:VEVENT
DTSTART;TZID=America/Kentucky/Louisville:20250610T080000
DTEND;TZID=America/Kentucky/Louisville:20250610T150000
DTSTAMP:20260423T141314
CREATED:20250513T204428Z
LAST-MODIFIED:20250514T173049Z
UID:10000661-1749542400-1749567600@horizonhealthky.org
SUMMARY:Whitley Syringe Exchange
DESCRIPTION:Whitley County Health Department (368 Penny Ln\, Williamsburg\, KY 40769\, United States)
URL:https://horizonhealthky.org/event/whitley-syringe-exchange/2025-06-10/
LOCATION:Whitley County Health Department\, 368 Penny Ln\, Williamsburg\, KY\, 40769\, United States
END:VEVENT
BEGIN:VEVENT
DTSTART;TZID=America/Kentucky/Louisville:20250610T100000
DTEND;TZID=America/Kentucky/Louisville:20250610T140000
DTSTAMP:20260423T141314
CREATED:20250513T204617Z
LAST-MODIFIED:20250514T173119Z
UID:10000944-1749549600-1749564000@horizonhealthky.org
SUMMARY:Laurel County Syringe Exchange
DESCRIPTION:Laurel County Health Department (525 Whitley St\, London\, KY 40741\, United States)
URL:https://horizonhealthky.org/event/laurel-county-syringe-exchange/2025-06-10/
LOCATION:Laurel County Health Department\, 525 Whitley St\, London\, KY\, 40741\, United States
END:VEVENT
BEGIN:VEVENT
DTSTART;TZID=America/Kentucky/Louisville:20250610T100000
DTEND;TZID=America/Kentucky/Louisville:20250610T140000
DTSTAMP:20260423T141314
CREATED:20250513T204828Z
LAST-MODIFIED:20250514T173142Z
UID:10001102-1749549600-1749564000@horizonhealthky.org
SUMMARY:Knox County Syringe Exchange
DESCRIPTION:Knox County Health Department (261 Hospital Dr\, Barbourville\, KY 40906\, United States)
URL:https://horizonhealthky.org/event/knox-county-syringe-exchange/2025-06-10/
LOCATION:Knox County Health Department\, 261 Hospital Dr\, Barbourville\, KY\, 40906\, United States
END:VEVENT
BEGIN:VEVENT
DTSTART;TZID=America/Kentucky/Louisville:20250611T080000
DTEND;TZID=America/Kentucky/Louisville:20250611T150000
DTSTAMP:20260423T141314
CREATED:20250513T204428Z
LAST-MODIFIED:20250514T173049Z
UID:10000662-1749628800-1749654000@horizonhealthky.org
SUMMARY:Whitley Syringe Exchange
DESCRIPTION:Whitley County Health Department (368 Penny Ln\, Williamsburg\, KY 40769\, United States)
URL:https://horizonhealthky.org/event/whitley-syringe-exchange/2025-06-11/
LOCATION:Whitley County Health Department\, 368 Penny Ln\, Williamsburg\, KY\, 40769\, United States
END:VEVENT
BEGIN:VEVENT
DTSTART;TZID=America/Kentucky/Louisville:20250612T080000
DTEND;TZID=America/Kentucky/Louisville:20250612T150000
DTSTAMP:20260423T141314
CREATED:20250513T204428Z
LAST-MODIFIED:20250514T173049Z
UID:10000663-1749715200-1749740400@horizonhealthky.org
SUMMARY:Whitley Syringe Exchange
DESCRIPTION:Whitley County Health Department (368 Penny Ln\, Williamsburg\, KY 40769\, United States)
URL:https://horizonhealthky.org/event/whitley-syringe-exchange/2025-06-12/
LOCATION:Whitley County Health Department\, 368 Penny Ln\, Williamsburg\, KY\, 40769\, United States
END:VEVENT
BEGIN:VEVENT
DTSTART;TZID=America/Kentucky/Louisville:20250612T100000
DTEND;TZID=America/Kentucky/Louisville:20250612T120000
DTSTAMP:20260423T141314
CREATED:20250513T205630Z
LAST-MODIFIED:20250513T211746Z
UID:10000014-1749722400-1749729600@horizonhealthky.org
SUMMARY:Recovery Bingo
DESCRIPTION:Recovery Bingo at Voices of Hope (644 N Broadway\, Lexington\, KY\, United States)
URL:https://horizonhealthky.org/event/recovery-bingo/
LOCATION:Voices of Hope\, 644 N Broadway\, Lexington\, KY\, 40508\, United States
END:VEVENT
BEGIN:VEVENT
DTSTART;TZID=America/Kentucky/Louisville:20250612T100000
DTEND;TZID=America/Kentucky/Louisville:20250612T140000
DTSTAMP:20260423T141314
CREATED:20250513T204617Z
LAST-MODIFIED:20250514T173119Z
UID:10000945-1749722400-1749736800@horizonhealthky.org
SUMMARY:Laurel County Syringe Exchange
DESCRIPTION:Laurel County Health Department (525 Whitley St\, London\, KY 40741\, United States)
URL:https://horizonhealthky.org/event/laurel-county-syringe-exchange/2025-06-12/
LOCATION:Laurel County Health Department\, 525 Whitley St\, London\, KY\, 40741\, United States
END:VEVENT
BEGIN:VEVENT
DTSTART;TZID=America/Kentucky/Louisville:20250612T100000
DTEND;TZID=America/Kentucky/Louisville:20250612T140000
DTSTAMP:20260423T141314
CREATED:20250513T204828Z
LAST-MODIFIED:20250514T173142Z
UID:10001103-1749722400-1749736800@horizonhealthky.org
SUMMARY:Knox County Syringe Exchange
DESCRIPTION:Knox County Health Department (261 Hospital Dr\, Barbourville\, KY 40906\, United States)
URL:https://horizonhealthky.org/event/knox-county-syringe-exchange/2025-06-12/
LOCATION:Knox County Health Department\, 261 Hospital Dr\, Barbourville\, KY\, 40906\, United States
END:VEVENT
BEGIN:VEVENT
DTSTART;TZID=America/Kentucky/Louisville:20250613T100000
DTEND;TZID=America/Kentucky/Louisville:20250613T140000
DTSTAMP:20260423T141314
CREATED:20250513T205155Z
LAST-MODIFIED:20250514T173205Z
UID:10001256-1749808800-1749823200@horizonhealthky.org
SUMMARY:Redemption & Recovery
DESCRIPTION:Redemption & Recovery at East Barbourville Baptist Church
URL:https://horizonhealthky.org/event/knox-county-redemption-recovery/2025-06-13/
LOCATION:East Barbourville Baptist Church\, 279 Old 25 E\, Barbourville\, KY\, 40906\, United States
END:VEVENT
BEGIN:VEVENT
DTSTART;TZID=America/Kentucky/Louisville:20250616T080000
DTEND;TZID=America/Kentucky/Louisville:20250616T150000
DTSTAMP:20260423T141314
CREATED:20250513T204428Z
LAST-MODIFIED:20250514T173049Z
UID:10000664-1750060800-1750086000@horizonhealthky.org
SUMMARY:Whitley Syringe Exchange
DESCRIPTION:Whitley County Health Department (368 Penny Ln\, Williamsburg\, KY 40769\, United States)
URL:https://horizonhealthky.org/event/whitley-syringe-exchange/2025-06-16/
LOCATION:Whitley County Health Department\, 368 Penny Ln\, Williamsburg\, KY\, 40769\, United States
END:VEVENT
BEGIN:VEVENT
DTSTART;TZID=America/Kentucky/Louisville:20250617T080000
DTEND;TZID=America/Kentucky/Louisville:20250617T150000
DTSTAMP:20260423T141314
CREATED:20250513T204428Z
LAST-MODIFIED:20250514T173049Z
UID:10000665-1750147200-1750172400@horizonhealthky.org
SUMMARY:Whitley Syringe Exchange
DESCRIPTION:Whitley County Health Department (368 Penny Ln\, Williamsburg\, KY 40769\, United States)
URL:https://horizonhealthky.org/event/whitley-syringe-exchange/2025-06-17/
LOCATION:Whitley County Health Department\, 368 Penny Ln\, Williamsburg\, KY\, 40769\, United States
END:VEVENT
BEGIN:VEVENT
DTSTART;TZID=America/Kentucky/Louisville:20250617T100000
DTEND;TZID=America/Kentucky/Louisville:20250617T140000
DTSTAMP:20260423T141314
CREATED:20250513T204617Z
LAST-MODIFIED:20250514T173119Z
UID:10000946-1750154400-1750168800@horizonhealthky.org
SUMMARY:Laurel County Syringe Exchange
DESCRIPTION:Laurel County Health Department (525 Whitley St\, London\, KY 40741\, United States)
URL:https://horizonhealthky.org/event/laurel-county-syringe-exchange/2025-06-17/
LOCATION:Laurel County Health Department\, 525 Whitley St\, London\, KY\, 40741\, United States
END:VEVENT
BEGIN:VEVENT
DTSTART;TZID=America/Kentucky/Louisville:20250617T100000
DTEND;TZID=America/Kentucky/Louisville:20250617T140000
DTSTAMP:20260423T141314
CREATED:20250513T204828Z
LAST-MODIFIED:20250514T173142Z
UID:10001104-1750154400-1750168800@horizonhealthky.org
SUMMARY:Knox County Syringe Exchange
DESCRIPTION:Knox County Health Department (261 Hospital Dr\, Barbourville\, KY 40906\, United States)
URL:https://horizonhealthky.org/event/knox-county-syringe-exchange/2025-06-17/
LOCATION:Knox County Health Department\, 261 Hospital Dr\, Barbourville\, KY\, 40906\, United States
END:VEVENT
BEGIN:VEVENT
DTSTART;TZID=America/Kentucky/Louisville:20250618T080000
DTEND;TZID=America/Kentucky/Louisville:20250618T150000
DTSTAMP:20260423T141314
CREATED:20250513T204428Z
LAST-MODIFIED:20250514T173049Z
UID:10000666-1750233600-1750258800@horizonhealthky.org
SUMMARY:Whitley Syringe Exchange
DESCRIPTION:Whitley County Health Department (368 Penny Ln\, Williamsburg\, KY 40769\, United States)
URL:https://horizonhealthky.org/event/whitley-syringe-exchange/2025-06-18/
LOCATION:Whitley County Health Department\, 368 Penny Ln\, Williamsburg\, KY\, 40769\, United States
END:VEVENT
BEGIN:VEVENT
DTSTART;TZID=America/Kentucky/Louisville:20250619T080000
DTEND;TZID=America/Kentucky/Louisville:20250619T150000
DTSTAMP:20260423T141314
CREATED:20250513T204428Z
LAST-MODIFIED:20250514T173049Z
UID:10000667-1750320000-1750345200@horizonhealthky.org
SUMMARY:Whitley Syringe Exchange
DESCRIPTION:Whitley County Health Department (368 Penny Ln\, Williamsburg\, KY 40769\, United States)
URL:https://horizonhealthky.org/event/whitley-syringe-exchange/2025-06-19/
LOCATION:Whitley County Health Department\, 368 Penny Ln\, Williamsburg\, KY\, 40769\, United States
END:VEVENT
END:VCALENDAR