BEGIN:VCALENDAR
VERSION:2.0
PRODID:-//Horizon Health - ECPv6.15.20//NONSGML v1.0//EN
CALSCALE:GREGORIAN
METHOD:PUBLISH
X-WR-CALNAME:Horizon Health
X-ORIGINAL-URL:https://horizonhealthky.org
X-WR-CALDESC:Events for Horizon Health
REFRESH-INTERVAL;VALUE=DURATION:PT1H
X-Robots-Tag:noindex
X-PUBLISHED-TTL:PT1H
BEGIN:VTIMEZONE
TZID:America/Kentucky/Louisville
BEGIN:DAYLIGHT
TZOFFSETFROM:-0500
TZOFFSETTO:-0400
TZNAME:EDT
DTSTART:20240310T070000
END:DAYLIGHT
BEGIN:STANDARD
TZOFFSETFROM:-0400
TZOFFSETTO:-0500
TZNAME:EST
DTSTART:20241103T060000
END:STANDARD
BEGIN:DAYLIGHT
TZOFFSETFROM:-0500
TZOFFSETTO:-0400
TZNAME:EDT
DTSTART:20250309T070000
END:DAYLIGHT
BEGIN:STANDARD
TZOFFSETFROM:-0400
TZOFFSETTO:-0500
TZNAME:EST
DTSTART:20251102T060000
END:STANDARD
BEGIN:DAYLIGHT
TZOFFSETFROM:-0500
TZOFFSETTO:-0400
TZNAME:EDT
DTSTART:20260308T070000
END:DAYLIGHT
BEGIN:STANDARD
TZOFFSETFROM:-0400
TZOFFSETTO:-0500
TZNAME:EST
DTSTART:20261101T060000
END:STANDARD
END:VTIMEZONE
BEGIN:VEVENT
DTSTART;VALUE=DATE:20250925
DTEND;VALUE=DATE:20250926
DTSTAMP:20260423T052438
CREATED:20250826T140715Z
LAST-MODIFIED:20250826T140715Z
UID:10001283-1758758400-1758844799@horizonhealthky.org
SUMMARY:Save A Life Day 2025
DESCRIPTION:Horizon Health is proud to participate in Save A Life Day 2025! \nWe are the official Whitley County organizers for the September 25\, 2025 event and we’re calling on our fellow community partners to join us! Locations are finalized and we are looking for other local organizations to join us. If your organization would like to participate or learn more\, please contact Esperanza Perez at (606) 657-2030 (ext. 334).
URL:https://horizonhealthky.org/event/save-a-life-day-2025/
LOCATION:KY
ATTACH;FMTTYPE=image/png:https://horizonhealthky.org/wp-content/uploads/2025/08/S.A.L.D-Community-Partners-Web-scaled.png
ORGANIZER;CN="Esperanza Perez":MAILTO:eperez@horizonhealthky.org
END:VEVENT
BEGIN:VEVENT
DTSTART;TZID=America/Kentucky/Louisville:20250924T080000
DTEND;TZID=America/Kentucky/Louisville:20250924T150000
DTSTAMP:20260423T052438
CREATED:20250513T204428Z
LAST-MODIFIED:20250514T173049Z
UID:10000722-1758700800-1758726000@horizonhealthky.org
SUMMARY:Whitley Syringe Exchange
DESCRIPTION:Whitley County Health Department (368 Penny Ln\, Williamsburg\, KY 40769\, United States)
URL:https://horizonhealthky.org/event/whitley-syringe-exchange/2025-09-24/
LOCATION:Whitley County Health Department\, 368 Penny Ln\, Williamsburg\, KY\, 40769\, United States
END:VEVENT
BEGIN:VEVENT
DTSTART;TZID=America/Kentucky/Louisville:20250923T100000
DTEND;TZID=America/Kentucky/Louisville:20250923T140000
DTSTAMP:20260423T052438
CREATED:20250513T204828Z
LAST-MODIFIED:20250514T173142Z
UID:10001132-1758621600-1758636000@horizonhealthky.org
SUMMARY:Knox County Syringe Exchange
DESCRIPTION:Knox County Health Department (261 Hospital Dr\, Barbourville\, KY 40906\, United States)
URL:https://horizonhealthky.org/event/knox-county-syringe-exchange/2025-09-23/
LOCATION:Knox County Health Department\, 261 Hospital Dr\, Barbourville\, KY\, 40906\, United States
END:VEVENT
BEGIN:VEVENT
DTSTART;TZID=America/Kentucky/Louisville:20250923T100000
DTEND;TZID=America/Kentucky/Louisville:20250923T140000
DTSTAMP:20260423T052438
CREATED:20250513T204617Z
LAST-MODIFIED:20250514T173119Z
UID:10000974-1758621600-1758636000@horizonhealthky.org
SUMMARY:Laurel County Syringe Exchange
DESCRIPTION:Laurel County Health Department (525 Whitley St\, London\, KY 40741\, United States)
URL:https://horizonhealthky.org/event/laurel-county-syringe-exchange/2025-09-23/
LOCATION:Laurel County Health Department\, 525 Whitley St\, London\, KY\, 40741\, United States
END:VEVENT
BEGIN:VEVENT
DTSTART;TZID=America/Kentucky/Louisville:20250923T080000
DTEND;TZID=America/Kentucky/Louisville:20250923T150000
DTSTAMP:20260423T052438
CREATED:20250513T204428Z
LAST-MODIFIED:20250514T173049Z
UID:10000721-1758614400-1758639600@horizonhealthky.org
SUMMARY:Whitley Syringe Exchange
DESCRIPTION:Whitley County Health Department (368 Penny Ln\, Williamsburg\, KY 40769\, United States)
URL:https://horizonhealthky.org/event/whitley-syringe-exchange/2025-09-23/
LOCATION:Whitley County Health Department\, 368 Penny Ln\, Williamsburg\, KY\, 40769\, United States
END:VEVENT
BEGIN:VEVENT
DTSTART;TZID=America/Kentucky/Louisville:20250922T080000
DTEND;TZID=America/Kentucky/Louisville:20250922T150000
DTSTAMP:20260423T052438
CREATED:20250513T204428Z
LAST-MODIFIED:20250514T173049Z
UID:10000720-1758528000-1758553200@horizonhealthky.org
SUMMARY:Whitley Syringe Exchange
DESCRIPTION:Whitley County Health Department (368 Penny Ln\, Williamsburg\, KY 40769\, United States)
URL:https://horizonhealthky.org/event/whitley-syringe-exchange/2025-09-22/
LOCATION:Whitley County Health Department\, 368 Penny Ln\, Williamsburg\, KY\, 40769\, United States
END:VEVENT
BEGIN:VEVENT
DTSTART;TZID=America/Kentucky/Louisville:20250919T100000
DTEND;TZID=America/Kentucky/Louisville:20250919T140000
DTSTAMP:20260423T052438
CREATED:20250513T205155Z
LAST-MODIFIED:20250514T173205Z
UID:10001270-1758276000-1758290400@horizonhealthky.org
SUMMARY:Redemption & Recovery
DESCRIPTION:Redemption & Recovery at East Barbourville Baptist Church
URL:https://horizonhealthky.org/event/knox-county-redemption-recovery/2025-09-19/
LOCATION:East Barbourville Baptist Church\, 279 Old 25 E\, Barbourville\, KY\, 40906\, United States
END:VEVENT
BEGIN:VEVENT
DTSTART;TZID=America/Kentucky/Louisville:20250918T100000
DTEND;TZID=America/Kentucky/Louisville:20250918T140000
DTSTAMP:20260423T052438
CREATED:20250513T204828Z
LAST-MODIFIED:20250514T173142Z
UID:10001131-1758189600-1758204000@horizonhealthky.org
SUMMARY:Knox County Syringe Exchange
DESCRIPTION:Knox County Health Department (261 Hospital Dr\, Barbourville\, KY 40906\, United States)
URL:https://horizonhealthky.org/event/knox-county-syringe-exchange/2025-09-18/
LOCATION:Knox County Health Department\, 261 Hospital Dr\, Barbourville\, KY\, 40906\, United States
END:VEVENT
BEGIN:VEVENT
DTSTART;TZID=America/Kentucky/Louisville:20250918T100000
DTEND;TZID=America/Kentucky/Louisville:20250918T140000
DTSTAMP:20260423T052438
CREATED:20250513T204617Z
LAST-MODIFIED:20250514T173119Z
UID:10000973-1758189600-1758204000@horizonhealthky.org
SUMMARY:Laurel County Syringe Exchange
DESCRIPTION:Laurel County Health Department (525 Whitley St\, London\, KY 40741\, United States)
URL:https://horizonhealthky.org/event/laurel-county-syringe-exchange/2025-09-18/
LOCATION:Laurel County Health Department\, 525 Whitley St\, London\, KY\, 40741\, United States
END:VEVENT
BEGIN:VEVENT
DTSTART;TZID=America/Kentucky/Louisville:20250918T080000
DTEND;TZID=America/Kentucky/Louisville:20250918T150000
DTSTAMP:20260423T052438
CREATED:20250513T204428Z
LAST-MODIFIED:20250514T173049Z
UID:10000719-1758182400-1758207600@horizonhealthky.org
SUMMARY:Whitley Syringe Exchange
DESCRIPTION:Whitley County Health Department (368 Penny Ln\, Williamsburg\, KY 40769\, United States)
URL:https://horizonhealthky.org/event/whitley-syringe-exchange/2025-09-18/
LOCATION:Whitley County Health Department\, 368 Penny Ln\, Williamsburg\, KY\, 40769\, United States
END:VEVENT
BEGIN:VEVENT
DTSTART;TZID=America/Kentucky/Louisville:20250917T080000
DTEND;TZID=America/Kentucky/Louisville:20250917T150000
DTSTAMP:20260423T052438
CREATED:20250513T204428Z
LAST-MODIFIED:20250514T173049Z
UID:10000718-1758096000-1758121200@horizonhealthky.org
SUMMARY:Whitley Syringe Exchange
DESCRIPTION:Whitley County Health Department (368 Penny Ln\, Williamsburg\, KY 40769\, United States)
URL:https://horizonhealthky.org/event/whitley-syringe-exchange/2025-09-17/
LOCATION:Whitley County Health Department\, 368 Penny Ln\, Williamsburg\, KY\, 40769\, United States
END:VEVENT
BEGIN:VEVENT
DTSTART;TZID=America/Kentucky/Louisville:20250916T100000
DTEND;TZID=America/Kentucky/Louisville:20250916T140000
DTSTAMP:20260423T052438
CREATED:20250513T204828Z
LAST-MODIFIED:20250514T173142Z
UID:10001130-1758016800-1758031200@horizonhealthky.org
SUMMARY:Knox County Syringe Exchange
DESCRIPTION:Knox County Health Department (261 Hospital Dr\, Barbourville\, KY 40906\, United States)
URL:https://horizonhealthky.org/event/knox-county-syringe-exchange/2025-09-16/
LOCATION:Knox County Health Department\, 261 Hospital Dr\, Barbourville\, KY\, 40906\, United States
END:VEVENT
BEGIN:VEVENT
DTSTART;TZID=America/Kentucky/Louisville:20250916T100000
DTEND;TZID=America/Kentucky/Louisville:20250916T140000
DTSTAMP:20260423T052438
CREATED:20250513T204617Z
LAST-MODIFIED:20250514T173119Z
UID:10000972-1758016800-1758031200@horizonhealthky.org
SUMMARY:Laurel County Syringe Exchange
DESCRIPTION:Laurel County Health Department (525 Whitley St\, London\, KY 40741\, United States)
URL:https://horizonhealthky.org/event/laurel-county-syringe-exchange/2025-09-16/
LOCATION:Laurel County Health Department\, 525 Whitley St\, London\, KY\, 40741\, United States
END:VEVENT
BEGIN:VEVENT
DTSTART;TZID=America/Kentucky/Louisville:20250916T080000
DTEND;TZID=America/Kentucky/Louisville:20250916T150000
DTSTAMP:20260423T052438
CREATED:20250513T204428Z
LAST-MODIFIED:20250514T173049Z
UID:10000717-1758009600-1758034800@horizonhealthky.org
SUMMARY:Whitley Syringe Exchange
DESCRIPTION:Whitley County Health Department (368 Penny Ln\, Williamsburg\, KY 40769\, United States)
URL:https://horizonhealthky.org/event/whitley-syringe-exchange/2025-09-16/
LOCATION:Whitley County Health Department\, 368 Penny Ln\, Williamsburg\, KY\, 40769\, United States
END:VEVENT
BEGIN:VEVENT
DTSTART;TZID=America/Kentucky/Louisville:20250915T080000
DTEND;TZID=America/Kentucky/Louisville:20250915T150000
DTSTAMP:20260423T052438
CREATED:20250513T204428Z
LAST-MODIFIED:20250514T173049Z
UID:10000716-1757923200-1757948400@horizonhealthky.org
SUMMARY:Whitley Syringe Exchange
DESCRIPTION:Whitley County Health Department (368 Penny Ln\, Williamsburg\, KY 40769\, United States)
URL:https://horizonhealthky.org/event/whitley-syringe-exchange/2025-09-15/
LOCATION:Whitley County Health Department\, 368 Penny Ln\, Williamsburg\, KY\, 40769\, United States
END:VEVENT
BEGIN:VEVENT
DTSTART;TZID=America/Kentucky/Louisville:20250912T100000
DTEND;TZID=America/Kentucky/Louisville:20250912T140000
DTSTAMP:20260423T052438
CREATED:20250513T205155Z
LAST-MODIFIED:20250514T173205Z
UID:10001269-1757671200-1757685600@horizonhealthky.org
SUMMARY:Redemption & Recovery
DESCRIPTION:Redemption & Recovery at East Barbourville Baptist Church
URL:https://horizonhealthky.org/event/knox-county-redemption-recovery/2025-09-12/
LOCATION:East Barbourville Baptist Church\, 279 Old 25 E\, Barbourville\, KY\, 40906\, United States
END:VEVENT
BEGIN:VEVENT
DTSTART;TZID=America/Kentucky/Louisville:20250911T100000
DTEND;TZID=America/Kentucky/Louisville:20250911T140000
DTSTAMP:20260423T052438
CREATED:20250513T204828Z
LAST-MODIFIED:20250514T173142Z
UID:10001129-1757584800-1757599200@horizonhealthky.org
SUMMARY:Knox County Syringe Exchange
DESCRIPTION:Knox County Health Department (261 Hospital Dr\, Barbourville\, KY 40906\, United States)
URL:https://horizonhealthky.org/event/knox-county-syringe-exchange/2025-09-11/
LOCATION:Knox County Health Department\, 261 Hospital Dr\, Barbourville\, KY\, 40906\, United States
END:VEVENT
BEGIN:VEVENT
DTSTART;TZID=America/Kentucky/Louisville:20250911T100000
DTEND;TZID=America/Kentucky/Louisville:20250911T140000
DTSTAMP:20260423T052438
CREATED:20250513T204617Z
LAST-MODIFIED:20250514T173119Z
UID:10000971-1757584800-1757599200@horizonhealthky.org
SUMMARY:Laurel County Syringe Exchange
DESCRIPTION:Laurel County Health Department (525 Whitley St\, London\, KY 40741\, United States)
URL:https://horizonhealthky.org/event/laurel-county-syringe-exchange/2025-09-11/
LOCATION:Laurel County Health Department\, 525 Whitley St\, London\, KY\, 40741\, United States
END:VEVENT
BEGIN:VEVENT
DTSTART;TZID=America/Kentucky/Louisville:20250911T080000
DTEND;TZID=America/Kentucky/Louisville:20250911T150000
DTSTAMP:20260423T052438
CREATED:20250513T204428Z
LAST-MODIFIED:20250514T173049Z
UID:10000715-1757577600-1757602800@horizonhealthky.org
SUMMARY:Whitley Syringe Exchange
DESCRIPTION:Whitley County Health Department (368 Penny Ln\, Williamsburg\, KY 40769\, United States)
URL:https://horizonhealthky.org/event/whitley-syringe-exchange/2025-09-11/
LOCATION:Whitley County Health Department\, 368 Penny Ln\, Williamsburg\, KY\, 40769\, United States
END:VEVENT
BEGIN:VEVENT
DTSTART;TZID=America/Kentucky/Louisville:20250910T080000
DTEND;TZID=America/Kentucky/Louisville:20250910T150000
DTSTAMP:20260423T052438
CREATED:20250513T204428Z
LAST-MODIFIED:20250514T173049Z
UID:10000714-1757491200-1757516400@horizonhealthky.org
SUMMARY:Whitley Syringe Exchange
DESCRIPTION:Whitley County Health Department (368 Penny Ln\, Williamsburg\, KY 40769\, United States)
URL:https://horizonhealthky.org/event/whitley-syringe-exchange/2025-09-10/
LOCATION:Whitley County Health Department\, 368 Penny Ln\, Williamsburg\, KY\, 40769\, United States
END:VEVENT
BEGIN:VEVENT
DTSTART;TZID=America/Kentucky/Louisville:20250909T100000
DTEND;TZID=America/Kentucky/Louisville:20250909T140000
DTSTAMP:20260423T052438
CREATED:20250513T204828Z
LAST-MODIFIED:20250514T173142Z
UID:10001128-1757412000-1757426400@horizonhealthky.org
SUMMARY:Knox County Syringe Exchange
DESCRIPTION:Knox County Health Department (261 Hospital Dr\, Barbourville\, KY 40906\, United States)
URL:https://horizonhealthky.org/event/knox-county-syringe-exchange/2025-09-09/
LOCATION:Knox County Health Department\, 261 Hospital Dr\, Barbourville\, KY\, 40906\, United States
END:VEVENT
BEGIN:VEVENT
DTSTART;TZID=America/Kentucky/Louisville:20250909T100000
DTEND;TZID=America/Kentucky/Louisville:20250909T140000
DTSTAMP:20260423T052438
CREATED:20250513T204617Z
LAST-MODIFIED:20250514T173119Z
UID:10000970-1757412000-1757426400@horizonhealthky.org
SUMMARY:Laurel County Syringe Exchange
DESCRIPTION:Laurel County Health Department (525 Whitley St\, London\, KY 40741\, United States)
URL:https://horizonhealthky.org/event/laurel-county-syringe-exchange/2025-09-09/
LOCATION:Laurel County Health Department\, 525 Whitley St\, London\, KY\, 40741\, United States
END:VEVENT
BEGIN:VEVENT
DTSTART;TZID=America/Kentucky/Louisville:20250909T080000
DTEND;TZID=America/Kentucky/Louisville:20250909T150000
DTSTAMP:20260423T052438
CREATED:20250513T204428Z
LAST-MODIFIED:20250514T173049Z
UID:10000713-1757404800-1757430000@horizonhealthky.org
SUMMARY:Whitley Syringe Exchange
DESCRIPTION:Whitley County Health Department (368 Penny Ln\, Williamsburg\, KY 40769\, United States)
URL:https://horizonhealthky.org/event/whitley-syringe-exchange/2025-09-09/
LOCATION:Whitley County Health Department\, 368 Penny Ln\, Williamsburg\, KY\, 40769\, United States
END:VEVENT
BEGIN:VEVENT
DTSTART;TZID=America/Kentucky/Louisville:20250908T080000
DTEND;TZID=America/Kentucky/Louisville:20250908T150000
DTSTAMP:20260423T052438
CREATED:20250513T204428Z
LAST-MODIFIED:20250514T173049Z
UID:10000712-1757318400-1757343600@horizonhealthky.org
SUMMARY:Whitley Syringe Exchange
DESCRIPTION:Whitley County Health Department (368 Penny Ln\, Williamsburg\, KY 40769\, United States)
URL:https://horizonhealthky.org/event/whitley-syringe-exchange/2025-09-08/
LOCATION:Whitley County Health Department\, 368 Penny Ln\, Williamsburg\, KY\, 40769\, United States
END:VEVENT
BEGIN:VEVENT
DTSTART;TZID=America/Kentucky/Louisville:20250905T100000
DTEND;TZID=America/Kentucky/Louisville:20250905T140000
DTSTAMP:20260423T052438
CREATED:20250513T205155Z
LAST-MODIFIED:20250514T173205Z
UID:10001268-1757066400-1757080800@horizonhealthky.org
SUMMARY:Redemption & Recovery
DESCRIPTION:Redemption & Recovery at East Barbourville Baptist Church
URL:https://horizonhealthky.org/event/knox-county-redemption-recovery/2025-09-05/
LOCATION:East Barbourville Baptist Church\, 279 Old 25 E\, Barbourville\, KY\, 40906\, United States
END:VEVENT
BEGIN:VEVENT
DTSTART;TZID=America/Kentucky/Louisville:20250904T100000
DTEND;TZID=America/Kentucky/Louisville:20250904T140000
DTSTAMP:20260423T052438
CREATED:20250513T204828Z
LAST-MODIFIED:20250514T173142Z
UID:10001127-1756980000-1756994400@horizonhealthky.org
SUMMARY:Knox County Syringe Exchange
DESCRIPTION:Knox County Health Department (261 Hospital Dr\, Barbourville\, KY 40906\, United States)
URL:https://horizonhealthky.org/event/knox-county-syringe-exchange/2025-09-04/
LOCATION:Knox County Health Department\, 261 Hospital Dr\, Barbourville\, KY\, 40906\, United States
END:VEVENT
BEGIN:VEVENT
DTSTART;TZID=America/Kentucky/Louisville:20250904T100000
DTEND;TZID=America/Kentucky/Louisville:20250904T140000
DTSTAMP:20260423T052438
CREATED:20250513T204617Z
LAST-MODIFIED:20250514T173119Z
UID:10000969-1756980000-1756994400@horizonhealthky.org
SUMMARY:Laurel County Syringe Exchange
DESCRIPTION:Laurel County Health Department (525 Whitley St\, London\, KY 40741\, United States)
URL:https://horizonhealthky.org/event/laurel-county-syringe-exchange/2025-09-04/
LOCATION:Laurel County Health Department\, 525 Whitley St\, London\, KY\, 40741\, United States
END:VEVENT
BEGIN:VEVENT
DTSTART;TZID=America/Kentucky/Louisville:20250904T080000
DTEND;TZID=America/Kentucky/Louisville:20250904T150000
DTSTAMP:20260423T052438
CREATED:20250513T204428Z
LAST-MODIFIED:20250514T173049Z
UID:10000711-1756972800-1756998000@horizonhealthky.org
SUMMARY:Whitley Syringe Exchange
DESCRIPTION:Whitley County Health Department (368 Penny Ln\, Williamsburg\, KY 40769\, United States)
URL:https://horizonhealthky.org/event/whitley-syringe-exchange/2025-09-04/
LOCATION:Whitley County Health Department\, 368 Penny Ln\, Williamsburg\, KY\, 40769\, United States
END:VEVENT
BEGIN:VEVENT
DTSTART;TZID=America/Kentucky/Louisville:20250903T080000
DTEND;TZID=America/Kentucky/Louisville:20250903T150000
DTSTAMP:20260423T052438
CREATED:20250513T204428Z
LAST-MODIFIED:20250514T173049Z
UID:10000710-1756886400-1756911600@horizonhealthky.org
SUMMARY:Whitley Syringe Exchange
DESCRIPTION:Whitley County Health Department (368 Penny Ln\, Williamsburg\, KY 40769\, United States)
URL:https://horizonhealthky.org/event/whitley-syringe-exchange/2025-09-03/
LOCATION:Whitley County Health Department\, 368 Penny Ln\, Williamsburg\, KY\, 40769\, United States
END:VEVENT
BEGIN:VEVENT
DTSTART;TZID=America/Kentucky/Louisville:20250902T100000
DTEND;TZID=America/Kentucky/Louisville:20250902T140000
DTSTAMP:20260423T052438
CREATED:20250513T204828Z
LAST-MODIFIED:20250514T173142Z
UID:10001126-1756807200-1756821600@horizonhealthky.org
SUMMARY:Knox County Syringe Exchange
DESCRIPTION:Knox County Health Department (261 Hospital Dr\, Barbourville\, KY 40906\, United States)
URL:https://horizonhealthky.org/event/knox-county-syringe-exchange/2025-09-02/
LOCATION:Knox County Health Department\, 261 Hospital Dr\, Barbourville\, KY\, 40906\, United States
END:VEVENT
END:VCALENDAR