BEGIN:VCALENDAR
VERSION:2.0
PRODID:-//Horizon Health - ECPv6.15.20//NONSGML v1.0//EN
CALSCALE:GREGORIAN
METHOD:PUBLISH
X-ORIGINAL-URL:https://horizonhealthky.org
X-WR-CALDESC:Events for Horizon Health
REFRESH-INTERVAL;VALUE=DURATION:PT1H
X-Robots-Tag:noindex
X-PUBLISHED-TTL:PT1H
BEGIN:VTIMEZONE
TZID:America/Kentucky/Louisville
BEGIN:DAYLIGHT
TZOFFSETFROM:-0500
TZOFFSETTO:-0400
TZNAME:EDT
DTSTART:20250309T070000
END:DAYLIGHT
BEGIN:STANDARD
TZOFFSETFROM:-0400
TZOFFSETTO:-0500
TZNAME:EST
DTSTART:20251102T060000
END:STANDARD
BEGIN:DAYLIGHT
TZOFFSETFROM:-0500
TZOFFSETTO:-0400
TZNAME:EDT
DTSTART:20260308T070000
END:DAYLIGHT
BEGIN:STANDARD
TZOFFSETFROM:-0400
TZOFFSETTO:-0500
TZNAME:EST
DTSTART:20261101T060000
END:STANDARD
BEGIN:DAYLIGHT
TZOFFSETFROM:-0500
TZOFFSETTO:-0400
TZNAME:EDT
DTSTART:20270314T070000
END:DAYLIGHT
BEGIN:STANDARD
TZOFFSETFROM:-0400
TZOFFSETTO:-0500
TZNAME:EST
DTSTART:20271107T060000
END:STANDARD
END:VTIMEZONE
BEGIN:VEVENT
DTSTART;TZID=America/Kentucky/Louisville:20260630T080000
DTEND;TZID=America/Kentucky/Louisville:20260630T150000
DTSTAMP:20260422T184425
CREATED:20250513T204428Z
LAST-MODIFIED:20250514T173049Z
UID:10000881-1782806400-1782831600@horizonhealthky.org
SUMMARY:Whitley Syringe Exchange
DESCRIPTION:Whitley County Health Department (368 Penny Ln\, Williamsburg\, KY 40769\, United States)
URL:https://horizonhealthky.org/event/whitley-syringe-exchange/2026-06-30/
LOCATION:Whitley County Health Department\, 368 Penny Ln\, Williamsburg\, KY\, 40769\, United States
END:VEVENT
BEGIN:VEVENT
DTSTART;TZID=America/Kentucky/Louisville:20260630T100000
DTEND;TZID=America/Kentucky/Louisville:20260630T140000
DTSTAMP:20260422T184425
CREATED:20250513T204617Z
LAST-MODIFIED:20250514T173119Z
UID:10001054-1782813600-1782828000@horizonhealthky.org
SUMMARY:Laurel County Syringe Exchange
DESCRIPTION:Laurel County Health Department (525 Whitley St\, London\, KY 40741\, United States)
URL:https://horizonhealthky.org/event/laurel-county-syringe-exchange/2026-06-30/
LOCATION:Laurel County Health Department\, 525 Whitley St\, London\, KY\, 40741\, United States
END:VEVENT
BEGIN:VEVENT
DTSTART;TZID=America/Kentucky/Louisville:20260630T100000
DTEND;TZID=America/Kentucky/Louisville:20260630T140000
DTSTAMP:20260422T184425
CREATED:20250513T204828Z
LAST-MODIFIED:20250514T173142Z
UID:10001212-1782813600-1782828000@horizonhealthky.org
SUMMARY:Knox County Syringe Exchange
DESCRIPTION:Knox County Health Department (261 Hospital Dr\, Barbourville\, KY 40906\, United States)
URL:https://horizonhealthky.org/event/knox-county-syringe-exchange/2026-06-30/
LOCATION:Knox County Health Department\, 261 Hospital Dr\, Barbourville\, KY\, 40906\, United States
END:VEVENT
BEGIN:VEVENT
DTSTART;TZID=America/Kentucky/Louisville:20260701T080000
DTEND;TZID=America/Kentucky/Louisville:20260701T150000
DTSTAMP:20260422T184425
CREATED:20250513T204428Z
LAST-MODIFIED:20250514T173049Z
UID:10000882-1782892800-1782918000@horizonhealthky.org
SUMMARY:Whitley Syringe Exchange
DESCRIPTION:Whitley County Health Department (368 Penny Ln\, Williamsburg\, KY 40769\, United States)
URL:https://horizonhealthky.org/event/whitley-syringe-exchange/2026-07-01/
LOCATION:Whitley County Health Department\, 368 Penny Ln\, Williamsburg\, KY\, 40769\, United States
END:VEVENT
BEGIN:VEVENT
DTSTART;TZID=America/Kentucky/Louisville:20260702T080000
DTEND;TZID=America/Kentucky/Louisville:20260702T150000
DTSTAMP:20260422T184425
CREATED:20250513T204428Z
LAST-MODIFIED:20250514T173049Z
UID:10000883-1782979200-1783004400@horizonhealthky.org
SUMMARY:Whitley Syringe Exchange
DESCRIPTION:Whitley County Health Department (368 Penny Ln\, Williamsburg\, KY 40769\, United States)
URL:https://horizonhealthky.org/event/whitley-syringe-exchange/2026-07-02/
LOCATION:Whitley County Health Department\, 368 Penny Ln\, Williamsburg\, KY\, 40769\, United States
END:VEVENT
BEGIN:VEVENT
DTSTART;TZID=America/Kentucky/Louisville:20260702T100000
DTEND;TZID=America/Kentucky/Louisville:20260702T140000
DTSTAMP:20260422T184425
CREATED:20250513T204617Z
LAST-MODIFIED:20250514T173119Z
UID:10001055-1782986400-1783000800@horizonhealthky.org
SUMMARY:Laurel County Syringe Exchange
DESCRIPTION:Laurel County Health Department (525 Whitley St\, London\, KY 40741\, United States)
URL:https://horizonhealthky.org/event/laurel-county-syringe-exchange/2026-07-02/
LOCATION:Laurel County Health Department\, 525 Whitley St\, London\, KY\, 40741\, United States
END:VEVENT
BEGIN:VEVENT
DTSTART;TZID=America/Kentucky/Louisville:20260702T100000
DTEND;TZID=America/Kentucky/Louisville:20260702T140000
DTSTAMP:20260422T184425
CREATED:20250513T204828Z
LAST-MODIFIED:20250514T173142Z
UID:10001213-1782986400-1783000800@horizonhealthky.org
SUMMARY:Knox County Syringe Exchange
DESCRIPTION:Knox County Health Department (261 Hospital Dr\, Barbourville\, KY 40906\, United States)
URL:https://horizonhealthky.org/event/knox-county-syringe-exchange/2026-07-02/
LOCATION:Knox County Health Department\, 261 Hospital Dr\, Barbourville\, KY\, 40906\, United States
END:VEVENT
BEGIN:VEVENT
DTSTART;TZID=America/Kentucky/Louisville:20260706T080000
DTEND;TZID=America/Kentucky/Louisville:20260706T150000
DTSTAMP:20260422T184425
CREATED:20250513T204428Z
LAST-MODIFIED:20250514T173049Z
UID:10000884-1783324800-1783350000@horizonhealthky.org
SUMMARY:Whitley Syringe Exchange
DESCRIPTION:Whitley County Health Department (368 Penny Ln\, Williamsburg\, KY 40769\, United States)
URL:https://horizonhealthky.org/event/whitley-syringe-exchange/2026-07-06/
LOCATION:Whitley County Health Department\, 368 Penny Ln\, Williamsburg\, KY\, 40769\, United States
END:VEVENT
BEGIN:VEVENT
DTSTART;TZID=America/Kentucky/Louisville:20260707T080000
DTEND;TZID=America/Kentucky/Louisville:20260707T150000
DTSTAMP:20260422T184425
CREATED:20250513T204428Z
LAST-MODIFIED:20250514T173049Z
UID:10000885-1783411200-1783436400@horizonhealthky.org
SUMMARY:Whitley Syringe Exchange
DESCRIPTION:Whitley County Health Department (368 Penny Ln\, Williamsburg\, KY 40769\, United States)
URL:https://horizonhealthky.org/event/whitley-syringe-exchange/2026-07-07/
LOCATION:Whitley County Health Department\, 368 Penny Ln\, Williamsburg\, KY\, 40769\, United States
END:VEVENT
BEGIN:VEVENT
DTSTART;TZID=America/Kentucky/Louisville:20260707T100000
DTEND;TZID=America/Kentucky/Louisville:20260707T140000
DTSTAMP:20260422T184425
CREATED:20250513T204617Z
LAST-MODIFIED:20250514T173119Z
UID:10001056-1783418400-1783432800@horizonhealthky.org
SUMMARY:Laurel County Syringe Exchange
DESCRIPTION:Laurel County Health Department (525 Whitley St\, London\, KY 40741\, United States)
URL:https://horizonhealthky.org/event/laurel-county-syringe-exchange/2026-07-07/
LOCATION:Laurel County Health Department\, 525 Whitley St\, London\, KY\, 40741\, United States
END:VEVENT
BEGIN:VEVENT
DTSTART;TZID=America/Kentucky/Louisville:20260707T100000
DTEND;TZID=America/Kentucky/Louisville:20260707T140000
DTSTAMP:20260422T184425
CREATED:20250513T204828Z
LAST-MODIFIED:20250514T173142Z
UID:10001214-1783418400-1783432800@horizonhealthky.org
SUMMARY:Knox County Syringe Exchange
DESCRIPTION:Knox County Health Department (261 Hospital Dr\, Barbourville\, KY 40906\, United States)
URL:https://horizonhealthky.org/event/knox-county-syringe-exchange/2026-07-07/
LOCATION:Knox County Health Department\, 261 Hospital Dr\, Barbourville\, KY\, 40906\, United States
END:VEVENT
BEGIN:VEVENT
DTSTART;TZID=America/Kentucky/Louisville:20260708T080000
DTEND;TZID=America/Kentucky/Louisville:20260708T150000
DTSTAMP:20260422T184425
CREATED:20250513T204428Z
LAST-MODIFIED:20250514T173049Z
UID:10000886-1783497600-1783522800@horizonhealthky.org
SUMMARY:Whitley Syringe Exchange
DESCRIPTION:Whitley County Health Department (368 Penny Ln\, Williamsburg\, KY 40769\, United States)
URL:https://horizonhealthky.org/event/whitley-syringe-exchange/2026-07-08/
LOCATION:Whitley County Health Department\, 368 Penny Ln\, Williamsburg\, KY\, 40769\, United States
END:VEVENT
BEGIN:VEVENT
DTSTART;TZID=America/Kentucky/Louisville:20260709T080000
DTEND;TZID=America/Kentucky/Louisville:20260709T150000
DTSTAMP:20260422T184425
CREATED:20250513T204428Z
LAST-MODIFIED:20250514T173049Z
UID:10000887-1783584000-1783609200@horizonhealthky.org
SUMMARY:Whitley Syringe Exchange
DESCRIPTION:Whitley County Health Department (368 Penny Ln\, Williamsburg\, KY 40769\, United States)
URL:https://horizonhealthky.org/event/whitley-syringe-exchange/2026-07-09/
LOCATION:Whitley County Health Department\, 368 Penny Ln\, Williamsburg\, KY\, 40769\, United States
END:VEVENT
BEGIN:VEVENT
DTSTART;TZID=America/Kentucky/Louisville:20260709T100000
DTEND;TZID=America/Kentucky/Louisville:20260709T140000
DTSTAMP:20260422T184425
CREATED:20250513T204617Z
LAST-MODIFIED:20250514T173119Z
UID:10001057-1783591200-1783605600@horizonhealthky.org
SUMMARY:Laurel County Syringe Exchange
DESCRIPTION:Laurel County Health Department (525 Whitley St\, London\, KY 40741\, United States)
URL:https://horizonhealthky.org/event/laurel-county-syringe-exchange/2026-07-09/
LOCATION:Laurel County Health Department\, 525 Whitley St\, London\, KY\, 40741\, United States
END:VEVENT
BEGIN:VEVENT
DTSTART;TZID=America/Kentucky/Louisville:20260709T100000
DTEND;TZID=America/Kentucky/Louisville:20260709T140000
DTSTAMP:20260422T184425
CREATED:20250513T204828Z
LAST-MODIFIED:20250514T173142Z
UID:10001215-1783591200-1783605600@horizonhealthky.org
SUMMARY:Knox County Syringe Exchange
DESCRIPTION:Knox County Health Department (261 Hospital Dr\, Barbourville\, KY 40906\, United States)
URL:https://horizonhealthky.org/event/knox-county-syringe-exchange/2026-07-09/
LOCATION:Knox County Health Department\, 261 Hospital Dr\, Barbourville\, KY\, 40906\, United States
END:VEVENT
BEGIN:VEVENT
DTSTART;TZID=America/Kentucky/Louisville:20260713T080000
DTEND;TZID=America/Kentucky/Louisville:20260713T150000
DTSTAMP:20260422T184425
CREATED:20250513T204428Z
LAST-MODIFIED:20250514T173049Z
UID:10000888-1783929600-1783954800@horizonhealthky.org
SUMMARY:Whitley Syringe Exchange
DESCRIPTION:Whitley County Health Department (368 Penny Ln\, Williamsburg\, KY 40769\, United States)
URL:https://horizonhealthky.org/event/whitley-syringe-exchange/2026-07-13/
LOCATION:Whitley County Health Department\, 368 Penny Ln\, Williamsburg\, KY\, 40769\, United States
END:VEVENT
BEGIN:VEVENT
DTSTART;TZID=America/Kentucky/Louisville:20260714T080000
DTEND;TZID=America/Kentucky/Louisville:20260714T150000
DTSTAMP:20260422T184425
CREATED:20250513T204428Z
LAST-MODIFIED:20250514T173049Z
UID:10000889-1784016000-1784041200@horizonhealthky.org
SUMMARY:Whitley Syringe Exchange
DESCRIPTION:Whitley County Health Department (368 Penny Ln\, Williamsburg\, KY 40769\, United States)
URL:https://horizonhealthky.org/event/whitley-syringe-exchange/2026-07-14/
LOCATION:Whitley County Health Department\, 368 Penny Ln\, Williamsburg\, KY\, 40769\, United States
END:VEVENT
BEGIN:VEVENT
DTSTART;TZID=America/Kentucky/Louisville:20260714T100000
DTEND;TZID=America/Kentucky/Louisville:20260714T140000
DTSTAMP:20260422T184425
CREATED:20250513T204617Z
LAST-MODIFIED:20250514T173119Z
UID:10001058-1784023200-1784037600@horizonhealthky.org
SUMMARY:Laurel County Syringe Exchange
DESCRIPTION:Laurel County Health Department (525 Whitley St\, London\, KY 40741\, United States)
URL:https://horizonhealthky.org/event/laurel-county-syringe-exchange/2026-07-14/
LOCATION:Laurel County Health Department\, 525 Whitley St\, London\, KY\, 40741\, United States
END:VEVENT
BEGIN:VEVENT
DTSTART;TZID=America/Kentucky/Louisville:20260714T100000
DTEND;TZID=America/Kentucky/Louisville:20260714T140000
DTSTAMP:20260422T184425
CREATED:20250513T204828Z
LAST-MODIFIED:20250514T173142Z
UID:10001216-1784023200-1784037600@horizonhealthky.org
SUMMARY:Knox County Syringe Exchange
DESCRIPTION:Knox County Health Department (261 Hospital Dr\, Barbourville\, KY 40906\, United States)
URL:https://horizonhealthky.org/event/knox-county-syringe-exchange/2026-07-14/
LOCATION:Knox County Health Department\, 261 Hospital Dr\, Barbourville\, KY\, 40906\, United States
END:VEVENT
BEGIN:VEVENT
DTSTART;TZID=America/Kentucky/Louisville:20260715T080000
DTEND;TZID=America/Kentucky/Louisville:20260715T150000
DTSTAMP:20260422T184425
CREATED:20250513T204428Z
LAST-MODIFIED:20250514T173049Z
UID:10000890-1784102400-1784127600@horizonhealthky.org
SUMMARY:Whitley Syringe Exchange
DESCRIPTION:Whitley County Health Department (368 Penny Ln\, Williamsburg\, KY 40769\, United States)
URL:https://horizonhealthky.org/event/whitley-syringe-exchange/2026-07-15/
LOCATION:Whitley County Health Department\, 368 Penny Ln\, Williamsburg\, KY\, 40769\, United States
END:VEVENT
BEGIN:VEVENT
DTSTART;TZID=America/Kentucky/Louisville:20260716T080000
DTEND;TZID=America/Kentucky/Louisville:20260716T150000
DTSTAMP:20260422T184425
CREATED:20250513T204428Z
LAST-MODIFIED:20250514T173049Z
UID:10000891-1784188800-1784214000@horizonhealthky.org
SUMMARY:Whitley Syringe Exchange
DESCRIPTION:Whitley County Health Department (368 Penny Ln\, Williamsburg\, KY 40769\, United States)
URL:https://horizonhealthky.org/event/whitley-syringe-exchange/2026-07-16/
LOCATION:Whitley County Health Department\, 368 Penny Ln\, Williamsburg\, KY\, 40769\, United States
END:VEVENT
BEGIN:VEVENT
DTSTART;TZID=America/Kentucky/Louisville:20260716T100000
DTEND;TZID=America/Kentucky/Louisville:20260716T140000
DTSTAMP:20260422T184425
CREATED:20250513T204617Z
LAST-MODIFIED:20250514T173119Z
UID:10001059-1784196000-1784210400@horizonhealthky.org
SUMMARY:Laurel County Syringe Exchange
DESCRIPTION:Laurel County Health Department (525 Whitley St\, London\, KY 40741\, United States)
URL:https://horizonhealthky.org/event/laurel-county-syringe-exchange/2026-07-16/
LOCATION:Laurel County Health Department\, 525 Whitley St\, London\, KY\, 40741\, United States
END:VEVENT
BEGIN:VEVENT
DTSTART;TZID=America/Kentucky/Louisville:20260716T100000
DTEND;TZID=America/Kentucky/Louisville:20260716T140000
DTSTAMP:20260422T184425
CREATED:20250513T204828Z
LAST-MODIFIED:20250514T173142Z
UID:10001217-1784196000-1784210400@horizonhealthky.org
SUMMARY:Knox County Syringe Exchange
DESCRIPTION:Knox County Health Department (261 Hospital Dr\, Barbourville\, KY 40906\, United States)
URL:https://horizonhealthky.org/event/knox-county-syringe-exchange/2026-07-16/
LOCATION:Knox County Health Department\, 261 Hospital Dr\, Barbourville\, KY\, 40906\, United States
END:VEVENT
BEGIN:VEVENT
DTSTART;TZID=America/Kentucky/Louisville:20260720T080000
DTEND;TZID=America/Kentucky/Louisville:20260720T150000
DTSTAMP:20260422T184425
CREATED:20250513T204428Z
LAST-MODIFIED:20250514T173049Z
UID:10000892-1784534400-1784559600@horizonhealthky.org
SUMMARY:Whitley Syringe Exchange
DESCRIPTION:Whitley County Health Department (368 Penny Ln\, Williamsburg\, KY 40769\, United States)
URL:https://horizonhealthky.org/event/whitley-syringe-exchange/2026-07-20/
LOCATION:Whitley County Health Department\, 368 Penny Ln\, Williamsburg\, KY\, 40769\, United States
END:VEVENT
BEGIN:VEVENT
DTSTART;TZID=America/Kentucky/Louisville:20260721T080000
DTEND;TZID=America/Kentucky/Louisville:20260721T150000
DTSTAMP:20260422T184425
CREATED:20250513T204428Z
LAST-MODIFIED:20250514T173049Z
UID:10000893-1784620800-1784646000@horizonhealthky.org
SUMMARY:Whitley Syringe Exchange
DESCRIPTION:Whitley County Health Department (368 Penny Ln\, Williamsburg\, KY 40769\, United States)
URL:https://horizonhealthky.org/event/whitley-syringe-exchange/2026-07-21/
LOCATION:Whitley County Health Department\, 368 Penny Ln\, Williamsburg\, KY\, 40769\, United States
END:VEVENT
BEGIN:VEVENT
DTSTART;TZID=America/Kentucky/Louisville:20260721T100000
DTEND;TZID=America/Kentucky/Louisville:20260721T140000
DTSTAMP:20260422T184425
CREATED:20250513T204617Z
LAST-MODIFIED:20250514T173119Z
UID:10001060-1784628000-1784642400@horizonhealthky.org
SUMMARY:Laurel County Syringe Exchange
DESCRIPTION:Laurel County Health Department (525 Whitley St\, London\, KY 40741\, United States)
URL:https://horizonhealthky.org/event/laurel-county-syringe-exchange/2026-07-21/
LOCATION:Laurel County Health Department\, 525 Whitley St\, London\, KY\, 40741\, United States
END:VEVENT
BEGIN:VEVENT
DTSTART;TZID=America/Kentucky/Louisville:20260721T100000
DTEND;TZID=America/Kentucky/Louisville:20260721T140000
DTSTAMP:20260422T184425
CREATED:20250513T204828Z
LAST-MODIFIED:20250514T173142Z
UID:10001218-1784628000-1784642400@horizonhealthky.org
SUMMARY:Knox County Syringe Exchange
DESCRIPTION:Knox County Health Department (261 Hospital Dr\, Barbourville\, KY 40906\, United States)
URL:https://horizonhealthky.org/event/knox-county-syringe-exchange/2026-07-21/
LOCATION:Knox County Health Department\, 261 Hospital Dr\, Barbourville\, KY\, 40906\, United States
END:VEVENT
BEGIN:VEVENT
DTSTART;TZID=America/Kentucky/Louisville:20260722T080000
DTEND;TZID=America/Kentucky/Louisville:20260722T150000
DTSTAMP:20260422T184425
CREATED:20250513T204428Z
LAST-MODIFIED:20250514T173049Z
UID:10000894-1784707200-1784732400@horizonhealthky.org
SUMMARY:Whitley Syringe Exchange
DESCRIPTION:Whitley County Health Department (368 Penny Ln\, Williamsburg\, KY 40769\, United States)
URL:https://horizonhealthky.org/event/whitley-syringe-exchange/2026-07-22/
LOCATION:Whitley County Health Department\, 368 Penny Ln\, Williamsburg\, KY\, 40769\, United States
END:VEVENT
BEGIN:VEVENT
DTSTART;TZID=America/Kentucky/Louisville:20260723T080000
DTEND;TZID=America/Kentucky/Louisville:20260723T150000
DTSTAMP:20260422T184425
CREATED:20250513T204428Z
LAST-MODIFIED:20250514T173049Z
UID:10000895-1784793600-1784818800@horizonhealthky.org
SUMMARY:Whitley Syringe Exchange
DESCRIPTION:Whitley County Health Department (368 Penny Ln\, Williamsburg\, KY 40769\, United States)
URL:https://horizonhealthky.org/event/whitley-syringe-exchange/2026-07-23/
LOCATION:Whitley County Health Department\, 368 Penny Ln\, Williamsburg\, KY\, 40769\, United States
END:VEVENT
BEGIN:VEVENT
DTSTART;TZID=America/Kentucky/Louisville:20260723T100000
DTEND;TZID=America/Kentucky/Louisville:20260723T140000
DTSTAMP:20260422T184425
CREATED:20250513T204617Z
LAST-MODIFIED:20250514T173119Z
UID:10001061-1784800800-1784815200@horizonhealthky.org
SUMMARY:Laurel County Syringe Exchange
DESCRIPTION:Laurel County Health Department (525 Whitley St\, London\, KY 40741\, United States)
URL:https://horizonhealthky.org/event/laurel-county-syringe-exchange/2026-07-23/
LOCATION:Laurel County Health Department\, 525 Whitley St\, London\, KY\, 40741\, United States
END:VEVENT
END:VCALENDAR