BEGIN:VCALENDAR
VERSION:2.0
PRODID:-//Horizon Health - ECPv6.15.20//NONSGML v1.0//EN
CALSCALE:GREGORIAN
METHOD:PUBLISH
X-ORIGINAL-URL:https://horizonhealthky.org
X-WR-CALDESC:Events for Horizon Health
REFRESH-INTERVAL;VALUE=DURATION:PT1H
X-Robots-Tag:noindex
X-PUBLISHED-TTL:PT1H
BEGIN:VTIMEZONE
TZID:America/Kentucky/Louisville
BEGIN:DAYLIGHT
TZOFFSETFROM:-0500
TZOFFSETTO:-0400
TZNAME:EDT
DTSTART:20250309T070000
END:DAYLIGHT
BEGIN:STANDARD
TZOFFSETFROM:-0400
TZOFFSETTO:-0500
TZNAME:EST
DTSTART:20251102T060000
END:STANDARD
BEGIN:DAYLIGHT
TZOFFSETFROM:-0500
TZOFFSETTO:-0400
TZNAME:EDT
DTSTART:20260308T070000
END:DAYLIGHT
BEGIN:STANDARD
TZOFFSETFROM:-0400
TZOFFSETTO:-0500
TZNAME:EST
DTSTART:20261101T060000
END:STANDARD
BEGIN:DAYLIGHT
TZOFFSETFROM:-0500
TZOFFSETTO:-0400
TZNAME:EDT
DTSTART:20270314T070000
END:DAYLIGHT
BEGIN:STANDARD
TZOFFSETFROM:-0400
TZOFFSETTO:-0500
TZNAME:EST
DTSTART:20271107T060000
END:STANDARD
END:VTIMEZONE
BEGIN:VEVENT
DTSTART;TZID=America/Kentucky/Louisville:20260316T080000
DTEND;TZID=America/Kentucky/Louisville:20260316T150000
DTSTAMP:20260422T184546
CREATED:20250513T204428Z
LAST-MODIFIED:20250514T173049Z
UID:10000820-1773648000-1773673200@horizonhealthky.org
SUMMARY:Whitley Syringe Exchange
DESCRIPTION:Whitley County Health Department (368 Penny Ln\, Williamsburg\, KY 40769\, United States)
URL:https://horizonhealthky.org/event/whitley-syringe-exchange/2026-03-16/
LOCATION:Whitley County Health Department\, 368 Penny Ln\, Williamsburg\, KY\, 40769\, United States
END:VEVENT
BEGIN:VEVENT
DTSTART;TZID=America/Kentucky/Louisville:20260317T080000
DTEND;TZID=America/Kentucky/Louisville:20260317T150000
DTSTAMP:20260422T184546
CREATED:20250513T204428Z
LAST-MODIFIED:20250514T173049Z
UID:10000821-1773734400-1773759600@horizonhealthky.org
SUMMARY:Whitley Syringe Exchange
DESCRIPTION:Whitley County Health Department (368 Penny Ln\, Williamsburg\, KY 40769\, United States)
URL:https://horizonhealthky.org/event/whitley-syringe-exchange/2026-03-17/
LOCATION:Whitley County Health Department\, 368 Penny Ln\, Williamsburg\, KY\, 40769\, United States
END:VEVENT
BEGIN:VEVENT
DTSTART;TZID=America/Kentucky/Louisville:20260317T100000
DTEND;TZID=America/Kentucky/Louisville:20260317T140000
DTSTAMP:20260422T184546
CREATED:20250513T204617Z
LAST-MODIFIED:20250514T173119Z
UID:10001024-1773741600-1773756000@horizonhealthky.org
SUMMARY:Laurel County Syringe Exchange
DESCRIPTION:Laurel County Health Department (525 Whitley St\, London\, KY 40741\, United States)
URL:https://horizonhealthky.org/event/laurel-county-syringe-exchange/2026-03-17/
LOCATION:Laurel County Health Department\, 525 Whitley St\, London\, KY\, 40741\, United States
END:VEVENT
BEGIN:VEVENT
DTSTART;TZID=America/Kentucky/Louisville:20260317T100000
DTEND;TZID=America/Kentucky/Louisville:20260317T140000
DTSTAMP:20260422T184546
CREATED:20250513T204828Z
LAST-MODIFIED:20250514T173142Z
UID:10001182-1773741600-1773756000@horizonhealthky.org
SUMMARY:Knox County Syringe Exchange
DESCRIPTION:Knox County Health Department (261 Hospital Dr\, Barbourville\, KY 40906\, United States)
URL:https://horizonhealthky.org/event/knox-county-syringe-exchange/2026-03-17/
LOCATION:Knox County Health Department\, 261 Hospital Dr\, Barbourville\, KY\, 40906\, United States
END:VEVENT
BEGIN:VEVENT
DTSTART;TZID=America/Kentucky/Louisville:20260318T080000
DTEND;TZID=America/Kentucky/Louisville:20260318T150000
DTSTAMP:20260422T184546
CREATED:20250513T204428Z
LAST-MODIFIED:20250514T173049Z
UID:10000822-1773820800-1773846000@horizonhealthky.org
SUMMARY:Whitley Syringe Exchange
DESCRIPTION:Whitley County Health Department (368 Penny Ln\, Williamsburg\, KY 40769\, United States)
URL:https://horizonhealthky.org/event/whitley-syringe-exchange/2026-03-18/
LOCATION:Whitley County Health Department\, 368 Penny Ln\, Williamsburg\, KY\, 40769\, United States
END:VEVENT
BEGIN:VEVENT
DTSTART;TZID=America/Kentucky/Louisville:20260319T080000
DTEND;TZID=America/Kentucky/Louisville:20260319T150000
DTSTAMP:20260422T184546
CREATED:20250513T204428Z
LAST-MODIFIED:20250514T173049Z
UID:10000823-1773907200-1773932400@horizonhealthky.org
SUMMARY:Whitley Syringe Exchange
DESCRIPTION:Whitley County Health Department (368 Penny Ln\, Williamsburg\, KY 40769\, United States)
URL:https://horizonhealthky.org/event/whitley-syringe-exchange/2026-03-19/
LOCATION:Whitley County Health Department\, 368 Penny Ln\, Williamsburg\, KY\, 40769\, United States
END:VEVENT
BEGIN:VEVENT
DTSTART;TZID=America/Kentucky/Louisville:20260319T100000
DTEND;TZID=America/Kentucky/Louisville:20260319T140000
DTSTAMP:20260422T184546
CREATED:20250513T204617Z
LAST-MODIFIED:20250514T173119Z
UID:10001025-1773914400-1773928800@horizonhealthky.org
SUMMARY:Laurel County Syringe Exchange
DESCRIPTION:Laurel County Health Department (525 Whitley St\, London\, KY 40741\, United States)
URL:https://horizonhealthky.org/event/laurel-county-syringe-exchange/2026-03-19/
LOCATION:Laurel County Health Department\, 525 Whitley St\, London\, KY\, 40741\, United States
END:VEVENT
BEGIN:VEVENT
DTSTART;TZID=America/Kentucky/Louisville:20260319T100000
DTEND;TZID=America/Kentucky/Louisville:20260319T140000
DTSTAMP:20260422T184546
CREATED:20250513T204828Z
LAST-MODIFIED:20250514T173142Z
UID:10001183-1773914400-1773928800@horizonhealthky.org
SUMMARY:Knox County Syringe Exchange
DESCRIPTION:Knox County Health Department (261 Hospital Dr\, Barbourville\, KY 40906\, United States)
URL:https://horizonhealthky.org/event/knox-county-syringe-exchange/2026-03-19/
LOCATION:Knox County Health Department\, 261 Hospital Dr\, Barbourville\, KY\, 40906\, United States
END:VEVENT
BEGIN:VEVENT
DTSTART;TZID=America/Kentucky/Louisville:20260323T080000
DTEND;TZID=America/Kentucky/Louisville:20260323T150000
DTSTAMP:20260422T184546
CREATED:20250513T204428Z
LAST-MODIFIED:20250514T173049Z
UID:10000824-1774252800-1774278000@horizonhealthky.org
SUMMARY:Whitley Syringe Exchange
DESCRIPTION:Whitley County Health Department (368 Penny Ln\, Williamsburg\, KY 40769\, United States)
URL:https://horizonhealthky.org/event/whitley-syringe-exchange/2026-03-23/
LOCATION:Whitley County Health Department\, 368 Penny Ln\, Williamsburg\, KY\, 40769\, United States
END:VEVENT
BEGIN:VEVENT
DTSTART;TZID=America/Kentucky/Louisville:20260324T080000
DTEND;TZID=America/Kentucky/Louisville:20260324T150000
DTSTAMP:20260422T184546
CREATED:20250513T204428Z
LAST-MODIFIED:20250514T173049Z
UID:10000825-1774339200-1774364400@horizonhealthky.org
SUMMARY:Whitley Syringe Exchange
DESCRIPTION:Whitley County Health Department (368 Penny Ln\, Williamsburg\, KY 40769\, United States)
URL:https://horizonhealthky.org/event/whitley-syringe-exchange/2026-03-24/
LOCATION:Whitley County Health Department\, 368 Penny Ln\, Williamsburg\, KY\, 40769\, United States
END:VEVENT
BEGIN:VEVENT
DTSTART;TZID=America/Kentucky/Louisville:20260324T100000
DTEND;TZID=America/Kentucky/Louisville:20260324T140000
DTSTAMP:20260422T184546
CREATED:20250513T204617Z
LAST-MODIFIED:20250514T173119Z
UID:10001026-1774346400-1774360800@horizonhealthky.org
SUMMARY:Laurel County Syringe Exchange
DESCRIPTION:Laurel County Health Department (525 Whitley St\, London\, KY 40741\, United States)
URL:https://horizonhealthky.org/event/laurel-county-syringe-exchange/2026-03-24/
LOCATION:Laurel County Health Department\, 525 Whitley St\, London\, KY\, 40741\, United States
END:VEVENT
BEGIN:VEVENT
DTSTART;TZID=America/Kentucky/Louisville:20260324T100000
DTEND;TZID=America/Kentucky/Louisville:20260324T140000
DTSTAMP:20260422T184546
CREATED:20250513T204828Z
LAST-MODIFIED:20250514T173142Z
UID:10001184-1774346400-1774360800@horizonhealthky.org
SUMMARY:Knox County Syringe Exchange
DESCRIPTION:Knox County Health Department (261 Hospital Dr\, Barbourville\, KY 40906\, United States)
URL:https://horizonhealthky.org/event/knox-county-syringe-exchange/2026-03-24/
LOCATION:Knox County Health Department\, 261 Hospital Dr\, Barbourville\, KY\, 40906\, United States
END:VEVENT
BEGIN:VEVENT
DTSTART;TZID=America/Kentucky/Louisville:20260325T080000
DTEND;TZID=America/Kentucky/Louisville:20260325T150000
DTSTAMP:20260422T184546
CREATED:20250513T204428Z
LAST-MODIFIED:20250514T173049Z
UID:10000826-1774425600-1774450800@horizonhealthky.org
SUMMARY:Whitley Syringe Exchange
DESCRIPTION:Whitley County Health Department (368 Penny Ln\, Williamsburg\, KY 40769\, United States)
URL:https://horizonhealthky.org/event/whitley-syringe-exchange/2026-03-25/
LOCATION:Whitley County Health Department\, 368 Penny Ln\, Williamsburg\, KY\, 40769\, United States
END:VEVENT
BEGIN:VEVENT
DTSTART;TZID=America/Kentucky/Louisville:20260326T080000
DTEND;TZID=America/Kentucky/Louisville:20260326T150000
DTSTAMP:20260422T184546
CREATED:20250513T204428Z
LAST-MODIFIED:20250514T173049Z
UID:10000827-1774512000-1774537200@horizonhealthky.org
SUMMARY:Whitley Syringe Exchange
DESCRIPTION:Whitley County Health Department (368 Penny Ln\, Williamsburg\, KY 40769\, United States)
URL:https://horizonhealthky.org/event/whitley-syringe-exchange/2026-03-26/
LOCATION:Whitley County Health Department\, 368 Penny Ln\, Williamsburg\, KY\, 40769\, United States
END:VEVENT
BEGIN:VEVENT
DTSTART;TZID=America/Kentucky/Louisville:20260326T100000
DTEND;TZID=America/Kentucky/Louisville:20260326T140000
DTSTAMP:20260422T184546
CREATED:20250513T204617Z
LAST-MODIFIED:20250514T173119Z
UID:10001027-1774519200-1774533600@horizonhealthky.org
SUMMARY:Laurel County Syringe Exchange
DESCRIPTION:Laurel County Health Department (525 Whitley St\, London\, KY 40741\, United States)
URL:https://horizonhealthky.org/event/laurel-county-syringe-exchange/2026-03-26/
LOCATION:Laurel County Health Department\, 525 Whitley St\, London\, KY\, 40741\, United States
END:VEVENT
BEGIN:VEVENT
DTSTART;TZID=America/Kentucky/Louisville:20260326T100000
DTEND;TZID=America/Kentucky/Louisville:20260326T140000
DTSTAMP:20260422T184546
CREATED:20250513T204828Z
LAST-MODIFIED:20250514T173142Z
UID:10001185-1774519200-1774533600@horizonhealthky.org
SUMMARY:Knox County Syringe Exchange
DESCRIPTION:Knox County Health Department (261 Hospital Dr\, Barbourville\, KY 40906\, United States)
URL:https://horizonhealthky.org/event/knox-county-syringe-exchange/2026-03-26/
LOCATION:Knox County Health Department\, 261 Hospital Dr\, Barbourville\, KY\, 40906\, United States
END:VEVENT
BEGIN:VEVENT
DTSTART;TZID=America/Kentucky/Louisville:20260330T080000
DTEND;TZID=America/Kentucky/Louisville:20260330T150000
DTSTAMP:20260422T184546
CREATED:20250513T204428Z
LAST-MODIFIED:20250514T173049Z
UID:10000828-1774857600-1774882800@horizonhealthky.org
SUMMARY:Whitley Syringe Exchange
DESCRIPTION:Whitley County Health Department (368 Penny Ln\, Williamsburg\, KY 40769\, United States)
URL:https://horizonhealthky.org/event/whitley-syringe-exchange/2026-03-30/
LOCATION:Whitley County Health Department\, 368 Penny Ln\, Williamsburg\, KY\, 40769\, United States
END:VEVENT
BEGIN:VEVENT
DTSTART;TZID=America/Kentucky/Louisville:20260331T080000
DTEND;TZID=America/Kentucky/Louisville:20260331T150000
DTSTAMP:20260422T184546
CREATED:20250513T204428Z
LAST-MODIFIED:20250514T173049Z
UID:10000829-1774944000-1774969200@horizonhealthky.org
SUMMARY:Whitley Syringe Exchange
DESCRIPTION:Whitley County Health Department (368 Penny Ln\, Williamsburg\, KY 40769\, United States)
URL:https://horizonhealthky.org/event/whitley-syringe-exchange/2026-03-31/
LOCATION:Whitley County Health Department\, 368 Penny Ln\, Williamsburg\, KY\, 40769\, United States
END:VEVENT
BEGIN:VEVENT
DTSTART;TZID=America/Kentucky/Louisville:20260331T100000
DTEND;TZID=America/Kentucky/Louisville:20260331T140000
DTSTAMP:20260422T184546
CREATED:20250513T204617Z
LAST-MODIFIED:20250514T173119Z
UID:10001028-1774951200-1774965600@horizonhealthky.org
SUMMARY:Laurel County Syringe Exchange
DESCRIPTION:Laurel County Health Department (525 Whitley St\, London\, KY 40741\, United States)
URL:https://horizonhealthky.org/event/laurel-county-syringe-exchange/2026-03-31/
LOCATION:Laurel County Health Department\, 525 Whitley St\, London\, KY\, 40741\, United States
END:VEVENT
BEGIN:VEVENT
DTSTART;TZID=America/Kentucky/Louisville:20260331T100000
DTEND;TZID=America/Kentucky/Louisville:20260331T140000
DTSTAMP:20260422T184546
CREATED:20250513T204828Z
LAST-MODIFIED:20250514T173142Z
UID:10001186-1774951200-1774965600@horizonhealthky.org
SUMMARY:Knox County Syringe Exchange
DESCRIPTION:Knox County Health Department (261 Hospital Dr\, Barbourville\, KY 40906\, United States)
URL:https://horizonhealthky.org/event/knox-county-syringe-exchange/2026-03-31/
LOCATION:Knox County Health Department\, 261 Hospital Dr\, Barbourville\, KY\, 40906\, United States
END:VEVENT
BEGIN:VEVENT
DTSTART;TZID=America/Kentucky/Louisville:20260401T080000
DTEND;TZID=America/Kentucky/Louisville:20260401T150000
DTSTAMP:20260422T184546
CREATED:20250513T204428Z
LAST-MODIFIED:20250514T173049Z
UID:10000830-1775030400-1775055600@horizonhealthky.org
SUMMARY:Whitley Syringe Exchange
DESCRIPTION:Whitley County Health Department (368 Penny Ln\, Williamsburg\, KY 40769\, United States)
URL:https://horizonhealthky.org/event/whitley-syringe-exchange/2026-04-01/
LOCATION:Whitley County Health Department\, 368 Penny Ln\, Williamsburg\, KY\, 40769\, United States
END:VEVENT
BEGIN:VEVENT
DTSTART;TZID=America/Kentucky/Louisville:20260402T080000
DTEND;TZID=America/Kentucky/Louisville:20260402T150000
DTSTAMP:20260422T184546
CREATED:20250513T204428Z
LAST-MODIFIED:20250514T173049Z
UID:10000831-1775116800-1775142000@horizonhealthky.org
SUMMARY:Whitley Syringe Exchange
DESCRIPTION:Whitley County Health Department (368 Penny Ln\, Williamsburg\, KY 40769\, United States)
URL:https://horizonhealthky.org/event/whitley-syringe-exchange/2026-04-02/
LOCATION:Whitley County Health Department\, 368 Penny Ln\, Williamsburg\, KY\, 40769\, United States
END:VEVENT
BEGIN:VEVENT
DTSTART;TZID=America/Kentucky/Louisville:20260402T100000
DTEND;TZID=America/Kentucky/Louisville:20260402T140000
DTSTAMP:20260422T184546
CREATED:20250513T204617Z
LAST-MODIFIED:20250514T173119Z
UID:10001029-1775124000-1775138400@horizonhealthky.org
SUMMARY:Laurel County Syringe Exchange
DESCRIPTION:Laurel County Health Department (525 Whitley St\, London\, KY 40741\, United States)
URL:https://horizonhealthky.org/event/laurel-county-syringe-exchange/2026-04-02/
LOCATION:Laurel County Health Department\, 525 Whitley St\, London\, KY\, 40741\, United States
END:VEVENT
BEGIN:VEVENT
DTSTART;TZID=America/Kentucky/Louisville:20260402T100000
DTEND;TZID=America/Kentucky/Louisville:20260402T140000
DTSTAMP:20260422T184546
CREATED:20250513T204828Z
LAST-MODIFIED:20250514T173142Z
UID:10001187-1775124000-1775138400@horizonhealthky.org
SUMMARY:Knox County Syringe Exchange
DESCRIPTION:Knox County Health Department (261 Hospital Dr\, Barbourville\, KY 40906\, United States)
URL:https://horizonhealthky.org/event/knox-county-syringe-exchange/2026-04-02/
LOCATION:Knox County Health Department\, 261 Hospital Dr\, Barbourville\, KY\, 40906\, United States
END:VEVENT
BEGIN:VEVENT
DTSTART;TZID=America/Kentucky/Louisville:20260406T080000
DTEND;TZID=America/Kentucky/Louisville:20260406T150000
DTSTAMP:20260422T184546
CREATED:20250513T204428Z
LAST-MODIFIED:20250514T173049Z
UID:10000832-1775462400-1775487600@horizonhealthky.org
SUMMARY:Whitley Syringe Exchange
DESCRIPTION:Whitley County Health Department (368 Penny Ln\, Williamsburg\, KY 40769\, United States)
URL:https://horizonhealthky.org/event/whitley-syringe-exchange/2026-04-06/
LOCATION:Whitley County Health Department\, 368 Penny Ln\, Williamsburg\, KY\, 40769\, United States
END:VEVENT
BEGIN:VEVENT
DTSTART;TZID=America/Kentucky/Louisville:20260407T080000
DTEND;TZID=America/Kentucky/Louisville:20260407T150000
DTSTAMP:20260422T184546
CREATED:20250513T204428Z
LAST-MODIFIED:20250514T173049Z
UID:10000833-1775548800-1775574000@horizonhealthky.org
SUMMARY:Whitley Syringe Exchange
DESCRIPTION:Whitley County Health Department (368 Penny Ln\, Williamsburg\, KY 40769\, United States)
URL:https://horizonhealthky.org/event/whitley-syringe-exchange/2026-04-07/
LOCATION:Whitley County Health Department\, 368 Penny Ln\, Williamsburg\, KY\, 40769\, United States
END:VEVENT
BEGIN:VEVENT
DTSTART;TZID=America/Kentucky/Louisville:20260407T100000
DTEND;TZID=America/Kentucky/Louisville:20260407T140000
DTSTAMP:20260422T184546
CREATED:20250513T204617Z
LAST-MODIFIED:20250514T173119Z
UID:10001030-1775556000-1775570400@horizonhealthky.org
SUMMARY:Laurel County Syringe Exchange
DESCRIPTION:Laurel County Health Department (525 Whitley St\, London\, KY 40741\, United States)
URL:https://horizonhealthky.org/event/laurel-county-syringe-exchange/2026-04-07/
LOCATION:Laurel County Health Department\, 525 Whitley St\, London\, KY\, 40741\, United States
END:VEVENT
BEGIN:VEVENT
DTSTART;TZID=America/Kentucky/Louisville:20260407T100000
DTEND;TZID=America/Kentucky/Louisville:20260407T140000
DTSTAMP:20260422T184546
CREATED:20250513T204828Z
LAST-MODIFIED:20250514T173142Z
UID:10001188-1775556000-1775570400@horizonhealthky.org
SUMMARY:Knox County Syringe Exchange
DESCRIPTION:Knox County Health Department (261 Hospital Dr\, Barbourville\, KY 40906\, United States)
URL:https://horizonhealthky.org/event/knox-county-syringe-exchange/2026-04-07/
LOCATION:Knox County Health Department\, 261 Hospital Dr\, Barbourville\, KY\, 40906\, United States
END:VEVENT
BEGIN:VEVENT
DTSTART;TZID=America/Kentucky/Louisville:20260408T080000
DTEND;TZID=America/Kentucky/Louisville:20260408T150000
DTSTAMP:20260422T184546
CREATED:20250513T204428Z
LAST-MODIFIED:20250514T173049Z
UID:10000834-1775635200-1775660400@horizonhealthky.org
SUMMARY:Whitley Syringe Exchange
DESCRIPTION:Whitley County Health Department (368 Penny Ln\, Williamsburg\, KY 40769\, United States)
URL:https://horizonhealthky.org/event/whitley-syringe-exchange/2026-04-08/
LOCATION:Whitley County Health Department\, 368 Penny Ln\, Williamsburg\, KY\, 40769\, United States
END:VEVENT
BEGIN:VEVENT
DTSTART;TZID=America/Kentucky/Louisville:20260409T080000
DTEND;TZID=America/Kentucky/Louisville:20260409T150000
DTSTAMP:20260422T184546
CREATED:20250513T204428Z
LAST-MODIFIED:20250514T173049Z
UID:10000835-1775721600-1775746800@horizonhealthky.org
SUMMARY:Whitley Syringe Exchange
DESCRIPTION:Whitley County Health Department (368 Penny Ln\, Williamsburg\, KY 40769\, United States)
URL:https://horizonhealthky.org/event/whitley-syringe-exchange/2026-04-09/
LOCATION:Whitley County Health Department\, 368 Penny Ln\, Williamsburg\, KY\, 40769\, United States
END:VEVENT
END:VCALENDAR