BEGIN:VCALENDAR
VERSION:2.0
PRODID:-//Horizon Health - ECPv6.15.20//NONSGML v1.0//EN
CALSCALE:GREGORIAN
METHOD:PUBLISH
X-WR-CALNAME:Horizon Health
X-ORIGINAL-URL:https://horizonhealthky.org
X-WR-CALDESC:Events for Horizon Health
REFRESH-INTERVAL;VALUE=DURATION:PT1H
X-Robots-Tag:noindex
X-PUBLISHED-TTL:PT1H
BEGIN:VTIMEZONE
TZID:America/Kentucky/Louisville
BEGIN:DAYLIGHT
TZOFFSETFROM:-0500
TZOFFSETTO:-0400
TZNAME:EDT
DTSTART:20250309T070000
END:DAYLIGHT
BEGIN:STANDARD
TZOFFSETFROM:-0400
TZOFFSETTO:-0500
TZNAME:EST
DTSTART:20251102T060000
END:STANDARD
BEGIN:DAYLIGHT
TZOFFSETFROM:-0500
TZOFFSETTO:-0400
TZNAME:EDT
DTSTART:20260308T070000
END:DAYLIGHT
BEGIN:STANDARD
TZOFFSETFROM:-0400
TZOFFSETTO:-0500
TZNAME:EST
DTSTART:20261101T060000
END:STANDARD
BEGIN:DAYLIGHT
TZOFFSETFROM:-0500
TZOFFSETTO:-0400
TZNAME:EDT
DTSTART:20270314T070000
END:DAYLIGHT
BEGIN:STANDARD
TZOFFSETFROM:-0400
TZOFFSETTO:-0500
TZNAME:EST
DTSTART:20271107T060000
END:STANDARD
END:VTIMEZONE
BEGIN:VEVENT
DTSTART;TZID=America/Kentucky/Louisville:20260616T080000
DTEND;TZID=America/Kentucky/Louisville:20260616T150000
DTSTAMP:20260422T184225
CREATED:20250513T204428Z
LAST-MODIFIED:20250514T173049Z
UID:10000873-1781596800-1781622000@horizonhealthky.org
SUMMARY:Whitley Syringe Exchange
DESCRIPTION:Whitley County Health Department (368 Penny Ln\, Williamsburg\, KY 40769\, United States)
URL:https://horizonhealthky.org/event/whitley-syringe-exchange/2026-06-16/
LOCATION:Whitley County Health Department\, 368 Penny Ln\, Williamsburg\, KY\, 40769\, United States
END:VEVENT
BEGIN:VEVENT
DTSTART;TZID=America/Kentucky/Louisville:20260616T100000
DTEND;TZID=America/Kentucky/Louisville:20260616T140000
DTSTAMP:20260422T184225
CREATED:20250513T204617Z
LAST-MODIFIED:20250514T173119Z
UID:10001050-1781604000-1781618400@horizonhealthky.org
SUMMARY:Laurel County Syringe Exchange
DESCRIPTION:Laurel County Health Department (525 Whitley St\, London\, KY 40741\, United States)
URL:https://horizonhealthky.org/event/laurel-county-syringe-exchange/2026-06-16/
LOCATION:Laurel County Health Department\, 525 Whitley St\, London\, KY\, 40741\, United States
END:VEVENT
BEGIN:VEVENT
DTSTART;TZID=America/Kentucky/Louisville:20260616T100000
DTEND;TZID=America/Kentucky/Louisville:20260616T140000
DTSTAMP:20260422T184225
CREATED:20250513T204828Z
LAST-MODIFIED:20250514T173142Z
UID:10001208-1781604000-1781618400@horizonhealthky.org
SUMMARY:Knox County Syringe Exchange
DESCRIPTION:Knox County Health Department (261 Hospital Dr\, Barbourville\, KY 40906\, United States)
URL:https://horizonhealthky.org/event/knox-county-syringe-exchange/2026-06-16/
LOCATION:Knox County Health Department\, 261 Hospital Dr\, Barbourville\, KY\, 40906\, United States
END:VEVENT
BEGIN:VEVENT
DTSTART;TZID=America/Kentucky/Louisville:20260617T080000
DTEND;TZID=America/Kentucky/Louisville:20260617T150000
DTSTAMP:20260422T184225
CREATED:20250513T204428Z
LAST-MODIFIED:20250514T173049Z
UID:10000874-1781683200-1781708400@horizonhealthky.org
SUMMARY:Whitley Syringe Exchange
DESCRIPTION:Whitley County Health Department (368 Penny Ln\, Williamsburg\, KY 40769\, United States)
URL:https://horizonhealthky.org/event/whitley-syringe-exchange/2026-06-17/
LOCATION:Whitley County Health Department\, 368 Penny Ln\, Williamsburg\, KY\, 40769\, United States
END:VEVENT
BEGIN:VEVENT
DTSTART;TZID=America/Kentucky/Louisville:20260618T080000
DTEND;TZID=America/Kentucky/Louisville:20260618T150000
DTSTAMP:20260422T184225
CREATED:20250513T204428Z
LAST-MODIFIED:20250514T173049Z
UID:10000875-1781769600-1781794800@horizonhealthky.org
SUMMARY:Whitley Syringe Exchange
DESCRIPTION:Whitley County Health Department (368 Penny Ln\, Williamsburg\, KY 40769\, United States)
URL:https://horizonhealthky.org/event/whitley-syringe-exchange/2026-06-18/
LOCATION:Whitley County Health Department\, 368 Penny Ln\, Williamsburg\, KY\, 40769\, United States
END:VEVENT
BEGIN:VEVENT
DTSTART;TZID=America/Kentucky/Louisville:20260618T100000
DTEND;TZID=America/Kentucky/Louisville:20260618T140000
DTSTAMP:20260422T184225
CREATED:20250513T204617Z
LAST-MODIFIED:20250514T173119Z
UID:10001051-1781776800-1781791200@horizonhealthky.org
SUMMARY:Laurel County Syringe Exchange
DESCRIPTION:Laurel County Health Department (525 Whitley St\, London\, KY 40741\, United States)
URL:https://horizonhealthky.org/event/laurel-county-syringe-exchange/2026-06-18/
LOCATION:Laurel County Health Department\, 525 Whitley St\, London\, KY\, 40741\, United States
END:VEVENT
BEGIN:VEVENT
DTSTART;TZID=America/Kentucky/Louisville:20260618T100000
DTEND;TZID=America/Kentucky/Louisville:20260618T140000
DTSTAMP:20260422T184225
CREATED:20250513T204828Z
LAST-MODIFIED:20250514T173142Z
UID:10001209-1781776800-1781791200@horizonhealthky.org
SUMMARY:Knox County Syringe Exchange
DESCRIPTION:Knox County Health Department (261 Hospital Dr\, Barbourville\, KY 40906\, United States)
URL:https://horizonhealthky.org/event/knox-county-syringe-exchange/2026-06-18/
LOCATION:Knox County Health Department\, 261 Hospital Dr\, Barbourville\, KY\, 40906\, United States
END:VEVENT
BEGIN:VEVENT
DTSTART;TZID=America/Kentucky/Louisville:20260622T080000
DTEND;TZID=America/Kentucky/Louisville:20260622T150000
DTSTAMP:20260422T184225
CREATED:20250513T204428Z
LAST-MODIFIED:20250514T173049Z
UID:10000876-1782115200-1782140400@horizonhealthky.org
SUMMARY:Whitley Syringe Exchange
DESCRIPTION:Whitley County Health Department (368 Penny Ln\, Williamsburg\, KY 40769\, United States)
URL:https://horizonhealthky.org/event/whitley-syringe-exchange/2026-06-22/
LOCATION:Whitley County Health Department\, 368 Penny Ln\, Williamsburg\, KY\, 40769\, United States
END:VEVENT
BEGIN:VEVENT
DTSTART;TZID=America/Kentucky/Louisville:20260623T080000
DTEND;TZID=America/Kentucky/Louisville:20260623T150000
DTSTAMP:20260422T184225
CREATED:20250513T204428Z
LAST-MODIFIED:20250514T173049Z
UID:10000877-1782201600-1782226800@horizonhealthky.org
SUMMARY:Whitley Syringe Exchange
DESCRIPTION:Whitley County Health Department (368 Penny Ln\, Williamsburg\, KY 40769\, United States)
URL:https://horizonhealthky.org/event/whitley-syringe-exchange/2026-06-23/
LOCATION:Whitley County Health Department\, 368 Penny Ln\, Williamsburg\, KY\, 40769\, United States
END:VEVENT
BEGIN:VEVENT
DTSTART;TZID=America/Kentucky/Louisville:20260623T100000
DTEND;TZID=America/Kentucky/Louisville:20260623T140000
DTSTAMP:20260422T184225
CREATED:20250513T204617Z
LAST-MODIFIED:20250514T173119Z
UID:10001052-1782208800-1782223200@horizonhealthky.org
SUMMARY:Laurel County Syringe Exchange
DESCRIPTION:Laurel County Health Department (525 Whitley St\, London\, KY 40741\, United States)
URL:https://horizonhealthky.org/event/laurel-county-syringe-exchange/2026-06-23/
LOCATION:Laurel County Health Department\, 525 Whitley St\, London\, KY\, 40741\, United States
END:VEVENT
BEGIN:VEVENT
DTSTART;TZID=America/Kentucky/Louisville:20260623T100000
DTEND;TZID=America/Kentucky/Louisville:20260623T140000
DTSTAMP:20260422T184225
CREATED:20250513T204828Z
LAST-MODIFIED:20250514T173142Z
UID:10001210-1782208800-1782223200@horizonhealthky.org
SUMMARY:Knox County Syringe Exchange
DESCRIPTION:Knox County Health Department (261 Hospital Dr\, Barbourville\, KY 40906\, United States)
URL:https://horizonhealthky.org/event/knox-county-syringe-exchange/2026-06-23/
LOCATION:Knox County Health Department\, 261 Hospital Dr\, Barbourville\, KY\, 40906\, United States
END:VEVENT
BEGIN:VEVENT
DTSTART;TZID=America/Kentucky/Louisville:20260624T080000
DTEND;TZID=America/Kentucky/Louisville:20260624T150000
DTSTAMP:20260422T184225
CREATED:20250513T204428Z
LAST-MODIFIED:20250514T173049Z
UID:10000878-1782288000-1782313200@horizonhealthky.org
SUMMARY:Whitley Syringe Exchange
DESCRIPTION:Whitley County Health Department (368 Penny Ln\, Williamsburg\, KY 40769\, United States)
URL:https://horizonhealthky.org/event/whitley-syringe-exchange/2026-06-24/
LOCATION:Whitley County Health Department\, 368 Penny Ln\, Williamsburg\, KY\, 40769\, United States
END:VEVENT
BEGIN:VEVENT
DTSTART;TZID=America/Kentucky/Louisville:20260625T080000
DTEND;TZID=America/Kentucky/Louisville:20260625T150000
DTSTAMP:20260422T184225
CREATED:20250513T204428Z
LAST-MODIFIED:20250514T173049Z
UID:10000879-1782374400-1782399600@horizonhealthky.org
SUMMARY:Whitley Syringe Exchange
DESCRIPTION:Whitley County Health Department (368 Penny Ln\, Williamsburg\, KY 40769\, United States)
URL:https://horizonhealthky.org/event/whitley-syringe-exchange/2026-06-25/
LOCATION:Whitley County Health Department\, 368 Penny Ln\, Williamsburg\, KY\, 40769\, United States
END:VEVENT
BEGIN:VEVENT
DTSTART;TZID=America/Kentucky/Louisville:20260625T100000
DTEND;TZID=America/Kentucky/Louisville:20260625T140000
DTSTAMP:20260422T184225
CREATED:20250513T204617Z
LAST-MODIFIED:20250514T173119Z
UID:10001053-1782381600-1782396000@horizonhealthky.org
SUMMARY:Laurel County Syringe Exchange
DESCRIPTION:Laurel County Health Department (525 Whitley St\, London\, KY 40741\, United States)
URL:https://horizonhealthky.org/event/laurel-county-syringe-exchange/2026-06-25/
LOCATION:Laurel County Health Department\, 525 Whitley St\, London\, KY\, 40741\, United States
END:VEVENT
BEGIN:VEVENT
DTSTART;TZID=America/Kentucky/Louisville:20260625T100000
DTEND;TZID=America/Kentucky/Louisville:20260625T140000
DTSTAMP:20260422T184225
CREATED:20250513T204828Z
LAST-MODIFIED:20250514T173142Z
UID:10001211-1782381600-1782396000@horizonhealthky.org
SUMMARY:Knox County Syringe Exchange
DESCRIPTION:Knox County Health Department (261 Hospital Dr\, Barbourville\, KY 40906\, United States)
URL:https://horizonhealthky.org/event/knox-county-syringe-exchange/2026-06-25/
LOCATION:Knox County Health Department\, 261 Hospital Dr\, Barbourville\, KY\, 40906\, United States
END:VEVENT
BEGIN:VEVENT
DTSTART;TZID=America/Kentucky/Louisville:20260629T080000
DTEND;TZID=America/Kentucky/Louisville:20260629T150000
DTSTAMP:20260422T184225
CREATED:20250513T204428Z
LAST-MODIFIED:20250514T173049Z
UID:10000880-1782720000-1782745200@horizonhealthky.org
SUMMARY:Whitley Syringe Exchange
DESCRIPTION:Whitley County Health Department (368 Penny Ln\, Williamsburg\, KY 40769\, United States)
URL:https://horizonhealthky.org/event/whitley-syringe-exchange/2026-06-29/
LOCATION:Whitley County Health Department\, 368 Penny Ln\, Williamsburg\, KY\, 40769\, United States
END:VEVENT
BEGIN:VEVENT
DTSTART;TZID=America/Kentucky/Louisville:20260630T080000
DTEND;TZID=America/Kentucky/Louisville:20260630T150000
DTSTAMP:20260422T184225
CREATED:20250513T204428Z
LAST-MODIFIED:20250514T173049Z
UID:10000881-1782806400-1782831600@horizonhealthky.org
SUMMARY:Whitley Syringe Exchange
DESCRIPTION:Whitley County Health Department (368 Penny Ln\, Williamsburg\, KY 40769\, United States)
URL:https://horizonhealthky.org/event/whitley-syringe-exchange/2026-06-30/
LOCATION:Whitley County Health Department\, 368 Penny Ln\, Williamsburg\, KY\, 40769\, United States
END:VEVENT
BEGIN:VEVENT
DTSTART;TZID=America/Kentucky/Louisville:20260630T100000
DTEND;TZID=America/Kentucky/Louisville:20260630T140000
DTSTAMP:20260422T184225
CREATED:20250513T204617Z
LAST-MODIFIED:20250514T173119Z
UID:10001054-1782813600-1782828000@horizonhealthky.org
SUMMARY:Laurel County Syringe Exchange
DESCRIPTION:Laurel County Health Department (525 Whitley St\, London\, KY 40741\, United States)
URL:https://horizonhealthky.org/event/laurel-county-syringe-exchange/2026-06-30/
LOCATION:Laurel County Health Department\, 525 Whitley St\, London\, KY\, 40741\, United States
END:VEVENT
BEGIN:VEVENT
DTSTART;TZID=America/Kentucky/Louisville:20260630T100000
DTEND;TZID=America/Kentucky/Louisville:20260630T140000
DTSTAMP:20260422T184225
CREATED:20250513T204828Z
LAST-MODIFIED:20250514T173142Z
UID:10001212-1782813600-1782828000@horizonhealthky.org
SUMMARY:Knox County Syringe Exchange
DESCRIPTION:Knox County Health Department (261 Hospital Dr\, Barbourville\, KY 40906\, United States)
URL:https://horizonhealthky.org/event/knox-county-syringe-exchange/2026-06-30/
LOCATION:Knox County Health Department\, 261 Hospital Dr\, Barbourville\, KY\, 40906\, United States
END:VEVENT
BEGIN:VEVENT
DTSTART;TZID=America/Kentucky/Louisville:20260701T080000
DTEND;TZID=America/Kentucky/Louisville:20260701T150000
DTSTAMP:20260422T184225
CREATED:20250513T204428Z
LAST-MODIFIED:20250514T173049Z
UID:10000882-1782892800-1782918000@horizonhealthky.org
SUMMARY:Whitley Syringe Exchange
DESCRIPTION:Whitley County Health Department (368 Penny Ln\, Williamsburg\, KY 40769\, United States)
URL:https://horizonhealthky.org/event/whitley-syringe-exchange/2026-07-01/
LOCATION:Whitley County Health Department\, 368 Penny Ln\, Williamsburg\, KY\, 40769\, United States
END:VEVENT
BEGIN:VEVENT
DTSTART;TZID=America/Kentucky/Louisville:20260702T080000
DTEND;TZID=America/Kentucky/Louisville:20260702T150000
DTSTAMP:20260422T184225
CREATED:20250513T204428Z
LAST-MODIFIED:20250514T173049Z
UID:10000883-1782979200-1783004400@horizonhealthky.org
SUMMARY:Whitley Syringe Exchange
DESCRIPTION:Whitley County Health Department (368 Penny Ln\, Williamsburg\, KY 40769\, United States)
URL:https://horizonhealthky.org/event/whitley-syringe-exchange/2026-07-02/
LOCATION:Whitley County Health Department\, 368 Penny Ln\, Williamsburg\, KY\, 40769\, United States
END:VEVENT
BEGIN:VEVENT
DTSTART;TZID=America/Kentucky/Louisville:20260702T100000
DTEND;TZID=America/Kentucky/Louisville:20260702T140000
DTSTAMP:20260422T184225
CREATED:20250513T204617Z
LAST-MODIFIED:20250514T173119Z
UID:10001055-1782986400-1783000800@horizonhealthky.org
SUMMARY:Laurel County Syringe Exchange
DESCRIPTION:Laurel County Health Department (525 Whitley St\, London\, KY 40741\, United States)
URL:https://horizonhealthky.org/event/laurel-county-syringe-exchange/2026-07-02/
LOCATION:Laurel County Health Department\, 525 Whitley St\, London\, KY\, 40741\, United States
END:VEVENT
BEGIN:VEVENT
DTSTART;TZID=America/Kentucky/Louisville:20260702T100000
DTEND;TZID=America/Kentucky/Louisville:20260702T140000
DTSTAMP:20260422T184225
CREATED:20250513T204828Z
LAST-MODIFIED:20250514T173142Z
UID:10001213-1782986400-1783000800@horizonhealthky.org
SUMMARY:Knox County Syringe Exchange
DESCRIPTION:Knox County Health Department (261 Hospital Dr\, Barbourville\, KY 40906\, United States)
URL:https://horizonhealthky.org/event/knox-county-syringe-exchange/2026-07-02/
LOCATION:Knox County Health Department\, 261 Hospital Dr\, Barbourville\, KY\, 40906\, United States
END:VEVENT
BEGIN:VEVENT
DTSTART;TZID=America/Kentucky/Louisville:20260706T080000
DTEND;TZID=America/Kentucky/Louisville:20260706T150000
DTSTAMP:20260422T184225
CREATED:20250513T204428Z
LAST-MODIFIED:20250514T173049Z
UID:10000884-1783324800-1783350000@horizonhealthky.org
SUMMARY:Whitley Syringe Exchange
DESCRIPTION:Whitley County Health Department (368 Penny Ln\, Williamsburg\, KY 40769\, United States)
URL:https://horizonhealthky.org/event/whitley-syringe-exchange/2026-07-06/
LOCATION:Whitley County Health Department\, 368 Penny Ln\, Williamsburg\, KY\, 40769\, United States
END:VEVENT
BEGIN:VEVENT
DTSTART;TZID=America/Kentucky/Louisville:20260707T080000
DTEND;TZID=America/Kentucky/Louisville:20260707T150000
DTSTAMP:20260422T184225
CREATED:20250513T204428Z
LAST-MODIFIED:20250514T173049Z
UID:10000885-1783411200-1783436400@horizonhealthky.org
SUMMARY:Whitley Syringe Exchange
DESCRIPTION:Whitley County Health Department (368 Penny Ln\, Williamsburg\, KY 40769\, United States)
URL:https://horizonhealthky.org/event/whitley-syringe-exchange/2026-07-07/
LOCATION:Whitley County Health Department\, 368 Penny Ln\, Williamsburg\, KY\, 40769\, United States
END:VEVENT
BEGIN:VEVENT
DTSTART;TZID=America/Kentucky/Louisville:20260707T100000
DTEND;TZID=America/Kentucky/Louisville:20260707T140000
DTSTAMP:20260422T184225
CREATED:20250513T204617Z
LAST-MODIFIED:20250514T173119Z
UID:10001056-1783418400-1783432800@horizonhealthky.org
SUMMARY:Laurel County Syringe Exchange
DESCRIPTION:Laurel County Health Department (525 Whitley St\, London\, KY 40741\, United States)
URL:https://horizonhealthky.org/event/laurel-county-syringe-exchange/2026-07-07/
LOCATION:Laurel County Health Department\, 525 Whitley St\, London\, KY\, 40741\, United States
END:VEVENT
BEGIN:VEVENT
DTSTART;TZID=America/Kentucky/Louisville:20260707T100000
DTEND;TZID=America/Kentucky/Louisville:20260707T140000
DTSTAMP:20260422T184225
CREATED:20250513T204828Z
LAST-MODIFIED:20250514T173142Z
UID:10001214-1783418400-1783432800@horizonhealthky.org
SUMMARY:Knox County Syringe Exchange
DESCRIPTION:Knox County Health Department (261 Hospital Dr\, Barbourville\, KY 40906\, United States)
URL:https://horizonhealthky.org/event/knox-county-syringe-exchange/2026-07-07/
LOCATION:Knox County Health Department\, 261 Hospital Dr\, Barbourville\, KY\, 40906\, United States
END:VEVENT
BEGIN:VEVENT
DTSTART;TZID=America/Kentucky/Louisville:20260708T080000
DTEND;TZID=America/Kentucky/Louisville:20260708T150000
DTSTAMP:20260422T184225
CREATED:20250513T204428Z
LAST-MODIFIED:20250514T173049Z
UID:10000886-1783497600-1783522800@horizonhealthky.org
SUMMARY:Whitley Syringe Exchange
DESCRIPTION:Whitley County Health Department (368 Penny Ln\, Williamsburg\, KY 40769\, United States)
URL:https://horizonhealthky.org/event/whitley-syringe-exchange/2026-07-08/
LOCATION:Whitley County Health Department\, 368 Penny Ln\, Williamsburg\, KY\, 40769\, United States
END:VEVENT
BEGIN:VEVENT
DTSTART;TZID=America/Kentucky/Louisville:20260709T080000
DTEND;TZID=America/Kentucky/Louisville:20260709T150000
DTSTAMP:20260422T184225
CREATED:20250513T204428Z
LAST-MODIFIED:20250514T173049Z
UID:10000887-1783584000-1783609200@horizonhealthky.org
SUMMARY:Whitley Syringe Exchange
DESCRIPTION:Whitley County Health Department (368 Penny Ln\, Williamsburg\, KY 40769\, United States)
URL:https://horizonhealthky.org/event/whitley-syringe-exchange/2026-07-09/
LOCATION:Whitley County Health Department\, 368 Penny Ln\, Williamsburg\, KY\, 40769\, United States
END:VEVENT
BEGIN:VEVENT
DTSTART;TZID=America/Kentucky/Louisville:20260709T100000
DTEND;TZID=America/Kentucky/Louisville:20260709T140000
DTSTAMP:20260422T184225
CREATED:20250513T204617Z
LAST-MODIFIED:20250514T173119Z
UID:10001057-1783591200-1783605600@horizonhealthky.org
SUMMARY:Laurel County Syringe Exchange
DESCRIPTION:Laurel County Health Department (525 Whitley St\, London\, KY 40741\, United States)
URL:https://horizonhealthky.org/event/laurel-county-syringe-exchange/2026-07-09/
LOCATION:Laurel County Health Department\, 525 Whitley St\, London\, KY\, 40741\, United States
END:VEVENT
END:VCALENDAR