BEGIN:VCALENDAR
VERSION:2.0
PRODID:-//Horizon Health - ECPv6.15.20//NONSGML v1.0//EN
CALSCALE:GREGORIAN
METHOD:PUBLISH
X-WR-CALNAME:Horizon Health
X-ORIGINAL-URL:https://horizonhealthky.org
X-WR-CALDESC:Events for Horizon Health
REFRESH-INTERVAL;VALUE=DURATION:PT1H
X-Robots-Tag:noindex
X-PUBLISHED-TTL:PT1H
BEGIN:VTIMEZONE
TZID:America/Kentucky/Louisville
BEGIN:DAYLIGHT
TZOFFSETFROM:-0500
TZOFFSETTO:-0400
TZNAME:EDT
DTSTART:20250309T070000
END:DAYLIGHT
BEGIN:STANDARD
TZOFFSETFROM:-0400
TZOFFSETTO:-0500
TZNAME:EST
DTSTART:20251102T060000
END:STANDARD
BEGIN:DAYLIGHT
TZOFFSETFROM:-0500
TZOFFSETTO:-0400
TZNAME:EDT
DTSTART:20260308T070000
END:DAYLIGHT
BEGIN:STANDARD
TZOFFSETFROM:-0400
TZOFFSETTO:-0500
TZNAME:EST
DTSTART:20261101T060000
END:STANDARD
BEGIN:DAYLIGHT
TZOFFSETFROM:-0500
TZOFFSETTO:-0400
TZNAME:EDT
DTSTART:20270314T070000
END:DAYLIGHT
BEGIN:STANDARD
TZOFFSETFROM:-0400
TZOFFSETTO:-0500
TZNAME:EST
DTSTART:20271107T060000
END:STANDARD
END:VTIMEZONE
BEGIN:VEVENT
DTSTART;TZID=America/Kentucky/Louisville:20260525T080000
DTEND;TZID=America/Kentucky/Louisville:20260525T150000
DTSTAMP:20260422T183338
CREATED:20250513T204428Z
LAST-MODIFIED:20250514T173049Z
UID:10000860-1779696000-1779721200@horizonhealthky.org
SUMMARY:Whitley Syringe Exchange
DESCRIPTION:Whitley County Health Department (368 Penny Ln\, Williamsburg\, KY 40769\, United States)
URL:https://horizonhealthky.org/event/whitley-syringe-exchange/2026-05-25/
LOCATION:Whitley County Health Department\, 368 Penny Ln\, Williamsburg\, KY\, 40769\, United States
END:VEVENT
BEGIN:VEVENT
DTSTART;TZID=America/Kentucky/Louisville:20260526T080000
DTEND;TZID=America/Kentucky/Louisville:20260526T150000
DTSTAMP:20260422T183338
CREATED:20250513T204428Z
LAST-MODIFIED:20250514T173049Z
UID:10000861-1779782400-1779807600@horizonhealthky.org
SUMMARY:Whitley Syringe Exchange
DESCRIPTION:Whitley County Health Department (368 Penny Ln\, Williamsburg\, KY 40769\, United States)
URL:https://horizonhealthky.org/event/whitley-syringe-exchange/2026-05-26/
LOCATION:Whitley County Health Department\, 368 Penny Ln\, Williamsburg\, KY\, 40769\, United States
END:VEVENT
BEGIN:VEVENT
DTSTART;TZID=America/Kentucky/Louisville:20260526T100000
DTEND;TZID=America/Kentucky/Louisville:20260526T140000
DTSTAMP:20260422T183338
CREATED:20250513T204617Z
LAST-MODIFIED:20250514T173119Z
UID:10001044-1779789600-1779804000@horizonhealthky.org
SUMMARY:Laurel County Syringe Exchange
DESCRIPTION:Laurel County Health Department (525 Whitley St\, London\, KY 40741\, United States)
URL:https://horizonhealthky.org/event/laurel-county-syringe-exchange/2026-05-26/
LOCATION:Laurel County Health Department\, 525 Whitley St\, London\, KY\, 40741\, United States
END:VEVENT
BEGIN:VEVENT
DTSTART;TZID=America/Kentucky/Louisville:20260526T100000
DTEND;TZID=America/Kentucky/Louisville:20260526T140000
DTSTAMP:20260422T183338
CREATED:20250513T204828Z
LAST-MODIFIED:20250514T173142Z
UID:10001202-1779789600-1779804000@horizonhealthky.org
SUMMARY:Knox County Syringe Exchange
DESCRIPTION:Knox County Health Department (261 Hospital Dr\, Barbourville\, KY 40906\, United States)
URL:https://horizonhealthky.org/event/knox-county-syringe-exchange/2026-05-26/
LOCATION:Knox County Health Department\, 261 Hospital Dr\, Barbourville\, KY\, 40906\, United States
END:VEVENT
BEGIN:VEVENT
DTSTART;TZID=America/Kentucky/Louisville:20260527T080000
DTEND;TZID=America/Kentucky/Louisville:20260527T150000
DTSTAMP:20260422T183338
CREATED:20250513T204428Z
LAST-MODIFIED:20250514T173049Z
UID:10000862-1779868800-1779894000@horizonhealthky.org
SUMMARY:Whitley Syringe Exchange
DESCRIPTION:Whitley County Health Department (368 Penny Ln\, Williamsburg\, KY 40769\, United States)
URL:https://horizonhealthky.org/event/whitley-syringe-exchange/2026-05-27/
LOCATION:Whitley County Health Department\, 368 Penny Ln\, Williamsburg\, KY\, 40769\, United States
END:VEVENT
BEGIN:VEVENT
DTSTART;TZID=America/Kentucky/Louisville:20260528T080000
DTEND;TZID=America/Kentucky/Louisville:20260528T150000
DTSTAMP:20260422T183338
CREATED:20250513T204428Z
LAST-MODIFIED:20250514T173049Z
UID:10000863-1779955200-1779980400@horizonhealthky.org
SUMMARY:Whitley Syringe Exchange
DESCRIPTION:Whitley County Health Department (368 Penny Ln\, Williamsburg\, KY 40769\, United States)
URL:https://horizonhealthky.org/event/whitley-syringe-exchange/2026-05-28/
LOCATION:Whitley County Health Department\, 368 Penny Ln\, Williamsburg\, KY\, 40769\, United States
END:VEVENT
BEGIN:VEVENT
DTSTART;TZID=America/Kentucky/Louisville:20260528T100000
DTEND;TZID=America/Kentucky/Louisville:20260528T140000
DTSTAMP:20260422T183338
CREATED:20250513T204617Z
LAST-MODIFIED:20250514T173119Z
UID:10001045-1779962400-1779976800@horizonhealthky.org
SUMMARY:Laurel County Syringe Exchange
DESCRIPTION:Laurel County Health Department (525 Whitley St\, London\, KY 40741\, United States)
URL:https://horizonhealthky.org/event/laurel-county-syringe-exchange/2026-05-28/
LOCATION:Laurel County Health Department\, 525 Whitley St\, London\, KY\, 40741\, United States
END:VEVENT
BEGIN:VEVENT
DTSTART;TZID=America/Kentucky/Louisville:20260528T100000
DTEND;TZID=America/Kentucky/Louisville:20260528T140000
DTSTAMP:20260422T183338
CREATED:20250513T204828Z
LAST-MODIFIED:20250514T173142Z
UID:10001203-1779962400-1779976800@horizonhealthky.org
SUMMARY:Knox County Syringe Exchange
DESCRIPTION:Knox County Health Department (261 Hospital Dr\, Barbourville\, KY 40906\, United States)
URL:https://horizonhealthky.org/event/knox-county-syringe-exchange/2026-05-28/
LOCATION:Knox County Health Department\, 261 Hospital Dr\, Barbourville\, KY\, 40906\, United States
END:VEVENT
BEGIN:VEVENT
DTSTART;TZID=America/Kentucky/Louisville:20260601T080000
DTEND;TZID=America/Kentucky/Louisville:20260601T150000
DTSTAMP:20260422T183338
CREATED:20250513T204428Z
LAST-MODIFIED:20250514T173049Z
UID:10000864-1780300800-1780326000@horizonhealthky.org
SUMMARY:Whitley Syringe Exchange
DESCRIPTION:Whitley County Health Department (368 Penny Ln\, Williamsburg\, KY 40769\, United States)
URL:https://horizonhealthky.org/event/whitley-syringe-exchange/2026-06-01/
LOCATION:Whitley County Health Department\, 368 Penny Ln\, Williamsburg\, KY\, 40769\, United States
END:VEVENT
BEGIN:VEVENT
DTSTART;TZID=America/Kentucky/Louisville:20260602T080000
DTEND;TZID=America/Kentucky/Louisville:20260602T150000
DTSTAMP:20260422T183338
CREATED:20250513T204428Z
LAST-MODIFIED:20250514T173049Z
UID:10000865-1780387200-1780412400@horizonhealthky.org
SUMMARY:Whitley Syringe Exchange
DESCRIPTION:Whitley County Health Department (368 Penny Ln\, Williamsburg\, KY 40769\, United States)
URL:https://horizonhealthky.org/event/whitley-syringe-exchange/2026-06-02/
LOCATION:Whitley County Health Department\, 368 Penny Ln\, Williamsburg\, KY\, 40769\, United States
END:VEVENT
BEGIN:VEVENT
DTSTART;TZID=America/Kentucky/Louisville:20260602T100000
DTEND;TZID=America/Kentucky/Louisville:20260602T140000
DTSTAMP:20260422T183338
CREATED:20250513T204617Z
LAST-MODIFIED:20250514T173119Z
UID:10001046-1780394400-1780408800@horizonhealthky.org
SUMMARY:Laurel County Syringe Exchange
DESCRIPTION:Laurel County Health Department (525 Whitley St\, London\, KY 40741\, United States)
URL:https://horizonhealthky.org/event/laurel-county-syringe-exchange/2026-06-02/
LOCATION:Laurel County Health Department\, 525 Whitley St\, London\, KY\, 40741\, United States
END:VEVENT
BEGIN:VEVENT
DTSTART;TZID=America/Kentucky/Louisville:20260602T100000
DTEND;TZID=America/Kentucky/Louisville:20260602T140000
DTSTAMP:20260422T183338
CREATED:20250513T204828Z
LAST-MODIFIED:20250514T173142Z
UID:10001204-1780394400-1780408800@horizonhealthky.org
SUMMARY:Knox County Syringe Exchange
DESCRIPTION:Knox County Health Department (261 Hospital Dr\, Barbourville\, KY 40906\, United States)
URL:https://horizonhealthky.org/event/knox-county-syringe-exchange/2026-06-02/
LOCATION:Knox County Health Department\, 261 Hospital Dr\, Barbourville\, KY\, 40906\, United States
END:VEVENT
BEGIN:VEVENT
DTSTART;TZID=America/Kentucky/Louisville:20260603T080000
DTEND;TZID=America/Kentucky/Louisville:20260603T150000
DTSTAMP:20260422T183338
CREATED:20250513T204428Z
LAST-MODIFIED:20250514T173049Z
UID:10000866-1780473600-1780498800@horizonhealthky.org
SUMMARY:Whitley Syringe Exchange
DESCRIPTION:Whitley County Health Department (368 Penny Ln\, Williamsburg\, KY 40769\, United States)
URL:https://horizonhealthky.org/event/whitley-syringe-exchange/2026-06-03/
LOCATION:Whitley County Health Department\, 368 Penny Ln\, Williamsburg\, KY\, 40769\, United States
END:VEVENT
BEGIN:VEVENT
DTSTART;TZID=America/Kentucky/Louisville:20260604T080000
DTEND;TZID=America/Kentucky/Louisville:20260604T150000
DTSTAMP:20260422T183338
CREATED:20250513T204428Z
LAST-MODIFIED:20250514T173049Z
UID:10000867-1780560000-1780585200@horizonhealthky.org
SUMMARY:Whitley Syringe Exchange
DESCRIPTION:Whitley County Health Department (368 Penny Ln\, Williamsburg\, KY 40769\, United States)
URL:https://horizonhealthky.org/event/whitley-syringe-exchange/2026-06-04/
LOCATION:Whitley County Health Department\, 368 Penny Ln\, Williamsburg\, KY\, 40769\, United States
END:VEVENT
BEGIN:VEVENT
DTSTART;TZID=America/Kentucky/Louisville:20260604T100000
DTEND;TZID=America/Kentucky/Louisville:20260604T140000
DTSTAMP:20260422T183338
CREATED:20250513T204617Z
LAST-MODIFIED:20250514T173119Z
UID:10001047-1780567200-1780581600@horizonhealthky.org
SUMMARY:Laurel County Syringe Exchange
DESCRIPTION:Laurel County Health Department (525 Whitley St\, London\, KY 40741\, United States)
URL:https://horizonhealthky.org/event/laurel-county-syringe-exchange/2026-06-04/
LOCATION:Laurel County Health Department\, 525 Whitley St\, London\, KY\, 40741\, United States
END:VEVENT
BEGIN:VEVENT
DTSTART;TZID=America/Kentucky/Louisville:20260604T100000
DTEND;TZID=America/Kentucky/Louisville:20260604T140000
DTSTAMP:20260422T183338
CREATED:20250513T204828Z
LAST-MODIFIED:20250514T173142Z
UID:10001205-1780567200-1780581600@horizonhealthky.org
SUMMARY:Knox County Syringe Exchange
DESCRIPTION:Knox County Health Department (261 Hospital Dr\, Barbourville\, KY 40906\, United States)
URL:https://horizonhealthky.org/event/knox-county-syringe-exchange/2026-06-04/
LOCATION:Knox County Health Department\, 261 Hospital Dr\, Barbourville\, KY\, 40906\, United States
END:VEVENT
BEGIN:VEVENT
DTSTART;TZID=America/Kentucky/Louisville:20260608T080000
DTEND;TZID=America/Kentucky/Louisville:20260608T150000
DTSTAMP:20260422T183338
CREATED:20250513T204428Z
LAST-MODIFIED:20250514T173049Z
UID:10000868-1780905600-1780930800@horizonhealthky.org
SUMMARY:Whitley Syringe Exchange
DESCRIPTION:Whitley County Health Department (368 Penny Ln\, Williamsburg\, KY 40769\, United States)
URL:https://horizonhealthky.org/event/whitley-syringe-exchange/2026-06-08/
LOCATION:Whitley County Health Department\, 368 Penny Ln\, Williamsburg\, KY\, 40769\, United States
END:VEVENT
BEGIN:VEVENT
DTSTART;TZID=America/Kentucky/Louisville:20260609T080000
DTEND;TZID=America/Kentucky/Louisville:20260609T150000
DTSTAMP:20260422T183338
CREATED:20250513T204428Z
LAST-MODIFIED:20250514T173049Z
UID:10000869-1780992000-1781017200@horizonhealthky.org
SUMMARY:Whitley Syringe Exchange
DESCRIPTION:Whitley County Health Department (368 Penny Ln\, Williamsburg\, KY 40769\, United States)
URL:https://horizonhealthky.org/event/whitley-syringe-exchange/2026-06-09/
LOCATION:Whitley County Health Department\, 368 Penny Ln\, Williamsburg\, KY\, 40769\, United States
END:VEVENT
BEGIN:VEVENT
DTSTART;TZID=America/Kentucky/Louisville:20260609T100000
DTEND;TZID=America/Kentucky/Louisville:20260609T140000
DTSTAMP:20260422T183338
CREATED:20250513T204617Z
LAST-MODIFIED:20250514T173119Z
UID:10001048-1780999200-1781013600@horizonhealthky.org
SUMMARY:Laurel County Syringe Exchange
DESCRIPTION:Laurel County Health Department (525 Whitley St\, London\, KY 40741\, United States)
URL:https://horizonhealthky.org/event/laurel-county-syringe-exchange/2026-06-09/
LOCATION:Laurel County Health Department\, 525 Whitley St\, London\, KY\, 40741\, United States
END:VEVENT
BEGIN:VEVENT
DTSTART;TZID=America/Kentucky/Louisville:20260609T100000
DTEND;TZID=America/Kentucky/Louisville:20260609T140000
DTSTAMP:20260422T183338
CREATED:20250513T204828Z
LAST-MODIFIED:20250514T173142Z
UID:10001206-1780999200-1781013600@horizonhealthky.org
SUMMARY:Knox County Syringe Exchange
DESCRIPTION:Knox County Health Department (261 Hospital Dr\, Barbourville\, KY 40906\, United States)
URL:https://horizonhealthky.org/event/knox-county-syringe-exchange/2026-06-09/
LOCATION:Knox County Health Department\, 261 Hospital Dr\, Barbourville\, KY\, 40906\, United States
END:VEVENT
BEGIN:VEVENT
DTSTART;TZID=America/Kentucky/Louisville:20260610T080000
DTEND;TZID=America/Kentucky/Louisville:20260610T150000
DTSTAMP:20260422T183338
CREATED:20250513T204428Z
LAST-MODIFIED:20250514T173049Z
UID:10000870-1781078400-1781103600@horizonhealthky.org
SUMMARY:Whitley Syringe Exchange
DESCRIPTION:Whitley County Health Department (368 Penny Ln\, Williamsburg\, KY 40769\, United States)
URL:https://horizonhealthky.org/event/whitley-syringe-exchange/2026-06-10/
LOCATION:Whitley County Health Department\, 368 Penny Ln\, Williamsburg\, KY\, 40769\, United States
END:VEVENT
BEGIN:VEVENT
DTSTART;TZID=America/Kentucky/Louisville:20260611T080000
DTEND;TZID=America/Kentucky/Louisville:20260611T150000
DTSTAMP:20260422T183338
CREATED:20250513T204428Z
LAST-MODIFIED:20250514T173049Z
UID:10000871-1781164800-1781190000@horizonhealthky.org
SUMMARY:Whitley Syringe Exchange
DESCRIPTION:Whitley County Health Department (368 Penny Ln\, Williamsburg\, KY 40769\, United States)
URL:https://horizonhealthky.org/event/whitley-syringe-exchange/2026-06-11/
LOCATION:Whitley County Health Department\, 368 Penny Ln\, Williamsburg\, KY\, 40769\, United States
END:VEVENT
BEGIN:VEVENT
DTSTART;TZID=America/Kentucky/Louisville:20260611T100000
DTEND;TZID=America/Kentucky/Louisville:20260611T140000
DTSTAMP:20260422T183338
CREATED:20250513T204617Z
LAST-MODIFIED:20250514T173119Z
UID:10001049-1781172000-1781186400@horizonhealthky.org
SUMMARY:Laurel County Syringe Exchange
DESCRIPTION:Laurel County Health Department (525 Whitley St\, London\, KY 40741\, United States)
URL:https://horizonhealthky.org/event/laurel-county-syringe-exchange/2026-06-11/
LOCATION:Laurel County Health Department\, 525 Whitley St\, London\, KY\, 40741\, United States
END:VEVENT
BEGIN:VEVENT
DTSTART;TZID=America/Kentucky/Louisville:20260611T100000
DTEND;TZID=America/Kentucky/Louisville:20260611T140000
DTSTAMP:20260422T183338
CREATED:20250513T204828Z
LAST-MODIFIED:20250514T173142Z
UID:10001207-1781172000-1781186400@horizonhealthky.org
SUMMARY:Knox County Syringe Exchange
DESCRIPTION:Knox County Health Department (261 Hospital Dr\, Barbourville\, KY 40906\, United States)
URL:https://horizonhealthky.org/event/knox-county-syringe-exchange/2026-06-11/
LOCATION:Knox County Health Department\, 261 Hospital Dr\, Barbourville\, KY\, 40906\, United States
END:VEVENT
BEGIN:VEVENT
DTSTART;TZID=America/Kentucky/Louisville:20260615T080000
DTEND;TZID=America/Kentucky/Louisville:20260615T150000
DTSTAMP:20260422T183338
CREATED:20250513T204428Z
LAST-MODIFIED:20250514T173049Z
UID:10000872-1781510400-1781535600@horizonhealthky.org
SUMMARY:Whitley Syringe Exchange
DESCRIPTION:Whitley County Health Department (368 Penny Ln\, Williamsburg\, KY 40769\, United States)
URL:https://horizonhealthky.org/event/whitley-syringe-exchange/2026-06-15/
LOCATION:Whitley County Health Department\, 368 Penny Ln\, Williamsburg\, KY\, 40769\, United States
END:VEVENT
BEGIN:VEVENT
DTSTART;TZID=America/Kentucky/Louisville:20260616T080000
DTEND;TZID=America/Kentucky/Louisville:20260616T150000
DTSTAMP:20260422T183338
CREATED:20250513T204428Z
LAST-MODIFIED:20250514T173049Z
UID:10000873-1781596800-1781622000@horizonhealthky.org
SUMMARY:Whitley Syringe Exchange
DESCRIPTION:Whitley County Health Department (368 Penny Ln\, Williamsburg\, KY 40769\, United States)
URL:https://horizonhealthky.org/event/whitley-syringe-exchange/2026-06-16/
LOCATION:Whitley County Health Department\, 368 Penny Ln\, Williamsburg\, KY\, 40769\, United States
END:VEVENT
BEGIN:VEVENT
DTSTART;TZID=America/Kentucky/Louisville:20260616T100000
DTEND;TZID=America/Kentucky/Louisville:20260616T140000
DTSTAMP:20260422T183338
CREATED:20250513T204617Z
LAST-MODIFIED:20250514T173119Z
UID:10001050-1781604000-1781618400@horizonhealthky.org
SUMMARY:Laurel County Syringe Exchange
DESCRIPTION:Laurel County Health Department (525 Whitley St\, London\, KY 40741\, United States)
URL:https://horizonhealthky.org/event/laurel-county-syringe-exchange/2026-06-16/
LOCATION:Laurel County Health Department\, 525 Whitley St\, London\, KY\, 40741\, United States
END:VEVENT
BEGIN:VEVENT
DTSTART;TZID=America/Kentucky/Louisville:20260616T100000
DTEND;TZID=America/Kentucky/Louisville:20260616T140000
DTSTAMP:20260422T183338
CREATED:20250513T204828Z
LAST-MODIFIED:20250514T173142Z
UID:10001208-1781604000-1781618400@horizonhealthky.org
SUMMARY:Knox County Syringe Exchange
DESCRIPTION:Knox County Health Department (261 Hospital Dr\, Barbourville\, KY 40906\, United States)
URL:https://horizonhealthky.org/event/knox-county-syringe-exchange/2026-06-16/
LOCATION:Knox County Health Department\, 261 Hospital Dr\, Barbourville\, KY\, 40906\, United States
END:VEVENT
BEGIN:VEVENT
DTSTART;TZID=America/Kentucky/Louisville:20260617T080000
DTEND;TZID=America/Kentucky/Louisville:20260617T150000
DTSTAMP:20260422T183338
CREATED:20250513T204428Z
LAST-MODIFIED:20250514T173049Z
UID:10000874-1781683200-1781708400@horizonhealthky.org
SUMMARY:Whitley Syringe Exchange
DESCRIPTION:Whitley County Health Department (368 Penny Ln\, Williamsburg\, KY 40769\, United States)
URL:https://horizonhealthky.org/event/whitley-syringe-exchange/2026-06-17/
LOCATION:Whitley County Health Department\, 368 Penny Ln\, Williamsburg\, KY\, 40769\, United States
END:VEVENT
BEGIN:VEVENT
DTSTART;TZID=America/Kentucky/Louisville:20260618T080000
DTEND;TZID=America/Kentucky/Louisville:20260618T150000
DTSTAMP:20260422T183338
CREATED:20250513T204428Z
LAST-MODIFIED:20250514T173049Z
UID:10000875-1781769600-1781794800@horizonhealthky.org
SUMMARY:Whitley Syringe Exchange
DESCRIPTION:Whitley County Health Department (368 Penny Ln\, Williamsburg\, KY 40769\, United States)
URL:https://horizonhealthky.org/event/whitley-syringe-exchange/2026-06-18/
LOCATION:Whitley County Health Department\, 368 Penny Ln\, Williamsburg\, KY\, 40769\, United States
END:VEVENT
END:VCALENDAR