BEGIN:VCALENDAR
VERSION:2.0
PRODID:-//Horizon Health - ECPv6.15.20//NONSGML v1.0//EN
CALSCALE:GREGORIAN
METHOD:PUBLISH
X-WR-CALNAME:Horizon Health
X-ORIGINAL-URL:https://horizonhealthky.org
X-WR-CALDESC:Events for Horizon Health
REFRESH-INTERVAL;VALUE=DURATION:PT1H
X-Robots-Tag:noindex
X-PUBLISHED-TTL:PT1H
BEGIN:VTIMEZONE
TZID:America/Kentucky/Louisville
BEGIN:DAYLIGHT
TZOFFSETFROM:-0500
TZOFFSETTO:-0400
TZNAME:EDT
DTSTART:20240310T070000
END:DAYLIGHT
BEGIN:STANDARD
TZOFFSETFROM:-0400
TZOFFSETTO:-0500
TZNAME:EST
DTSTART:20241103T060000
END:STANDARD
BEGIN:DAYLIGHT
TZOFFSETFROM:-0500
TZOFFSETTO:-0400
TZNAME:EDT
DTSTART:20250309T070000
END:DAYLIGHT
BEGIN:STANDARD
TZOFFSETFROM:-0400
TZOFFSETTO:-0500
TZNAME:EST
DTSTART:20251102T060000
END:STANDARD
BEGIN:DAYLIGHT
TZOFFSETFROM:-0500
TZOFFSETTO:-0400
TZNAME:EDT
DTSTART:20260308T070000
END:DAYLIGHT
BEGIN:STANDARD
TZOFFSETFROM:-0400
TZOFFSETTO:-0500
TZNAME:EST
DTSTART:20261101T060000
END:STANDARD
END:VTIMEZONE
BEGIN:VEVENT
DTSTART;TZID=America/Kentucky/Louisville:20251119T080000
DTEND;TZID=America/Kentucky/Louisville:20251119T150000
DTSTAMP:20260423T032540
CREATED:20250513T204428Z
LAST-MODIFIED:20250514T173049Z
UID:10000754-1763539200-1763564400@horizonhealthky.org
SUMMARY:Whitley Syringe Exchange
DESCRIPTION:Whitley County Health Department (368 Penny Ln\, Williamsburg\, KY 40769\, United States)
URL:https://horizonhealthky.org/event/whitley-syringe-exchange/2025-11-19/
LOCATION:Whitley County Health Department\, 368 Penny Ln\, Williamsburg\, KY\, 40769\, United States
END:VEVENT
BEGIN:VEVENT
DTSTART;TZID=America/Kentucky/Louisville:20251120T080000
DTEND;TZID=America/Kentucky/Louisville:20251120T150000
DTSTAMP:20260423T032540
CREATED:20250513T204428Z
LAST-MODIFIED:20250514T173049Z
UID:10000755-1763625600-1763650800@horizonhealthky.org
SUMMARY:Whitley Syringe Exchange
DESCRIPTION:Whitley County Health Department (368 Penny Ln\, Williamsburg\, KY 40769\, United States)
URL:https://horizonhealthky.org/event/whitley-syringe-exchange/2025-11-20/
LOCATION:Whitley County Health Department\, 368 Penny Ln\, Williamsburg\, KY\, 40769\, United States
END:VEVENT
BEGIN:VEVENT
DTSTART;TZID=America/Kentucky/Louisville:20251120T100000
DTEND;TZID=America/Kentucky/Louisville:20251120T140000
DTSTAMP:20260423T032540
CREATED:20250513T204617Z
LAST-MODIFIED:20250514T173119Z
UID:10000991-1763632800-1763647200@horizonhealthky.org
SUMMARY:Laurel County Syringe Exchange
DESCRIPTION:Laurel County Health Department (525 Whitley St\, London\, KY 40741\, United States)
URL:https://horizonhealthky.org/event/laurel-county-syringe-exchange/2025-11-20/
LOCATION:Laurel County Health Department\, 525 Whitley St\, London\, KY\, 40741\, United States
END:VEVENT
BEGIN:VEVENT
DTSTART;TZID=America/Kentucky/Louisville:20251120T100000
DTEND;TZID=America/Kentucky/Louisville:20251120T140000
DTSTAMP:20260423T032540
CREATED:20250513T204828Z
LAST-MODIFIED:20250514T173142Z
UID:10001149-1763632800-1763647200@horizonhealthky.org
SUMMARY:Knox County Syringe Exchange
DESCRIPTION:Knox County Health Department (261 Hospital Dr\, Barbourville\, KY 40906\, United States)
URL:https://horizonhealthky.org/event/knox-county-syringe-exchange/2025-11-20/
LOCATION:Knox County Health Department\, 261 Hospital Dr\, Barbourville\, KY\, 40906\, United States
END:VEVENT
BEGIN:VEVENT
DTSTART;TZID=America/Kentucky/Louisville:20251124T080000
DTEND;TZID=America/Kentucky/Louisville:20251124T150000
DTSTAMP:20260423T032540
CREATED:20250513T204428Z
LAST-MODIFIED:20250514T173049Z
UID:10000756-1763971200-1763996400@horizonhealthky.org
SUMMARY:Whitley Syringe Exchange
DESCRIPTION:Whitley County Health Department (368 Penny Ln\, Williamsburg\, KY 40769\, United States)
URL:https://horizonhealthky.org/event/whitley-syringe-exchange/2025-11-24/
LOCATION:Whitley County Health Department\, 368 Penny Ln\, Williamsburg\, KY\, 40769\, United States
END:VEVENT
BEGIN:VEVENT
DTSTART;TZID=America/Kentucky/Louisville:20251125T080000
DTEND;TZID=America/Kentucky/Louisville:20251125T150000
DTSTAMP:20260423T032540
CREATED:20250513T204428Z
LAST-MODIFIED:20250514T173049Z
UID:10000757-1764057600-1764082800@horizonhealthky.org
SUMMARY:Whitley Syringe Exchange
DESCRIPTION:Whitley County Health Department (368 Penny Ln\, Williamsburg\, KY 40769\, United States)
URL:https://horizonhealthky.org/event/whitley-syringe-exchange/2025-11-25/
LOCATION:Whitley County Health Department\, 368 Penny Ln\, Williamsburg\, KY\, 40769\, United States
END:VEVENT
BEGIN:VEVENT
DTSTART;TZID=America/Kentucky/Louisville:20251125T100000
DTEND;TZID=America/Kentucky/Louisville:20251125T140000
DTSTAMP:20260423T032540
CREATED:20250513T204617Z
LAST-MODIFIED:20250514T173119Z
UID:10000992-1764064800-1764079200@horizonhealthky.org
SUMMARY:Laurel County Syringe Exchange
DESCRIPTION:Laurel County Health Department (525 Whitley St\, London\, KY 40741\, United States)
URL:https://horizonhealthky.org/event/laurel-county-syringe-exchange/2025-11-25/
LOCATION:Laurel County Health Department\, 525 Whitley St\, London\, KY\, 40741\, United States
END:VEVENT
BEGIN:VEVENT
DTSTART;TZID=America/Kentucky/Louisville:20251125T100000
DTEND;TZID=America/Kentucky/Louisville:20251125T140000
DTSTAMP:20260423T032540
CREATED:20250513T204828Z
LAST-MODIFIED:20250514T173142Z
UID:10001150-1764064800-1764079200@horizonhealthky.org
SUMMARY:Knox County Syringe Exchange
DESCRIPTION:Knox County Health Department (261 Hospital Dr\, Barbourville\, KY 40906\, United States)
URL:https://horizonhealthky.org/event/knox-county-syringe-exchange/2025-11-25/
LOCATION:Knox County Health Department\, 261 Hospital Dr\, Barbourville\, KY\, 40906\, United States
END:VEVENT
BEGIN:VEVENT
DTSTART;TZID=America/Kentucky/Louisville:20251126T080000
DTEND;TZID=America/Kentucky/Louisville:20251126T150000
DTSTAMP:20260423T032540
CREATED:20250513T204428Z
LAST-MODIFIED:20250514T173049Z
UID:10000758-1764144000-1764169200@horizonhealthky.org
SUMMARY:Whitley Syringe Exchange
DESCRIPTION:Whitley County Health Department (368 Penny Ln\, Williamsburg\, KY 40769\, United States)
URL:https://horizonhealthky.org/event/whitley-syringe-exchange/2025-11-26/
LOCATION:Whitley County Health Department\, 368 Penny Ln\, Williamsburg\, KY\, 40769\, United States
END:VEVENT
BEGIN:VEVENT
DTSTART;TZID=America/Kentucky/Louisville:20251127T080000
DTEND;TZID=America/Kentucky/Louisville:20251127T150000
DTSTAMP:20260423T032540
CREATED:20250513T204428Z
LAST-MODIFIED:20250514T173049Z
UID:10000759-1764230400-1764255600@horizonhealthky.org
SUMMARY:Whitley Syringe Exchange
DESCRIPTION:Whitley County Health Department (368 Penny Ln\, Williamsburg\, KY 40769\, United States)
URL:https://horizonhealthky.org/event/whitley-syringe-exchange/2025-11-27/
LOCATION:Whitley County Health Department\, 368 Penny Ln\, Williamsburg\, KY\, 40769\, United States
END:VEVENT
BEGIN:VEVENT
DTSTART;TZID=America/Kentucky/Louisville:20251127T100000
DTEND;TZID=America/Kentucky/Louisville:20251127T140000
DTSTAMP:20260423T032540
CREATED:20250513T204617Z
LAST-MODIFIED:20250514T173119Z
UID:10000993-1764237600-1764252000@horizonhealthky.org
SUMMARY:Laurel County Syringe Exchange
DESCRIPTION:Laurel County Health Department (525 Whitley St\, London\, KY 40741\, United States)
URL:https://horizonhealthky.org/event/laurel-county-syringe-exchange/2025-11-27/
LOCATION:Laurel County Health Department\, 525 Whitley St\, London\, KY\, 40741\, United States
END:VEVENT
BEGIN:VEVENT
DTSTART;TZID=America/Kentucky/Louisville:20251127T100000
DTEND;TZID=America/Kentucky/Louisville:20251127T140000
DTSTAMP:20260423T032540
CREATED:20250513T204828Z
LAST-MODIFIED:20250514T173142Z
UID:10001151-1764237600-1764252000@horizonhealthky.org
SUMMARY:Knox County Syringe Exchange
DESCRIPTION:Knox County Health Department (261 Hospital Dr\, Barbourville\, KY 40906\, United States)
URL:https://horizonhealthky.org/event/knox-county-syringe-exchange/2025-11-27/
LOCATION:Knox County Health Department\, 261 Hospital Dr\, Barbourville\, KY\, 40906\, United States
END:VEVENT
BEGIN:VEVENT
DTSTART;TZID=America/Kentucky/Louisville:20251201T080000
DTEND;TZID=America/Kentucky/Louisville:20251201T150000
DTSTAMP:20260423T032540
CREATED:20250513T204428Z
LAST-MODIFIED:20250514T173049Z
UID:10000760-1764576000-1764601200@horizonhealthky.org
SUMMARY:Whitley Syringe Exchange
DESCRIPTION:Whitley County Health Department (368 Penny Ln\, Williamsburg\, KY 40769\, United States)
URL:https://horizonhealthky.org/event/whitley-syringe-exchange/2025-12-01/
LOCATION:Whitley County Health Department\, 368 Penny Ln\, Williamsburg\, KY\, 40769\, United States
END:VEVENT
BEGIN:VEVENT
DTSTART;TZID=America/Kentucky/Louisville:20251202T080000
DTEND;TZID=America/Kentucky/Louisville:20251202T150000
DTSTAMP:20260423T032540
CREATED:20250513T204428Z
LAST-MODIFIED:20250514T173049Z
UID:10000761-1764662400-1764687600@horizonhealthky.org
SUMMARY:Whitley Syringe Exchange
DESCRIPTION:Whitley County Health Department (368 Penny Ln\, Williamsburg\, KY 40769\, United States)
URL:https://horizonhealthky.org/event/whitley-syringe-exchange/2025-12-02/
LOCATION:Whitley County Health Department\, 368 Penny Ln\, Williamsburg\, KY\, 40769\, United States
END:VEVENT
BEGIN:VEVENT
DTSTART;TZID=America/Kentucky/Louisville:20251202T100000
DTEND;TZID=America/Kentucky/Louisville:20251202T140000
DTSTAMP:20260423T032540
CREATED:20250513T204617Z
LAST-MODIFIED:20250514T173119Z
UID:10000994-1764669600-1764684000@horizonhealthky.org
SUMMARY:Laurel County Syringe Exchange
DESCRIPTION:Laurel County Health Department (525 Whitley St\, London\, KY 40741\, United States)
URL:https://horizonhealthky.org/event/laurel-county-syringe-exchange/2025-12-02/
LOCATION:Laurel County Health Department\, 525 Whitley St\, London\, KY\, 40741\, United States
END:VEVENT
BEGIN:VEVENT
DTSTART;TZID=America/Kentucky/Louisville:20251202T100000
DTEND;TZID=America/Kentucky/Louisville:20251202T140000
DTSTAMP:20260423T032540
CREATED:20250513T204828Z
LAST-MODIFIED:20250514T173142Z
UID:10001152-1764669600-1764684000@horizonhealthky.org
SUMMARY:Knox County Syringe Exchange
DESCRIPTION:Knox County Health Department (261 Hospital Dr\, Barbourville\, KY 40906\, United States)
URL:https://horizonhealthky.org/event/knox-county-syringe-exchange/2025-12-02/
LOCATION:Knox County Health Department\, 261 Hospital Dr\, Barbourville\, KY\, 40906\, United States
END:VEVENT
BEGIN:VEVENT
DTSTART;TZID=America/Kentucky/Louisville:20251203T080000
DTEND;TZID=America/Kentucky/Louisville:20251203T150000
DTSTAMP:20260423T032540
CREATED:20250513T204428Z
LAST-MODIFIED:20250514T173049Z
UID:10000762-1764748800-1764774000@horizonhealthky.org
SUMMARY:Whitley Syringe Exchange
DESCRIPTION:Whitley County Health Department (368 Penny Ln\, Williamsburg\, KY 40769\, United States)
URL:https://horizonhealthky.org/event/whitley-syringe-exchange/2025-12-03/
LOCATION:Whitley County Health Department\, 368 Penny Ln\, Williamsburg\, KY\, 40769\, United States
END:VEVENT
BEGIN:VEVENT
DTSTART;TZID=America/Kentucky/Louisville:20251204T080000
DTEND;TZID=America/Kentucky/Louisville:20251204T150000
DTSTAMP:20260423T032540
CREATED:20250513T204428Z
LAST-MODIFIED:20250514T173049Z
UID:10000763-1764835200-1764860400@horizonhealthky.org
SUMMARY:Whitley Syringe Exchange
DESCRIPTION:Whitley County Health Department (368 Penny Ln\, Williamsburg\, KY 40769\, United States)
URL:https://horizonhealthky.org/event/whitley-syringe-exchange/2025-12-04/
LOCATION:Whitley County Health Department\, 368 Penny Ln\, Williamsburg\, KY\, 40769\, United States
END:VEVENT
BEGIN:VEVENT
DTSTART;TZID=America/Kentucky/Louisville:20251204T100000
DTEND;TZID=America/Kentucky/Louisville:20251204T140000
DTSTAMP:20260423T032540
CREATED:20250513T204617Z
LAST-MODIFIED:20250514T173119Z
UID:10000995-1764842400-1764856800@horizonhealthky.org
SUMMARY:Laurel County Syringe Exchange
DESCRIPTION:Laurel County Health Department (525 Whitley St\, London\, KY 40741\, United States)
URL:https://horizonhealthky.org/event/laurel-county-syringe-exchange/2025-12-04/
LOCATION:Laurel County Health Department\, 525 Whitley St\, London\, KY\, 40741\, United States
END:VEVENT
BEGIN:VEVENT
DTSTART;TZID=America/Kentucky/Louisville:20251204T100000
DTEND;TZID=America/Kentucky/Louisville:20251204T140000
DTSTAMP:20260423T032540
CREATED:20250513T204828Z
LAST-MODIFIED:20250514T173142Z
UID:10001153-1764842400-1764856800@horizonhealthky.org
SUMMARY:Knox County Syringe Exchange
DESCRIPTION:Knox County Health Department (261 Hospital Dr\, Barbourville\, KY 40906\, United States)
URL:https://horizonhealthky.org/event/knox-county-syringe-exchange/2025-12-04/
LOCATION:Knox County Health Department\, 261 Hospital Dr\, Barbourville\, KY\, 40906\, United States
END:VEVENT
BEGIN:VEVENT
DTSTART;TZID=America/Kentucky/Louisville:20251208T080000
DTEND;TZID=America/Kentucky/Louisville:20251208T150000
DTSTAMP:20260423T032540
CREATED:20250513T204428Z
LAST-MODIFIED:20250514T173049Z
UID:10000764-1765180800-1765206000@horizonhealthky.org
SUMMARY:Whitley Syringe Exchange
DESCRIPTION:Whitley County Health Department (368 Penny Ln\, Williamsburg\, KY 40769\, United States)
URL:https://horizonhealthky.org/event/whitley-syringe-exchange/2025-12-08/
LOCATION:Whitley County Health Department\, 368 Penny Ln\, Williamsburg\, KY\, 40769\, United States
END:VEVENT
BEGIN:VEVENT
DTSTART;TZID=America/Kentucky/Louisville:20251209T080000
DTEND;TZID=America/Kentucky/Louisville:20251209T150000
DTSTAMP:20260423T032540
CREATED:20250513T204428Z
LAST-MODIFIED:20250514T173049Z
UID:10000765-1765267200-1765292400@horizonhealthky.org
SUMMARY:Whitley Syringe Exchange
DESCRIPTION:Whitley County Health Department (368 Penny Ln\, Williamsburg\, KY 40769\, United States)
URL:https://horizonhealthky.org/event/whitley-syringe-exchange/2025-12-09/
LOCATION:Whitley County Health Department\, 368 Penny Ln\, Williamsburg\, KY\, 40769\, United States
END:VEVENT
BEGIN:VEVENT
DTSTART;TZID=America/Kentucky/Louisville:20251209T100000
DTEND;TZID=America/Kentucky/Louisville:20251209T140000
DTSTAMP:20260423T032540
CREATED:20250513T204617Z
LAST-MODIFIED:20250514T173119Z
UID:10000996-1765274400-1765288800@horizonhealthky.org
SUMMARY:Laurel County Syringe Exchange
DESCRIPTION:Laurel County Health Department (525 Whitley St\, London\, KY 40741\, United States)
URL:https://horizonhealthky.org/event/laurel-county-syringe-exchange/2025-12-09/
LOCATION:Laurel County Health Department\, 525 Whitley St\, London\, KY\, 40741\, United States
END:VEVENT
BEGIN:VEVENT
DTSTART;TZID=America/Kentucky/Louisville:20251209T100000
DTEND;TZID=America/Kentucky/Louisville:20251209T140000
DTSTAMP:20260423T032540
CREATED:20250513T204828Z
LAST-MODIFIED:20250514T173142Z
UID:10001154-1765274400-1765288800@horizonhealthky.org
SUMMARY:Knox County Syringe Exchange
DESCRIPTION:Knox County Health Department (261 Hospital Dr\, Barbourville\, KY 40906\, United States)
URL:https://horizonhealthky.org/event/knox-county-syringe-exchange/2025-12-09/
LOCATION:Knox County Health Department\, 261 Hospital Dr\, Barbourville\, KY\, 40906\, United States
END:VEVENT
BEGIN:VEVENT
DTSTART;TZID=America/Kentucky/Louisville:20251210T080000
DTEND;TZID=America/Kentucky/Louisville:20251210T150000
DTSTAMP:20260423T032540
CREATED:20250513T204428Z
LAST-MODIFIED:20250514T173049Z
UID:10000766-1765353600-1765378800@horizonhealthky.org
SUMMARY:Whitley Syringe Exchange
DESCRIPTION:Whitley County Health Department (368 Penny Ln\, Williamsburg\, KY 40769\, United States)
URL:https://horizonhealthky.org/event/whitley-syringe-exchange/2025-12-10/
LOCATION:Whitley County Health Department\, 368 Penny Ln\, Williamsburg\, KY\, 40769\, United States
END:VEVENT
BEGIN:VEVENT
DTSTART;TZID=America/Kentucky/Louisville:20251211T080000
DTEND;TZID=America/Kentucky/Louisville:20251211T150000
DTSTAMP:20260423T032540
CREATED:20250513T204428Z
LAST-MODIFIED:20250514T173049Z
UID:10000767-1765440000-1765465200@horizonhealthky.org
SUMMARY:Whitley Syringe Exchange
DESCRIPTION:Whitley County Health Department (368 Penny Ln\, Williamsburg\, KY 40769\, United States)
URL:https://horizonhealthky.org/event/whitley-syringe-exchange/2025-12-11/
LOCATION:Whitley County Health Department\, 368 Penny Ln\, Williamsburg\, KY\, 40769\, United States
END:VEVENT
BEGIN:VEVENT
DTSTART;TZID=America/Kentucky/Louisville:20251211T100000
DTEND;TZID=America/Kentucky/Louisville:20251211T140000
DTSTAMP:20260423T032540
CREATED:20250513T204617Z
LAST-MODIFIED:20250514T173119Z
UID:10000997-1765447200-1765461600@horizonhealthky.org
SUMMARY:Laurel County Syringe Exchange
DESCRIPTION:Laurel County Health Department (525 Whitley St\, London\, KY 40741\, United States)
URL:https://horizonhealthky.org/event/laurel-county-syringe-exchange/2025-12-11/
LOCATION:Laurel County Health Department\, 525 Whitley St\, London\, KY\, 40741\, United States
END:VEVENT
BEGIN:VEVENT
DTSTART;TZID=America/Kentucky/Louisville:20251211T100000
DTEND;TZID=America/Kentucky/Louisville:20251211T140000
DTSTAMP:20260423T032540
CREATED:20250513T204828Z
LAST-MODIFIED:20250514T173142Z
UID:10001155-1765447200-1765461600@horizonhealthky.org
SUMMARY:Knox County Syringe Exchange
DESCRIPTION:Knox County Health Department (261 Hospital Dr\, Barbourville\, KY 40906\, United States)
URL:https://horizonhealthky.org/event/knox-county-syringe-exchange/2025-12-11/
LOCATION:Knox County Health Department\, 261 Hospital Dr\, Barbourville\, KY\, 40906\, United States
END:VEVENT
BEGIN:VEVENT
DTSTART;TZID=America/Kentucky/Louisville:20251215T080000
DTEND;TZID=America/Kentucky/Louisville:20251215T150000
DTSTAMP:20260423T032540
CREATED:20250513T204428Z
LAST-MODIFIED:20250514T173049Z
UID:10000768-1765785600-1765810800@horizonhealthky.org
SUMMARY:Whitley Syringe Exchange
DESCRIPTION:Whitley County Health Department (368 Penny Ln\, Williamsburg\, KY 40769\, United States)
URL:https://horizonhealthky.org/event/whitley-syringe-exchange/2025-12-15/
LOCATION:Whitley County Health Department\, 368 Penny Ln\, Williamsburg\, KY\, 40769\, United States
END:VEVENT
BEGIN:VEVENT
DTSTART;TZID=America/Kentucky/Louisville:20251216T080000
DTEND;TZID=America/Kentucky/Louisville:20251216T150000
DTSTAMP:20260423T032540
CREATED:20250513T204428Z
LAST-MODIFIED:20250514T173049Z
UID:10000769-1765872000-1765897200@horizonhealthky.org
SUMMARY:Whitley Syringe Exchange
DESCRIPTION:Whitley County Health Department (368 Penny Ln\, Williamsburg\, KY 40769\, United States)
URL:https://horizonhealthky.org/event/whitley-syringe-exchange/2025-12-16/
LOCATION:Whitley County Health Department\, 368 Penny Ln\, Williamsburg\, KY\, 40769\, United States
END:VEVENT
END:VCALENDAR