BEGIN:VCALENDAR
VERSION:2.0
PRODID:-//Horizon Health - ECPv6.15.20//NONSGML v1.0//EN
CALSCALE:GREGORIAN
METHOD:PUBLISH
X-WR-CALNAME:Horizon Health
X-ORIGINAL-URL:https://horizonhealthky.org
X-WR-CALDESC:Events for Horizon Health
REFRESH-INTERVAL;VALUE=DURATION:PT1H
X-Robots-Tag:noindex
X-PUBLISHED-TTL:PT1H
BEGIN:VTIMEZONE
TZID:America/Kentucky/Louisville
BEGIN:DAYLIGHT
TZOFFSETFROM:-0500
TZOFFSETTO:-0400
TZNAME:EDT
DTSTART:20240310T070000
END:DAYLIGHT
BEGIN:STANDARD
TZOFFSETFROM:-0400
TZOFFSETTO:-0500
TZNAME:EST
DTSTART:20241103T060000
END:STANDARD
BEGIN:DAYLIGHT
TZOFFSETFROM:-0500
TZOFFSETTO:-0400
TZNAME:EDT
DTSTART:20250309T070000
END:DAYLIGHT
BEGIN:STANDARD
TZOFFSETFROM:-0400
TZOFFSETTO:-0500
TZNAME:EST
DTSTART:20251102T060000
END:STANDARD
BEGIN:DAYLIGHT
TZOFFSETFROM:-0500
TZOFFSETTO:-0400
TZNAME:EDT
DTSTART:20260308T070000
END:DAYLIGHT
BEGIN:STANDARD
TZOFFSETFROM:-0400
TZOFFSETTO:-0500
TZNAME:EST
DTSTART:20261101T060000
END:STANDARD
END:VTIMEZONE
BEGIN:VEVENT
DTSTART;TZID=America/Kentucky/Louisville:20250623T080000
DTEND;TZID=America/Kentucky/Louisville:20250623T150000
DTSTAMP:20260423T111325
CREATED:20250513T204428Z
LAST-MODIFIED:20250514T173049Z
UID:10000668-1750665600-1750690800@horizonhealthky.org
SUMMARY:Whitley Syringe Exchange
DESCRIPTION:Whitley County Health Department (368 Penny Ln\, Williamsburg\, KY 40769\, United States)
URL:https://horizonhealthky.org/event/whitley-syringe-exchange/2025-06-23/
LOCATION:Whitley County Health Department\, 368 Penny Ln\, Williamsburg\, KY\, 40769\, United States
END:VEVENT
BEGIN:VEVENT
DTSTART;TZID=America/Kentucky/Louisville:20250624T080000
DTEND;TZID=America/Kentucky/Louisville:20250624T150000
DTSTAMP:20260423T111325
CREATED:20250513T204428Z
LAST-MODIFIED:20250514T173049Z
UID:10000669-1750752000-1750777200@horizonhealthky.org
SUMMARY:Whitley Syringe Exchange
DESCRIPTION:Whitley County Health Department (368 Penny Ln\, Williamsburg\, KY 40769\, United States)
URL:https://horizonhealthky.org/event/whitley-syringe-exchange/2025-06-24/
LOCATION:Whitley County Health Department\, 368 Penny Ln\, Williamsburg\, KY\, 40769\, United States
END:VEVENT
BEGIN:VEVENT
DTSTART;TZID=America/Kentucky/Louisville:20250624T100000
DTEND;TZID=America/Kentucky/Louisville:20250624T140000
DTSTAMP:20260423T111325
CREATED:20250513T204617Z
LAST-MODIFIED:20250514T173119Z
UID:10000948-1750759200-1750773600@horizonhealthky.org
SUMMARY:Laurel County Syringe Exchange
DESCRIPTION:Laurel County Health Department (525 Whitley St\, London\, KY 40741\, United States)
URL:https://horizonhealthky.org/event/laurel-county-syringe-exchange/2025-06-24/
LOCATION:Laurel County Health Department\, 525 Whitley St\, London\, KY\, 40741\, United States
END:VEVENT
BEGIN:VEVENT
DTSTART;TZID=America/Kentucky/Louisville:20250624T100000
DTEND;TZID=America/Kentucky/Louisville:20250624T140000
DTSTAMP:20260423T111325
CREATED:20250513T204828Z
LAST-MODIFIED:20250514T173142Z
UID:10001106-1750759200-1750773600@horizonhealthky.org
SUMMARY:Knox County Syringe Exchange
DESCRIPTION:Knox County Health Department (261 Hospital Dr\, Barbourville\, KY 40906\, United States)
URL:https://horizonhealthky.org/event/knox-county-syringe-exchange/2025-06-24/
LOCATION:Knox County Health Department\, 261 Hospital Dr\, Barbourville\, KY\, 40906\, United States
END:VEVENT
BEGIN:VEVENT
DTSTART;TZID=America/Kentucky/Louisville:20250625T080000
DTEND;TZID=America/Kentucky/Louisville:20250625T150000
DTSTAMP:20260423T111325
CREATED:20250513T204428Z
LAST-MODIFIED:20250514T173049Z
UID:10000670-1750838400-1750863600@horizonhealthky.org
SUMMARY:Whitley Syringe Exchange
DESCRIPTION:Whitley County Health Department (368 Penny Ln\, Williamsburg\, KY 40769\, United States)
URL:https://horizonhealthky.org/event/whitley-syringe-exchange/2025-06-25/
LOCATION:Whitley County Health Department\, 368 Penny Ln\, Williamsburg\, KY\, 40769\, United States
END:VEVENT
BEGIN:VEVENT
DTSTART;TZID=America/Kentucky/Louisville:20250626T080000
DTEND;TZID=America/Kentucky/Louisville:20250626T150000
DTSTAMP:20260423T111325
CREATED:20250513T204428Z
LAST-MODIFIED:20250514T173049Z
UID:10000671-1750924800-1750950000@horizonhealthky.org
SUMMARY:Whitley Syringe Exchange
DESCRIPTION:Whitley County Health Department (368 Penny Ln\, Williamsburg\, KY 40769\, United States)
URL:https://horizonhealthky.org/event/whitley-syringe-exchange/2025-06-26/
LOCATION:Whitley County Health Department\, 368 Penny Ln\, Williamsburg\, KY\, 40769\, United States
END:VEVENT
BEGIN:VEVENT
DTSTART;TZID=America/Kentucky/Louisville:20250626T100000
DTEND;TZID=America/Kentucky/Louisville:20250626T140000
DTSTAMP:20260423T111325
CREATED:20250513T204617Z
LAST-MODIFIED:20250514T173119Z
UID:10000949-1750932000-1750946400@horizonhealthky.org
SUMMARY:Laurel County Syringe Exchange
DESCRIPTION:Laurel County Health Department (525 Whitley St\, London\, KY 40741\, United States)
URL:https://horizonhealthky.org/event/laurel-county-syringe-exchange/2025-06-26/
LOCATION:Laurel County Health Department\, 525 Whitley St\, London\, KY\, 40741\, United States
END:VEVENT
BEGIN:VEVENT
DTSTART;TZID=America/Kentucky/Louisville:20250626T100000
DTEND;TZID=America/Kentucky/Louisville:20250626T140000
DTSTAMP:20260423T111325
CREATED:20250513T204828Z
LAST-MODIFIED:20250514T173142Z
UID:10001107-1750932000-1750946400@horizonhealthky.org
SUMMARY:Knox County Syringe Exchange
DESCRIPTION:Knox County Health Department (261 Hospital Dr\, Barbourville\, KY 40906\, United States)
URL:https://horizonhealthky.org/event/knox-county-syringe-exchange/2025-06-26/
LOCATION:Knox County Health Department\, 261 Hospital Dr\, Barbourville\, KY\, 40906\, United States
END:VEVENT
BEGIN:VEVENT
DTSTART;TZID=America/Kentucky/Louisville:20250627T100000
DTEND;TZID=America/Kentucky/Louisville:20250627T140000
DTSTAMP:20260423T111325
CREATED:20250513T205155Z
LAST-MODIFIED:20250514T173205Z
UID:10001258-1751018400-1751032800@horizonhealthky.org
SUMMARY:Redemption & Recovery
DESCRIPTION:Redemption & Recovery at East Barbourville Baptist Church
URL:https://horizonhealthky.org/event/knox-county-redemption-recovery/2025-06-27/
LOCATION:East Barbourville Baptist Church\, 279 Old 25 E\, Barbourville\, KY\, 40906\, United States
END:VEVENT
BEGIN:VEVENT
DTSTART;TZID=America/Kentucky/Louisville:20250627T113000
DTEND;TZID=America/Kentucky/Louisville:20250627T133000
DTSTAMP:20260423T111325
CREATED:20250610T142821Z
LAST-MODIFIED:20250610T142821Z
UID:10001279-1751023800-1751031000@horizonhealthky.org
SUMMARY:Ribbon Cutting - Horizon Health's New Gray Location
DESCRIPTION:Join us for a ribbon cutting at Horizon Health\, celebrating the opening of our new location in Gray\, Kentucky\, on Friday\, June 27\, 2025. \nThe Open House will be from 11:30 AM – 1:00 PM\, with the ribbon cutting taking place at 12:00 PM. This event is located at 9555 N US HWY 25E\, Gray\, KY 40734. \nWe look forward to seeing you there!
URL:https://horizonhealthky.org/event/ribbon-cutting-horizon-healths-new-gray-location/
LOCATION:Horizon Health (Gray Training Center)\, 9555 N Hwy 25E\, Gray\, KY\, 40734\, United States
ATTACH;FMTTYPE=image/png:https://horizonhealthky.org/wp-content/uploads/2025/06/HH-Gray-Ribbon-Cutting-Gray-Location-06-10-25.png
END:VEVENT
BEGIN:VEVENT
DTSTART;TZID=America/Kentucky/Louisville:20250630T080000
DTEND;TZID=America/Kentucky/Louisville:20250630T150000
DTSTAMP:20260423T111325
CREATED:20250513T204428Z
LAST-MODIFIED:20250514T173049Z
UID:10000672-1751270400-1751295600@horizonhealthky.org
SUMMARY:Whitley Syringe Exchange
DESCRIPTION:Whitley County Health Department (368 Penny Ln\, Williamsburg\, KY 40769\, United States)
URL:https://horizonhealthky.org/event/whitley-syringe-exchange/2025-06-30/
LOCATION:Whitley County Health Department\, 368 Penny Ln\, Williamsburg\, KY\, 40769\, United States
END:VEVENT
BEGIN:VEVENT
DTSTART;TZID=America/Kentucky/Louisville:20250701T080000
DTEND;TZID=America/Kentucky/Louisville:20250701T150000
DTSTAMP:20260423T111325
CREATED:20250513T204428Z
LAST-MODIFIED:20250514T173049Z
UID:10000673-1751356800-1751382000@horizonhealthky.org
SUMMARY:Whitley Syringe Exchange
DESCRIPTION:Whitley County Health Department (368 Penny Ln\, Williamsburg\, KY 40769\, United States)
URL:https://horizonhealthky.org/event/whitley-syringe-exchange/2025-07-01/
LOCATION:Whitley County Health Department\, 368 Penny Ln\, Williamsburg\, KY\, 40769\, United States
END:VEVENT
BEGIN:VEVENT
DTSTART;TZID=America/Kentucky/Louisville:20250701T100000
DTEND;TZID=America/Kentucky/Louisville:20250701T140000
DTSTAMP:20260423T111325
CREATED:20250513T204617Z
LAST-MODIFIED:20250514T173119Z
UID:10000950-1751364000-1751378400@horizonhealthky.org
SUMMARY:Laurel County Syringe Exchange
DESCRIPTION:Laurel County Health Department (525 Whitley St\, London\, KY 40741\, United States)
URL:https://horizonhealthky.org/event/laurel-county-syringe-exchange/2025-07-01/
LOCATION:Laurel County Health Department\, 525 Whitley St\, London\, KY\, 40741\, United States
END:VEVENT
BEGIN:VEVENT
DTSTART;TZID=America/Kentucky/Louisville:20250701T100000
DTEND;TZID=America/Kentucky/Louisville:20250701T140000
DTSTAMP:20260423T111325
CREATED:20250513T204828Z
LAST-MODIFIED:20250514T173142Z
UID:10001108-1751364000-1751378400@horizonhealthky.org
SUMMARY:Knox County Syringe Exchange
DESCRIPTION:Knox County Health Department (261 Hospital Dr\, Barbourville\, KY 40906\, United States)
URL:https://horizonhealthky.org/event/knox-county-syringe-exchange/2025-07-01/
LOCATION:Knox County Health Department\, 261 Hospital Dr\, Barbourville\, KY\, 40906\, United States
END:VEVENT
BEGIN:VEVENT
DTSTART;TZID=America/Kentucky/Louisville:20250702T080000
DTEND;TZID=America/Kentucky/Louisville:20250702T150000
DTSTAMP:20260423T111325
CREATED:20250513T204428Z
LAST-MODIFIED:20250514T173049Z
UID:10000674-1751443200-1751468400@horizonhealthky.org
SUMMARY:Whitley Syringe Exchange
DESCRIPTION:Whitley County Health Department (368 Penny Ln\, Williamsburg\, KY 40769\, United States)
URL:https://horizonhealthky.org/event/whitley-syringe-exchange/2025-07-02/
LOCATION:Whitley County Health Department\, 368 Penny Ln\, Williamsburg\, KY\, 40769\, United States
END:VEVENT
BEGIN:VEVENT
DTSTART;TZID=America/Kentucky/Louisville:20250703T080000
DTEND;TZID=America/Kentucky/Louisville:20250703T150000
DTSTAMP:20260423T111325
CREATED:20250513T204428Z
LAST-MODIFIED:20250514T173049Z
UID:10000675-1751529600-1751554800@horizonhealthky.org
SUMMARY:Whitley Syringe Exchange
DESCRIPTION:Whitley County Health Department (368 Penny Ln\, Williamsburg\, KY 40769\, United States)
URL:https://horizonhealthky.org/event/whitley-syringe-exchange/2025-07-03/
LOCATION:Whitley County Health Department\, 368 Penny Ln\, Williamsburg\, KY\, 40769\, United States
END:VEVENT
BEGIN:VEVENT
DTSTART;TZID=America/Kentucky/Louisville:20250703T100000
DTEND;TZID=America/Kentucky/Louisville:20250703T140000
DTSTAMP:20260423T111325
CREATED:20250513T204617Z
LAST-MODIFIED:20250514T173119Z
UID:10000951-1751536800-1751551200@horizonhealthky.org
SUMMARY:Laurel County Syringe Exchange
DESCRIPTION:Laurel County Health Department (525 Whitley St\, London\, KY 40741\, United States)
URL:https://horizonhealthky.org/event/laurel-county-syringe-exchange/2025-07-03/
LOCATION:Laurel County Health Department\, 525 Whitley St\, London\, KY\, 40741\, United States
END:VEVENT
BEGIN:VEVENT
DTSTART;TZID=America/Kentucky/Louisville:20250703T100000
DTEND;TZID=America/Kentucky/Louisville:20250703T140000
DTSTAMP:20260423T111325
CREATED:20250513T204828Z
LAST-MODIFIED:20250514T173142Z
UID:10001109-1751536800-1751551200@horizonhealthky.org
SUMMARY:Knox County Syringe Exchange
DESCRIPTION:Knox County Health Department (261 Hospital Dr\, Barbourville\, KY 40906\, United States)
URL:https://horizonhealthky.org/event/knox-county-syringe-exchange/2025-07-03/
LOCATION:Knox County Health Department\, 261 Hospital Dr\, Barbourville\, KY\, 40906\, United States
END:VEVENT
BEGIN:VEVENT
DTSTART;TZID=America/Kentucky/Louisville:20250704T100000
DTEND;TZID=America/Kentucky/Louisville:20250704T140000
DTSTAMP:20260423T111325
CREATED:20250513T205155Z
LAST-MODIFIED:20250514T173205Z
UID:10001259-1751623200-1751637600@horizonhealthky.org
SUMMARY:Redemption & Recovery
DESCRIPTION:Redemption & Recovery at East Barbourville Baptist Church
URL:https://horizonhealthky.org/event/knox-county-redemption-recovery/2025-07-04/
LOCATION:East Barbourville Baptist Church\, 279 Old 25 E\, Barbourville\, KY\, 40906\, United States
END:VEVENT
BEGIN:VEVENT
DTSTART;TZID=America/Kentucky/Louisville:20250707T080000
DTEND;TZID=America/Kentucky/Louisville:20250707T150000
DTSTAMP:20260423T111325
CREATED:20250513T204428Z
LAST-MODIFIED:20250514T173049Z
UID:10000676-1751875200-1751900400@horizonhealthky.org
SUMMARY:Whitley Syringe Exchange
DESCRIPTION:Whitley County Health Department (368 Penny Ln\, Williamsburg\, KY 40769\, United States)
URL:https://horizonhealthky.org/event/whitley-syringe-exchange/2025-07-07/
LOCATION:Whitley County Health Department\, 368 Penny Ln\, Williamsburg\, KY\, 40769\, United States
END:VEVENT
BEGIN:VEVENT
DTSTART;TZID=America/Kentucky/Louisville:20250708T080000
DTEND;TZID=America/Kentucky/Louisville:20250708T150000
DTSTAMP:20260423T111325
CREATED:20250513T204428Z
LAST-MODIFIED:20250514T173049Z
UID:10000677-1751961600-1751986800@horizonhealthky.org
SUMMARY:Whitley Syringe Exchange
DESCRIPTION:Whitley County Health Department (368 Penny Ln\, Williamsburg\, KY 40769\, United States)
URL:https://horizonhealthky.org/event/whitley-syringe-exchange/2025-07-08/
LOCATION:Whitley County Health Department\, 368 Penny Ln\, Williamsburg\, KY\, 40769\, United States
END:VEVENT
BEGIN:VEVENT
DTSTART;TZID=America/Kentucky/Louisville:20250708T100000
DTEND;TZID=America/Kentucky/Louisville:20250708T140000
DTSTAMP:20260423T111325
CREATED:20250513T204617Z
LAST-MODIFIED:20250514T173119Z
UID:10000952-1751968800-1751983200@horizonhealthky.org
SUMMARY:Laurel County Syringe Exchange
DESCRIPTION:Laurel County Health Department (525 Whitley St\, London\, KY 40741\, United States)
URL:https://horizonhealthky.org/event/laurel-county-syringe-exchange/2025-07-08/
LOCATION:Laurel County Health Department\, 525 Whitley St\, London\, KY\, 40741\, United States
END:VEVENT
BEGIN:VEVENT
DTSTART;TZID=America/Kentucky/Louisville:20250708T100000
DTEND;TZID=America/Kentucky/Louisville:20250708T140000
DTSTAMP:20260423T111325
CREATED:20250513T204828Z
LAST-MODIFIED:20250514T173142Z
UID:10001110-1751968800-1751983200@horizonhealthky.org
SUMMARY:Knox County Syringe Exchange
DESCRIPTION:Knox County Health Department (261 Hospital Dr\, Barbourville\, KY 40906\, United States)
URL:https://horizonhealthky.org/event/knox-county-syringe-exchange/2025-07-08/
LOCATION:Knox County Health Department\, 261 Hospital Dr\, Barbourville\, KY\, 40906\, United States
END:VEVENT
BEGIN:VEVENT
DTSTART;TZID=America/Kentucky/Louisville:20250709T080000
DTEND;TZID=America/Kentucky/Louisville:20250709T150000
DTSTAMP:20260423T111325
CREATED:20250513T204428Z
LAST-MODIFIED:20250514T173049Z
UID:10000678-1752048000-1752073200@horizonhealthky.org
SUMMARY:Whitley Syringe Exchange
DESCRIPTION:Whitley County Health Department (368 Penny Ln\, Williamsburg\, KY 40769\, United States)
URL:https://horizonhealthky.org/event/whitley-syringe-exchange/2025-07-09/
LOCATION:Whitley County Health Department\, 368 Penny Ln\, Williamsburg\, KY\, 40769\, United States
END:VEVENT
BEGIN:VEVENT
DTSTART;TZID=America/Kentucky/Louisville:20250710T080000
DTEND;TZID=America/Kentucky/Louisville:20250710T150000
DTSTAMP:20260423T111325
CREATED:20250513T204428Z
LAST-MODIFIED:20250514T173049Z
UID:10000679-1752134400-1752159600@horizonhealthky.org
SUMMARY:Whitley Syringe Exchange
DESCRIPTION:Whitley County Health Department (368 Penny Ln\, Williamsburg\, KY 40769\, United States)
URL:https://horizonhealthky.org/event/whitley-syringe-exchange/2025-07-10/
LOCATION:Whitley County Health Department\, 368 Penny Ln\, Williamsburg\, KY\, 40769\, United States
END:VEVENT
BEGIN:VEVENT
DTSTART;TZID=America/Kentucky/Louisville:20250710T100000
DTEND;TZID=America/Kentucky/Louisville:20250710T140000
DTSTAMP:20260423T111325
CREATED:20250513T204617Z
LAST-MODIFIED:20250514T173119Z
UID:10000953-1752141600-1752156000@horizonhealthky.org
SUMMARY:Laurel County Syringe Exchange
DESCRIPTION:Laurel County Health Department (525 Whitley St\, London\, KY 40741\, United States)
URL:https://horizonhealthky.org/event/laurel-county-syringe-exchange/2025-07-10/
LOCATION:Laurel County Health Department\, 525 Whitley St\, London\, KY\, 40741\, United States
END:VEVENT
BEGIN:VEVENT
DTSTART;TZID=America/Kentucky/Louisville:20250710T100000
DTEND;TZID=America/Kentucky/Louisville:20250710T140000
DTSTAMP:20260423T111325
CREATED:20250513T204828Z
LAST-MODIFIED:20250514T173142Z
UID:10001111-1752141600-1752156000@horizonhealthky.org
SUMMARY:Knox County Syringe Exchange
DESCRIPTION:Knox County Health Department (261 Hospital Dr\, Barbourville\, KY 40906\, United States)
URL:https://horizonhealthky.org/event/knox-county-syringe-exchange/2025-07-10/
LOCATION:Knox County Health Department\, 261 Hospital Dr\, Barbourville\, KY\, 40906\, United States
END:VEVENT
BEGIN:VEVENT
DTSTART;TZID=America/Kentucky/Louisville:20250711T100000
DTEND;TZID=America/Kentucky/Louisville:20250711T140000
DTSTAMP:20260423T111325
CREATED:20250513T205155Z
LAST-MODIFIED:20250514T173205Z
UID:10001260-1752228000-1752242400@horizonhealthky.org
SUMMARY:Redemption & Recovery
DESCRIPTION:Redemption & Recovery at East Barbourville Baptist Church
URL:https://horizonhealthky.org/event/knox-county-redemption-recovery/2025-07-11/
LOCATION:East Barbourville Baptist Church\, 279 Old 25 E\, Barbourville\, KY\, 40906\, United States
END:VEVENT
BEGIN:VEVENT
DTSTART;TZID=America/Kentucky/Louisville:20250714T080000
DTEND;TZID=America/Kentucky/Louisville:20250714T150000
DTSTAMP:20260423T111325
CREATED:20250513T204428Z
LAST-MODIFIED:20250514T173049Z
UID:10000680-1752480000-1752505200@horizonhealthky.org
SUMMARY:Whitley Syringe Exchange
DESCRIPTION:Whitley County Health Department (368 Penny Ln\, Williamsburg\, KY 40769\, United States)
URL:https://horizonhealthky.org/event/whitley-syringe-exchange/2025-07-14/
LOCATION:Whitley County Health Department\, 368 Penny Ln\, Williamsburg\, KY\, 40769\, United States
END:VEVENT
BEGIN:VEVENT
DTSTART;TZID=America/Kentucky/Louisville:20250715T080000
DTEND;TZID=America/Kentucky/Louisville:20250715T150000
DTSTAMP:20260423T111325
CREATED:20250513T204428Z
LAST-MODIFIED:20250514T173049Z
UID:10000681-1752566400-1752591600@horizonhealthky.org
SUMMARY:Whitley Syringe Exchange
DESCRIPTION:Whitley County Health Department (368 Penny Ln\, Williamsburg\, KY 40769\, United States)
URL:https://horizonhealthky.org/event/whitley-syringe-exchange/2025-07-15/
LOCATION:Whitley County Health Department\, 368 Penny Ln\, Williamsburg\, KY\, 40769\, United States
END:VEVENT
END:VCALENDAR