BEGIN:VCALENDAR
VERSION:2.0
PRODID:-//Horizon Health - ECPv6.15.20//NONSGML v1.0//EN
CALSCALE:GREGORIAN
METHOD:PUBLISH
X-WR-CALNAME:Horizon Health
X-ORIGINAL-URL:https://horizonhealthky.org
X-WR-CALDESC:Events for Horizon Health
REFRESH-INTERVAL;VALUE=DURATION:PT1H
X-Robots-Tag:noindex
X-PUBLISHED-TTL:PT1H
BEGIN:VTIMEZONE
TZID:America/Kentucky/Louisville
BEGIN:DAYLIGHT
TZOFFSETFROM:-0500
TZOFFSETTO:-0400
TZNAME:EDT
DTSTART:20250309T070000
END:DAYLIGHT
BEGIN:STANDARD
TZOFFSETFROM:-0400
TZOFFSETTO:-0500
TZNAME:EST
DTSTART:20251102T060000
END:STANDARD
BEGIN:DAYLIGHT
TZOFFSETFROM:-0500
TZOFFSETTO:-0400
TZNAME:EDT
DTSTART:20260308T070000
END:DAYLIGHT
BEGIN:STANDARD
TZOFFSETFROM:-0400
TZOFFSETTO:-0500
TZNAME:EST
DTSTART:20261101T060000
END:STANDARD
BEGIN:DAYLIGHT
TZOFFSETFROM:-0500
TZOFFSETTO:-0400
TZNAME:EDT
DTSTART:20270314T070000
END:DAYLIGHT
BEGIN:STANDARD
TZOFFSETFROM:-0400
TZOFFSETTO:-0500
TZNAME:EST
DTSTART:20271107T060000
END:STANDARD
END:VTIMEZONE
BEGIN:VEVENT
DTSTART;TZID=America/Kentucky/Louisville:20260423T100000
DTEND;TZID=America/Kentucky/Louisville:20260423T140000
DTSTAMP:20260422T184331
CREATED:20250513T204828Z
LAST-MODIFIED:20250514T173142Z
UID:10001193-1776938400-1776952800@horizonhealthky.org
SUMMARY:Knox County Syringe Exchange
DESCRIPTION:Knox County Health Department (261 Hospital Dr\, Barbourville\, KY 40906\, United States)
URL:https://horizonhealthky.org/event/knox-county-syringe-exchange/2026-04-23/
LOCATION:Knox County Health Department\, 261 Hospital Dr\, Barbourville\, KY\, 40906\, United States
END:VEVENT
BEGIN:VEVENT
DTSTART;TZID=America/Kentucky/Louisville:20260423T100000
DTEND;TZID=America/Kentucky/Louisville:20260423T140000
DTSTAMP:20260422T184331
CREATED:20250513T204617Z
LAST-MODIFIED:20250514T173119Z
UID:10001035-1776938400-1776952800@horizonhealthky.org
SUMMARY:Laurel County Syringe Exchange
DESCRIPTION:Laurel County Health Department (525 Whitley St\, London\, KY 40741\, United States)
URL:https://horizonhealthky.org/event/laurel-county-syringe-exchange/2026-04-23/
LOCATION:Laurel County Health Department\, 525 Whitley St\, London\, KY\, 40741\, United States
END:VEVENT
BEGIN:VEVENT
DTSTART;TZID=America/Kentucky/Louisville:20260423T080000
DTEND;TZID=America/Kentucky/Louisville:20260423T150000
DTSTAMP:20260422T184331
CREATED:20250513T204428Z
LAST-MODIFIED:20250514T173049Z
UID:10000843-1776931200-1776956400@horizonhealthky.org
SUMMARY:Whitley Syringe Exchange
DESCRIPTION:Whitley County Health Department (368 Penny Ln\, Williamsburg\, KY 40769\, United States)
URL:https://horizonhealthky.org/event/whitley-syringe-exchange/2026-04-23/
LOCATION:Whitley County Health Department\, 368 Penny Ln\, Williamsburg\, KY\, 40769\, United States
END:VEVENT
BEGIN:VEVENT
DTSTART;TZID=America/Kentucky/Louisville:20260422T080000
DTEND;TZID=America/Kentucky/Louisville:20260422T150000
DTSTAMP:20260422T184331
CREATED:20250513T204428Z
LAST-MODIFIED:20250514T173049Z
UID:10000842-1776844800-1776870000@horizonhealthky.org
SUMMARY:Whitley Syringe Exchange
DESCRIPTION:Whitley County Health Department (368 Penny Ln\, Williamsburg\, KY 40769\, United States)
URL:https://horizonhealthky.org/event/whitley-syringe-exchange/2026-04-22/
LOCATION:Whitley County Health Department\, 368 Penny Ln\, Williamsburg\, KY\, 40769\, United States
END:VEVENT
BEGIN:VEVENT
DTSTART;TZID=America/Kentucky/Louisville:20260421T100000
DTEND;TZID=America/Kentucky/Louisville:20260421T140000
DTSTAMP:20260422T184331
CREATED:20250513T204828Z
LAST-MODIFIED:20250514T173142Z
UID:10001192-1776765600-1776780000@horizonhealthky.org
SUMMARY:Knox County Syringe Exchange
DESCRIPTION:Knox County Health Department (261 Hospital Dr\, Barbourville\, KY 40906\, United States)
URL:https://horizonhealthky.org/event/knox-county-syringe-exchange/2026-04-21/
LOCATION:Knox County Health Department\, 261 Hospital Dr\, Barbourville\, KY\, 40906\, United States
END:VEVENT
BEGIN:VEVENT
DTSTART;TZID=America/Kentucky/Louisville:20260421T100000
DTEND;TZID=America/Kentucky/Louisville:20260421T140000
DTSTAMP:20260422T184331
CREATED:20250513T204617Z
LAST-MODIFIED:20250514T173119Z
UID:10001034-1776765600-1776780000@horizonhealthky.org
SUMMARY:Laurel County Syringe Exchange
DESCRIPTION:Laurel County Health Department (525 Whitley St\, London\, KY 40741\, United States)
URL:https://horizonhealthky.org/event/laurel-county-syringe-exchange/2026-04-21/
LOCATION:Laurel County Health Department\, 525 Whitley St\, London\, KY\, 40741\, United States
END:VEVENT
BEGIN:VEVENT
DTSTART;TZID=America/Kentucky/Louisville:20260421T080000
DTEND;TZID=America/Kentucky/Louisville:20260421T150000
DTSTAMP:20260422T184331
CREATED:20250513T204428Z
LAST-MODIFIED:20250514T173049Z
UID:10000841-1776758400-1776783600@horizonhealthky.org
SUMMARY:Whitley Syringe Exchange
DESCRIPTION:Whitley County Health Department (368 Penny Ln\, Williamsburg\, KY 40769\, United States)
URL:https://horizonhealthky.org/event/whitley-syringe-exchange/2026-04-21/
LOCATION:Whitley County Health Department\, 368 Penny Ln\, Williamsburg\, KY\, 40769\, United States
END:VEVENT
BEGIN:VEVENT
DTSTART;TZID=America/Kentucky/Louisville:20260420T080000
DTEND;TZID=America/Kentucky/Louisville:20260420T150000
DTSTAMP:20260422T184331
CREATED:20250513T204428Z
LAST-MODIFIED:20250514T173049Z
UID:10000840-1776672000-1776697200@horizonhealthky.org
SUMMARY:Whitley Syringe Exchange
DESCRIPTION:Whitley County Health Department (368 Penny Ln\, Williamsburg\, KY 40769\, United States)
URL:https://horizonhealthky.org/event/whitley-syringe-exchange/2026-04-20/
LOCATION:Whitley County Health Department\, 368 Penny Ln\, Williamsburg\, KY\, 40769\, United States
END:VEVENT
BEGIN:VEVENT
DTSTART;TZID=America/Kentucky/Louisville:20260416T100000
DTEND;TZID=America/Kentucky/Louisville:20260416T140000
DTSTAMP:20260422T184331
CREATED:20250513T204828Z
LAST-MODIFIED:20250514T173142Z
UID:10001191-1776333600-1776348000@horizonhealthky.org
SUMMARY:Knox County Syringe Exchange
DESCRIPTION:Knox County Health Department (261 Hospital Dr\, Barbourville\, KY 40906\, United States)
URL:https://horizonhealthky.org/event/knox-county-syringe-exchange/2026-04-16/
LOCATION:Knox County Health Department\, 261 Hospital Dr\, Barbourville\, KY\, 40906\, United States
END:VEVENT
BEGIN:VEVENT
DTSTART;TZID=America/Kentucky/Louisville:20260416T100000
DTEND;TZID=America/Kentucky/Louisville:20260416T140000
DTSTAMP:20260422T184331
CREATED:20250513T204617Z
LAST-MODIFIED:20250514T173119Z
UID:10001033-1776333600-1776348000@horizonhealthky.org
SUMMARY:Laurel County Syringe Exchange
DESCRIPTION:Laurel County Health Department (525 Whitley St\, London\, KY 40741\, United States)
URL:https://horizonhealthky.org/event/laurel-county-syringe-exchange/2026-04-16/
LOCATION:Laurel County Health Department\, 525 Whitley St\, London\, KY\, 40741\, United States
END:VEVENT
BEGIN:VEVENT
DTSTART;TZID=America/Kentucky/Louisville:20260416T080000
DTEND;TZID=America/Kentucky/Louisville:20260416T150000
DTSTAMP:20260422T184331
CREATED:20250513T204428Z
LAST-MODIFIED:20250514T173049Z
UID:10000839-1776326400-1776351600@horizonhealthky.org
SUMMARY:Whitley Syringe Exchange
DESCRIPTION:Whitley County Health Department (368 Penny Ln\, Williamsburg\, KY 40769\, United States)
URL:https://horizonhealthky.org/event/whitley-syringe-exchange/2026-04-16/
LOCATION:Whitley County Health Department\, 368 Penny Ln\, Williamsburg\, KY\, 40769\, United States
END:VEVENT
BEGIN:VEVENT
DTSTART;TZID=America/Kentucky/Louisville:20260415T080000
DTEND;TZID=America/Kentucky/Louisville:20260415T150000
DTSTAMP:20260422T184331
CREATED:20250513T204428Z
LAST-MODIFIED:20250514T173049Z
UID:10000838-1776240000-1776265200@horizonhealthky.org
SUMMARY:Whitley Syringe Exchange
DESCRIPTION:Whitley County Health Department (368 Penny Ln\, Williamsburg\, KY 40769\, United States)
URL:https://horizonhealthky.org/event/whitley-syringe-exchange/2026-04-15/
LOCATION:Whitley County Health Department\, 368 Penny Ln\, Williamsburg\, KY\, 40769\, United States
END:VEVENT
BEGIN:VEVENT
DTSTART;TZID=America/Kentucky/Louisville:20260414T100000
DTEND;TZID=America/Kentucky/Louisville:20260414T140000
DTSTAMP:20260422T184331
CREATED:20250513T204828Z
LAST-MODIFIED:20250514T173142Z
UID:10001190-1776160800-1776175200@horizonhealthky.org
SUMMARY:Knox County Syringe Exchange
DESCRIPTION:Knox County Health Department (261 Hospital Dr\, Barbourville\, KY 40906\, United States)
URL:https://horizonhealthky.org/event/knox-county-syringe-exchange/2026-04-14/
LOCATION:Knox County Health Department\, 261 Hospital Dr\, Barbourville\, KY\, 40906\, United States
END:VEVENT
BEGIN:VEVENT
DTSTART;TZID=America/Kentucky/Louisville:20260414T100000
DTEND;TZID=America/Kentucky/Louisville:20260414T140000
DTSTAMP:20260422T184331
CREATED:20250513T204617Z
LAST-MODIFIED:20250514T173119Z
UID:10001032-1776160800-1776175200@horizonhealthky.org
SUMMARY:Laurel County Syringe Exchange
DESCRIPTION:Laurel County Health Department (525 Whitley St\, London\, KY 40741\, United States)
URL:https://horizonhealthky.org/event/laurel-county-syringe-exchange/2026-04-14/
LOCATION:Laurel County Health Department\, 525 Whitley St\, London\, KY\, 40741\, United States
END:VEVENT
BEGIN:VEVENT
DTSTART;TZID=America/Kentucky/Louisville:20260414T080000
DTEND;TZID=America/Kentucky/Louisville:20260414T150000
DTSTAMP:20260422T184331
CREATED:20250513T204428Z
LAST-MODIFIED:20250514T173049Z
UID:10000837-1776153600-1776178800@horizonhealthky.org
SUMMARY:Whitley Syringe Exchange
DESCRIPTION:Whitley County Health Department (368 Penny Ln\, Williamsburg\, KY 40769\, United States)
URL:https://horizonhealthky.org/event/whitley-syringe-exchange/2026-04-14/
LOCATION:Whitley County Health Department\, 368 Penny Ln\, Williamsburg\, KY\, 40769\, United States
END:VEVENT
BEGIN:VEVENT
DTSTART;TZID=America/Kentucky/Louisville:20260413T080000
DTEND;TZID=America/Kentucky/Louisville:20260413T150000
DTSTAMP:20260422T184331
CREATED:20250513T204428Z
LAST-MODIFIED:20250514T173049Z
UID:10000836-1776067200-1776092400@horizonhealthky.org
SUMMARY:Whitley Syringe Exchange
DESCRIPTION:Whitley County Health Department (368 Penny Ln\, Williamsburg\, KY 40769\, United States)
URL:https://horizonhealthky.org/event/whitley-syringe-exchange/2026-04-13/
LOCATION:Whitley County Health Department\, 368 Penny Ln\, Williamsburg\, KY\, 40769\, United States
END:VEVENT
BEGIN:VEVENT
DTSTART;TZID=America/Kentucky/Louisville:20260409T100000
DTEND;TZID=America/Kentucky/Louisville:20260409T140000
DTSTAMP:20260422T184331
CREATED:20250513T204828Z
LAST-MODIFIED:20250514T173142Z
UID:10001189-1775728800-1775743200@horizonhealthky.org
SUMMARY:Knox County Syringe Exchange
DESCRIPTION:Knox County Health Department (261 Hospital Dr\, Barbourville\, KY 40906\, United States)
URL:https://horizonhealthky.org/event/knox-county-syringe-exchange/2026-04-09/
LOCATION:Knox County Health Department\, 261 Hospital Dr\, Barbourville\, KY\, 40906\, United States
END:VEVENT
BEGIN:VEVENT
DTSTART;TZID=America/Kentucky/Louisville:20260409T100000
DTEND;TZID=America/Kentucky/Louisville:20260409T140000
DTSTAMP:20260422T184331
CREATED:20250513T204617Z
LAST-MODIFIED:20250514T173119Z
UID:10001031-1775728800-1775743200@horizonhealthky.org
SUMMARY:Laurel County Syringe Exchange
DESCRIPTION:Laurel County Health Department (525 Whitley St\, London\, KY 40741\, United States)
URL:https://horizonhealthky.org/event/laurel-county-syringe-exchange/2026-04-09/
LOCATION:Laurel County Health Department\, 525 Whitley St\, London\, KY\, 40741\, United States
END:VEVENT
BEGIN:VEVENT
DTSTART;TZID=America/Kentucky/Louisville:20260409T080000
DTEND;TZID=America/Kentucky/Louisville:20260409T150000
DTSTAMP:20260422T184331
CREATED:20250513T204428Z
LAST-MODIFIED:20250514T173049Z
UID:10000835-1775721600-1775746800@horizonhealthky.org
SUMMARY:Whitley Syringe Exchange
DESCRIPTION:Whitley County Health Department (368 Penny Ln\, Williamsburg\, KY 40769\, United States)
URL:https://horizonhealthky.org/event/whitley-syringe-exchange/2026-04-09/
LOCATION:Whitley County Health Department\, 368 Penny Ln\, Williamsburg\, KY\, 40769\, United States
END:VEVENT
BEGIN:VEVENT
DTSTART;TZID=America/Kentucky/Louisville:20260408T080000
DTEND;TZID=America/Kentucky/Louisville:20260408T150000
DTSTAMP:20260422T184331
CREATED:20250513T204428Z
LAST-MODIFIED:20250514T173049Z
UID:10000834-1775635200-1775660400@horizonhealthky.org
SUMMARY:Whitley Syringe Exchange
DESCRIPTION:Whitley County Health Department (368 Penny Ln\, Williamsburg\, KY 40769\, United States)
URL:https://horizonhealthky.org/event/whitley-syringe-exchange/2026-04-08/
LOCATION:Whitley County Health Department\, 368 Penny Ln\, Williamsburg\, KY\, 40769\, United States
END:VEVENT
BEGIN:VEVENT
DTSTART;TZID=America/Kentucky/Louisville:20260407T100000
DTEND;TZID=America/Kentucky/Louisville:20260407T140000
DTSTAMP:20260422T184331
CREATED:20250513T204828Z
LAST-MODIFIED:20250514T173142Z
UID:10001188-1775556000-1775570400@horizonhealthky.org
SUMMARY:Knox County Syringe Exchange
DESCRIPTION:Knox County Health Department (261 Hospital Dr\, Barbourville\, KY 40906\, United States)
URL:https://horizonhealthky.org/event/knox-county-syringe-exchange/2026-04-07/
LOCATION:Knox County Health Department\, 261 Hospital Dr\, Barbourville\, KY\, 40906\, United States
END:VEVENT
BEGIN:VEVENT
DTSTART;TZID=America/Kentucky/Louisville:20260407T100000
DTEND;TZID=America/Kentucky/Louisville:20260407T140000
DTSTAMP:20260422T184331
CREATED:20250513T204617Z
LAST-MODIFIED:20250514T173119Z
UID:10001030-1775556000-1775570400@horizonhealthky.org
SUMMARY:Laurel County Syringe Exchange
DESCRIPTION:Laurel County Health Department (525 Whitley St\, London\, KY 40741\, United States)
URL:https://horizonhealthky.org/event/laurel-county-syringe-exchange/2026-04-07/
LOCATION:Laurel County Health Department\, 525 Whitley St\, London\, KY\, 40741\, United States
END:VEVENT
BEGIN:VEVENT
DTSTART;TZID=America/Kentucky/Louisville:20260407T080000
DTEND;TZID=America/Kentucky/Louisville:20260407T150000
DTSTAMP:20260422T184331
CREATED:20250513T204428Z
LAST-MODIFIED:20250514T173049Z
UID:10000833-1775548800-1775574000@horizonhealthky.org
SUMMARY:Whitley Syringe Exchange
DESCRIPTION:Whitley County Health Department (368 Penny Ln\, Williamsburg\, KY 40769\, United States)
URL:https://horizonhealthky.org/event/whitley-syringe-exchange/2026-04-07/
LOCATION:Whitley County Health Department\, 368 Penny Ln\, Williamsburg\, KY\, 40769\, United States
END:VEVENT
BEGIN:VEVENT
DTSTART;TZID=America/Kentucky/Louisville:20260406T080000
DTEND;TZID=America/Kentucky/Louisville:20260406T150000
DTSTAMP:20260422T184331
CREATED:20250513T204428Z
LAST-MODIFIED:20250514T173049Z
UID:10000832-1775462400-1775487600@horizonhealthky.org
SUMMARY:Whitley Syringe Exchange
DESCRIPTION:Whitley County Health Department (368 Penny Ln\, Williamsburg\, KY 40769\, United States)
URL:https://horizonhealthky.org/event/whitley-syringe-exchange/2026-04-06/
LOCATION:Whitley County Health Department\, 368 Penny Ln\, Williamsburg\, KY\, 40769\, United States
END:VEVENT
BEGIN:VEVENT
DTSTART;TZID=America/Kentucky/Louisville:20260402T100000
DTEND;TZID=America/Kentucky/Louisville:20260402T140000
DTSTAMP:20260422T184331
CREATED:20250513T204828Z
LAST-MODIFIED:20250514T173142Z
UID:10001187-1775124000-1775138400@horizonhealthky.org
SUMMARY:Knox County Syringe Exchange
DESCRIPTION:Knox County Health Department (261 Hospital Dr\, Barbourville\, KY 40906\, United States)
URL:https://horizonhealthky.org/event/knox-county-syringe-exchange/2026-04-02/
LOCATION:Knox County Health Department\, 261 Hospital Dr\, Barbourville\, KY\, 40906\, United States
END:VEVENT
BEGIN:VEVENT
DTSTART;TZID=America/Kentucky/Louisville:20260402T100000
DTEND;TZID=America/Kentucky/Louisville:20260402T140000
DTSTAMP:20260422T184331
CREATED:20250513T204617Z
LAST-MODIFIED:20250514T173119Z
UID:10001029-1775124000-1775138400@horizonhealthky.org
SUMMARY:Laurel County Syringe Exchange
DESCRIPTION:Laurel County Health Department (525 Whitley St\, London\, KY 40741\, United States)
URL:https://horizonhealthky.org/event/laurel-county-syringe-exchange/2026-04-02/
LOCATION:Laurel County Health Department\, 525 Whitley St\, London\, KY\, 40741\, United States
END:VEVENT
BEGIN:VEVENT
DTSTART;TZID=America/Kentucky/Louisville:20260402T080000
DTEND;TZID=America/Kentucky/Louisville:20260402T150000
DTSTAMP:20260422T184331
CREATED:20250513T204428Z
LAST-MODIFIED:20250514T173049Z
UID:10000831-1775116800-1775142000@horizonhealthky.org
SUMMARY:Whitley Syringe Exchange
DESCRIPTION:Whitley County Health Department (368 Penny Ln\, Williamsburg\, KY 40769\, United States)
URL:https://horizonhealthky.org/event/whitley-syringe-exchange/2026-04-02/
LOCATION:Whitley County Health Department\, 368 Penny Ln\, Williamsburg\, KY\, 40769\, United States
END:VEVENT
BEGIN:VEVENT
DTSTART;TZID=America/Kentucky/Louisville:20260401T080000
DTEND;TZID=America/Kentucky/Louisville:20260401T150000
DTSTAMP:20260422T184331
CREATED:20250513T204428Z
LAST-MODIFIED:20250514T173049Z
UID:10000830-1775030400-1775055600@horizonhealthky.org
SUMMARY:Whitley Syringe Exchange
DESCRIPTION:Whitley County Health Department (368 Penny Ln\, Williamsburg\, KY 40769\, United States)
URL:https://horizonhealthky.org/event/whitley-syringe-exchange/2026-04-01/
LOCATION:Whitley County Health Department\, 368 Penny Ln\, Williamsburg\, KY\, 40769\, United States
END:VEVENT
BEGIN:VEVENT
DTSTART;TZID=America/Kentucky/Louisville:20260331T100000
DTEND;TZID=America/Kentucky/Louisville:20260331T140000
DTSTAMP:20260422T184331
CREATED:20250513T204828Z
LAST-MODIFIED:20250514T173142Z
UID:10001186-1774951200-1774965600@horizonhealthky.org
SUMMARY:Knox County Syringe Exchange
DESCRIPTION:Knox County Health Department (261 Hospital Dr\, Barbourville\, KY 40906\, United States)
URL:https://horizonhealthky.org/event/knox-county-syringe-exchange/2026-03-31/
LOCATION:Knox County Health Department\, 261 Hospital Dr\, Barbourville\, KY\, 40906\, United States
END:VEVENT
BEGIN:VEVENT
DTSTART;TZID=America/Kentucky/Louisville:20260331T100000
DTEND;TZID=America/Kentucky/Louisville:20260331T140000
DTSTAMP:20260422T184331
CREATED:20250513T204617Z
LAST-MODIFIED:20250514T173119Z
UID:10001028-1774951200-1774965600@horizonhealthky.org
SUMMARY:Laurel County Syringe Exchange
DESCRIPTION:Laurel County Health Department (525 Whitley St\, London\, KY 40741\, United States)
URL:https://horizonhealthky.org/event/laurel-county-syringe-exchange/2026-03-31/
LOCATION:Laurel County Health Department\, 525 Whitley St\, London\, KY\, 40741\, United States
END:VEVENT
END:VCALENDAR