BEGIN:VCALENDAR
VERSION:2.0
PRODID:-//Horizon Health - ECPv6.15.20//NONSGML v1.0//EN
CALSCALE:GREGORIAN
METHOD:PUBLISH
X-WR-CALNAME:Horizon Health
X-ORIGINAL-URL:https://horizonhealthky.org
X-WR-CALDESC:Events for Horizon Health
REFRESH-INTERVAL;VALUE=DURATION:PT1H
X-Robots-Tag:noindex
X-PUBLISHED-TTL:PT1H
BEGIN:VTIMEZONE
TZID:America/Kentucky/Louisville
BEGIN:DAYLIGHT
TZOFFSETFROM:-0500
TZOFFSETTO:-0400
TZNAME:EDT
DTSTART:20250309T070000
END:DAYLIGHT
BEGIN:STANDARD
TZOFFSETFROM:-0400
TZOFFSETTO:-0500
TZNAME:EST
DTSTART:20251102T060000
END:STANDARD
BEGIN:DAYLIGHT
TZOFFSETFROM:-0500
TZOFFSETTO:-0400
TZNAME:EDT
DTSTART:20260308T070000
END:DAYLIGHT
BEGIN:STANDARD
TZOFFSETFROM:-0400
TZOFFSETTO:-0500
TZNAME:EST
DTSTART:20261101T060000
END:STANDARD
BEGIN:DAYLIGHT
TZOFFSETFROM:-0500
TZOFFSETTO:-0400
TZNAME:EDT
DTSTART:20270314T070000
END:DAYLIGHT
BEGIN:STANDARD
TZOFFSETFROM:-0400
TZOFFSETTO:-0500
TZNAME:EST
DTSTART:20271107T060000
END:STANDARD
END:VTIMEZONE
BEGIN:VEVENT
DTSTART;TZID=America/Kentucky/Louisville:20260303T100000
DTEND;TZID=America/Kentucky/Louisville:20260303T140000
DTSTAMP:20260422T184424
CREATED:20250513T204828Z
LAST-MODIFIED:20250514T173142Z
UID:10001178-1772532000-1772546400@horizonhealthky.org
SUMMARY:Knox County Syringe Exchange
DESCRIPTION:Knox County Health Department (261 Hospital Dr\, Barbourville\, KY 40906\, United States)
URL:https://horizonhealthky.org/event/knox-county-syringe-exchange/2026-03-03/
LOCATION:Knox County Health Department\, 261 Hospital Dr\, Barbourville\, KY\, 40906\, United States
END:VEVENT
BEGIN:VEVENT
DTSTART;TZID=America/Kentucky/Louisville:20260303T100000
DTEND;TZID=America/Kentucky/Louisville:20260303T140000
DTSTAMP:20260422T184424
CREATED:20250513T204617Z
LAST-MODIFIED:20250514T173119Z
UID:10001020-1772532000-1772546400@horizonhealthky.org
SUMMARY:Laurel County Syringe Exchange
DESCRIPTION:Laurel County Health Department (525 Whitley St\, London\, KY 40741\, United States)
URL:https://horizonhealthky.org/event/laurel-county-syringe-exchange/2026-03-03/
LOCATION:Laurel County Health Department\, 525 Whitley St\, London\, KY\, 40741\, United States
END:VEVENT
BEGIN:VEVENT
DTSTART;TZID=America/Kentucky/Louisville:20260303T080000
DTEND;TZID=America/Kentucky/Louisville:20260303T150000
DTSTAMP:20260422T184424
CREATED:20250513T204428Z
LAST-MODIFIED:20250514T173049Z
UID:10000813-1772524800-1772550000@horizonhealthky.org
SUMMARY:Whitley Syringe Exchange
DESCRIPTION:Whitley County Health Department (368 Penny Ln\, Williamsburg\, KY 40769\, United States)
URL:https://horizonhealthky.org/event/whitley-syringe-exchange/2026-03-03/
LOCATION:Whitley County Health Department\, 368 Penny Ln\, Williamsburg\, KY\, 40769\, United States
END:VEVENT
BEGIN:VEVENT
DTSTART;TZID=America/Kentucky/Louisville:20260302T080000
DTEND;TZID=America/Kentucky/Louisville:20260302T150000
DTSTAMP:20260422T184424
CREATED:20250513T204428Z
LAST-MODIFIED:20250514T173049Z
UID:10000812-1772438400-1772463600@horizonhealthky.org
SUMMARY:Whitley Syringe Exchange
DESCRIPTION:Whitley County Health Department (368 Penny Ln\, Williamsburg\, KY 40769\, United States)
URL:https://horizonhealthky.org/event/whitley-syringe-exchange/2026-03-02/
LOCATION:Whitley County Health Department\, 368 Penny Ln\, Williamsburg\, KY\, 40769\, United States
END:VEVENT
BEGIN:VEVENT
DTSTART;TZID=America/Kentucky/Louisville:20260226T100000
DTEND;TZID=America/Kentucky/Louisville:20260226T140000
DTSTAMP:20260422T184424
CREATED:20250513T204828Z
LAST-MODIFIED:20250514T173142Z
UID:10001177-1772100000-1772114400@horizonhealthky.org
SUMMARY:Knox County Syringe Exchange
DESCRIPTION:Knox County Health Department (261 Hospital Dr\, Barbourville\, KY 40906\, United States)
URL:https://horizonhealthky.org/event/knox-county-syringe-exchange/2026-02-26/
LOCATION:Knox County Health Department\, 261 Hospital Dr\, Barbourville\, KY\, 40906\, United States
END:VEVENT
BEGIN:VEVENT
DTSTART;TZID=America/Kentucky/Louisville:20260226T100000
DTEND;TZID=America/Kentucky/Louisville:20260226T140000
DTSTAMP:20260422T184424
CREATED:20250513T204617Z
LAST-MODIFIED:20250514T173119Z
UID:10001019-1772100000-1772114400@horizonhealthky.org
SUMMARY:Laurel County Syringe Exchange
DESCRIPTION:Laurel County Health Department (525 Whitley St\, London\, KY 40741\, United States)
URL:https://horizonhealthky.org/event/laurel-county-syringe-exchange/2026-02-26/
LOCATION:Laurel County Health Department\, 525 Whitley St\, London\, KY\, 40741\, United States
END:VEVENT
BEGIN:VEVENT
DTSTART;TZID=America/Kentucky/Louisville:20260226T080000
DTEND;TZID=America/Kentucky/Louisville:20260226T150000
DTSTAMP:20260422T184424
CREATED:20250513T204428Z
LAST-MODIFIED:20250514T173049Z
UID:10000811-1772092800-1772118000@horizonhealthky.org
SUMMARY:Whitley Syringe Exchange
DESCRIPTION:Whitley County Health Department (368 Penny Ln\, Williamsburg\, KY 40769\, United States)
URL:https://horizonhealthky.org/event/whitley-syringe-exchange/2026-02-26/
LOCATION:Whitley County Health Department\, 368 Penny Ln\, Williamsburg\, KY\, 40769\, United States
END:VEVENT
BEGIN:VEVENT
DTSTART;TZID=America/Kentucky/Louisville:20260225T080000
DTEND;TZID=America/Kentucky/Louisville:20260225T150000
DTSTAMP:20260422T184424
CREATED:20250513T204428Z
LAST-MODIFIED:20250514T173049Z
UID:10000810-1772006400-1772031600@horizonhealthky.org
SUMMARY:Whitley Syringe Exchange
DESCRIPTION:Whitley County Health Department (368 Penny Ln\, Williamsburg\, KY 40769\, United States)
URL:https://horizonhealthky.org/event/whitley-syringe-exchange/2026-02-25/
LOCATION:Whitley County Health Department\, 368 Penny Ln\, Williamsburg\, KY\, 40769\, United States
END:VEVENT
BEGIN:VEVENT
DTSTART;TZID=America/Kentucky/Louisville:20260224T100000
DTEND;TZID=America/Kentucky/Louisville:20260224T140000
DTSTAMP:20260422T184424
CREATED:20250513T204828Z
LAST-MODIFIED:20250514T173142Z
UID:10001176-1771927200-1771941600@horizonhealthky.org
SUMMARY:Knox County Syringe Exchange
DESCRIPTION:Knox County Health Department (261 Hospital Dr\, Barbourville\, KY 40906\, United States)
URL:https://horizonhealthky.org/event/knox-county-syringe-exchange/2026-02-24/
LOCATION:Knox County Health Department\, 261 Hospital Dr\, Barbourville\, KY\, 40906\, United States
END:VEVENT
BEGIN:VEVENT
DTSTART;TZID=America/Kentucky/Louisville:20260224T100000
DTEND;TZID=America/Kentucky/Louisville:20260224T140000
DTSTAMP:20260422T184424
CREATED:20250513T204617Z
LAST-MODIFIED:20250514T173119Z
UID:10001018-1771927200-1771941600@horizonhealthky.org
SUMMARY:Laurel County Syringe Exchange
DESCRIPTION:Laurel County Health Department (525 Whitley St\, London\, KY 40741\, United States)
URL:https://horizonhealthky.org/event/laurel-county-syringe-exchange/2026-02-24/
LOCATION:Laurel County Health Department\, 525 Whitley St\, London\, KY\, 40741\, United States
END:VEVENT
BEGIN:VEVENT
DTSTART;TZID=America/Kentucky/Louisville:20260224T080000
DTEND;TZID=America/Kentucky/Louisville:20260224T150000
DTSTAMP:20260422T184424
CREATED:20250513T204428Z
LAST-MODIFIED:20250514T173049Z
UID:10000809-1771920000-1771945200@horizonhealthky.org
SUMMARY:Whitley Syringe Exchange
DESCRIPTION:Whitley County Health Department (368 Penny Ln\, Williamsburg\, KY 40769\, United States)
URL:https://horizonhealthky.org/event/whitley-syringe-exchange/2026-02-24/
LOCATION:Whitley County Health Department\, 368 Penny Ln\, Williamsburg\, KY\, 40769\, United States
END:VEVENT
BEGIN:VEVENT
DTSTART;TZID=America/Kentucky/Louisville:20260223T080000
DTEND;TZID=America/Kentucky/Louisville:20260223T150000
DTSTAMP:20260422T184424
CREATED:20250513T204428Z
LAST-MODIFIED:20250514T173049Z
UID:10000808-1771833600-1771858800@horizonhealthky.org
SUMMARY:Whitley Syringe Exchange
DESCRIPTION:Whitley County Health Department (368 Penny Ln\, Williamsburg\, KY 40769\, United States)
URL:https://horizonhealthky.org/event/whitley-syringe-exchange/2026-02-23/
LOCATION:Whitley County Health Department\, 368 Penny Ln\, Williamsburg\, KY\, 40769\, United States
END:VEVENT
BEGIN:VEVENT
DTSTART;TZID=America/Kentucky/Louisville:20260219T100000
DTEND;TZID=America/Kentucky/Louisville:20260219T140000
DTSTAMP:20260422T184424
CREATED:20250513T204828Z
LAST-MODIFIED:20250514T173142Z
UID:10001175-1771495200-1771509600@horizonhealthky.org
SUMMARY:Knox County Syringe Exchange
DESCRIPTION:Knox County Health Department (261 Hospital Dr\, Barbourville\, KY 40906\, United States)
URL:https://horizonhealthky.org/event/knox-county-syringe-exchange/2026-02-19/
LOCATION:Knox County Health Department\, 261 Hospital Dr\, Barbourville\, KY\, 40906\, United States
END:VEVENT
BEGIN:VEVENT
DTSTART;TZID=America/Kentucky/Louisville:20260219T100000
DTEND;TZID=America/Kentucky/Louisville:20260219T140000
DTSTAMP:20260422T184424
CREATED:20250513T204617Z
LAST-MODIFIED:20250514T173119Z
UID:10001017-1771495200-1771509600@horizonhealthky.org
SUMMARY:Laurel County Syringe Exchange
DESCRIPTION:Laurel County Health Department (525 Whitley St\, London\, KY 40741\, United States)
URL:https://horizonhealthky.org/event/laurel-county-syringe-exchange/2026-02-19/
LOCATION:Laurel County Health Department\, 525 Whitley St\, London\, KY\, 40741\, United States
END:VEVENT
BEGIN:VEVENT
DTSTART;TZID=America/Kentucky/Louisville:20260219T080000
DTEND;TZID=America/Kentucky/Louisville:20260219T150000
DTSTAMP:20260422T184424
CREATED:20250513T204428Z
LAST-MODIFIED:20250514T173049Z
UID:10000807-1771488000-1771513200@horizonhealthky.org
SUMMARY:Whitley Syringe Exchange
DESCRIPTION:Whitley County Health Department (368 Penny Ln\, Williamsburg\, KY 40769\, United States)
URL:https://horizonhealthky.org/event/whitley-syringe-exchange/2026-02-19/
LOCATION:Whitley County Health Department\, 368 Penny Ln\, Williamsburg\, KY\, 40769\, United States
END:VEVENT
BEGIN:VEVENT
DTSTART;TZID=America/Kentucky/Louisville:20260218T080000
DTEND;TZID=America/Kentucky/Louisville:20260218T150000
DTSTAMP:20260422T184424
CREATED:20250513T204428Z
LAST-MODIFIED:20250514T173049Z
UID:10000806-1771401600-1771426800@horizonhealthky.org
SUMMARY:Whitley Syringe Exchange
DESCRIPTION:Whitley County Health Department (368 Penny Ln\, Williamsburg\, KY 40769\, United States)
URL:https://horizonhealthky.org/event/whitley-syringe-exchange/2026-02-18/
LOCATION:Whitley County Health Department\, 368 Penny Ln\, Williamsburg\, KY\, 40769\, United States
END:VEVENT
BEGIN:VEVENT
DTSTART;TZID=America/Kentucky/Louisville:20260217T100000
DTEND;TZID=America/Kentucky/Louisville:20260217T140000
DTSTAMP:20260422T184424
CREATED:20250513T204828Z
LAST-MODIFIED:20250514T173142Z
UID:10001174-1771322400-1771336800@horizonhealthky.org
SUMMARY:Knox County Syringe Exchange
DESCRIPTION:Knox County Health Department (261 Hospital Dr\, Barbourville\, KY 40906\, United States)
URL:https://horizonhealthky.org/event/knox-county-syringe-exchange/2026-02-17/
LOCATION:Knox County Health Department\, 261 Hospital Dr\, Barbourville\, KY\, 40906\, United States
END:VEVENT
BEGIN:VEVENT
DTSTART;TZID=America/Kentucky/Louisville:20260217T100000
DTEND;TZID=America/Kentucky/Louisville:20260217T140000
DTSTAMP:20260422T184424
CREATED:20250513T204617Z
LAST-MODIFIED:20250514T173119Z
UID:10001016-1771322400-1771336800@horizonhealthky.org
SUMMARY:Laurel County Syringe Exchange
DESCRIPTION:Laurel County Health Department (525 Whitley St\, London\, KY 40741\, United States)
URL:https://horizonhealthky.org/event/laurel-county-syringe-exchange/2026-02-17/
LOCATION:Laurel County Health Department\, 525 Whitley St\, London\, KY\, 40741\, United States
END:VEVENT
BEGIN:VEVENT
DTSTART;TZID=America/Kentucky/Louisville:20260217T080000
DTEND;TZID=America/Kentucky/Louisville:20260217T150000
DTSTAMP:20260422T184424
CREATED:20250513T204428Z
LAST-MODIFIED:20250514T173049Z
UID:10000805-1771315200-1771340400@horizonhealthky.org
SUMMARY:Whitley Syringe Exchange
DESCRIPTION:Whitley County Health Department (368 Penny Ln\, Williamsburg\, KY 40769\, United States)
URL:https://horizonhealthky.org/event/whitley-syringe-exchange/2026-02-17/
LOCATION:Whitley County Health Department\, 368 Penny Ln\, Williamsburg\, KY\, 40769\, United States
END:VEVENT
BEGIN:VEVENT
DTSTART;TZID=America/Kentucky/Louisville:20260216T080000
DTEND;TZID=America/Kentucky/Louisville:20260216T150000
DTSTAMP:20260422T184424
CREATED:20250513T204428Z
LAST-MODIFIED:20250514T173049Z
UID:10000804-1771228800-1771254000@horizonhealthky.org
SUMMARY:Whitley Syringe Exchange
DESCRIPTION:Whitley County Health Department (368 Penny Ln\, Williamsburg\, KY 40769\, United States)
URL:https://horizonhealthky.org/event/whitley-syringe-exchange/2026-02-16/
LOCATION:Whitley County Health Department\, 368 Penny Ln\, Williamsburg\, KY\, 40769\, United States
END:VEVENT
BEGIN:VEVENT
DTSTART;TZID=America/Kentucky/Louisville:20260212T100000
DTEND;TZID=America/Kentucky/Louisville:20260212T140000
DTSTAMP:20260422T184424
CREATED:20250513T204828Z
LAST-MODIFIED:20250514T173142Z
UID:10001173-1770890400-1770904800@horizonhealthky.org
SUMMARY:Knox County Syringe Exchange
DESCRIPTION:Knox County Health Department (261 Hospital Dr\, Barbourville\, KY 40906\, United States)
URL:https://horizonhealthky.org/event/knox-county-syringe-exchange/2026-02-12/
LOCATION:Knox County Health Department\, 261 Hospital Dr\, Barbourville\, KY\, 40906\, United States
END:VEVENT
BEGIN:VEVENT
DTSTART;TZID=America/Kentucky/Louisville:20260212T100000
DTEND;TZID=America/Kentucky/Louisville:20260212T140000
DTSTAMP:20260422T184424
CREATED:20250513T204617Z
LAST-MODIFIED:20250514T173119Z
UID:10001015-1770890400-1770904800@horizonhealthky.org
SUMMARY:Laurel County Syringe Exchange
DESCRIPTION:Laurel County Health Department (525 Whitley St\, London\, KY 40741\, United States)
URL:https://horizonhealthky.org/event/laurel-county-syringe-exchange/2026-02-12/
LOCATION:Laurel County Health Department\, 525 Whitley St\, London\, KY\, 40741\, United States
END:VEVENT
BEGIN:VEVENT
DTSTART;TZID=America/Kentucky/Louisville:20260212T080000
DTEND;TZID=America/Kentucky/Louisville:20260212T150000
DTSTAMP:20260422T184424
CREATED:20250513T204428Z
LAST-MODIFIED:20250514T173049Z
UID:10000803-1770883200-1770908400@horizonhealthky.org
SUMMARY:Whitley Syringe Exchange
DESCRIPTION:Whitley County Health Department (368 Penny Ln\, Williamsburg\, KY 40769\, United States)
URL:https://horizonhealthky.org/event/whitley-syringe-exchange/2026-02-12/
LOCATION:Whitley County Health Department\, 368 Penny Ln\, Williamsburg\, KY\, 40769\, United States
END:VEVENT
BEGIN:VEVENT
DTSTART;TZID=America/Kentucky/Louisville:20260211T080000
DTEND;TZID=America/Kentucky/Louisville:20260211T150000
DTSTAMP:20260422T184424
CREATED:20250513T204428Z
LAST-MODIFIED:20250514T173049Z
UID:10000802-1770796800-1770822000@horizonhealthky.org
SUMMARY:Whitley Syringe Exchange
DESCRIPTION:Whitley County Health Department (368 Penny Ln\, Williamsburg\, KY 40769\, United States)
URL:https://horizonhealthky.org/event/whitley-syringe-exchange/2026-02-11/
LOCATION:Whitley County Health Department\, 368 Penny Ln\, Williamsburg\, KY\, 40769\, United States
END:VEVENT
BEGIN:VEVENT
DTSTART;TZID=America/Kentucky/Louisville:20260210T100000
DTEND;TZID=America/Kentucky/Louisville:20260210T140000
DTSTAMP:20260422T184424
CREATED:20250513T204828Z
LAST-MODIFIED:20250514T173142Z
UID:10001172-1770717600-1770732000@horizonhealthky.org
SUMMARY:Knox County Syringe Exchange
DESCRIPTION:Knox County Health Department (261 Hospital Dr\, Barbourville\, KY 40906\, United States)
URL:https://horizonhealthky.org/event/knox-county-syringe-exchange/2026-02-10/
LOCATION:Knox County Health Department\, 261 Hospital Dr\, Barbourville\, KY\, 40906\, United States
END:VEVENT
BEGIN:VEVENT
DTSTART;TZID=America/Kentucky/Louisville:20260210T100000
DTEND;TZID=America/Kentucky/Louisville:20260210T140000
DTSTAMP:20260422T184424
CREATED:20250513T204617Z
LAST-MODIFIED:20250514T173119Z
UID:10001014-1770717600-1770732000@horizonhealthky.org
SUMMARY:Laurel County Syringe Exchange
DESCRIPTION:Laurel County Health Department (525 Whitley St\, London\, KY 40741\, United States)
URL:https://horizonhealthky.org/event/laurel-county-syringe-exchange/2026-02-10/
LOCATION:Laurel County Health Department\, 525 Whitley St\, London\, KY\, 40741\, United States
END:VEVENT
BEGIN:VEVENT
DTSTART;TZID=America/Kentucky/Louisville:20260210T080000
DTEND;TZID=America/Kentucky/Louisville:20260210T150000
DTSTAMP:20260422T184424
CREATED:20250513T204428Z
LAST-MODIFIED:20250514T173049Z
UID:10000801-1770710400-1770735600@horizonhealthky.org
SUMMARY:Whitley Syringe Exchange
DESCRIPTION:Whitley County Health Department (368 Penny Ln\, Williamsburg\, KY 40769\, United States)
URL:https://horizonhealthky.org/event/whitley-syringe-exchange/2026-02-10/
LOCATION:Whitley County Health Department\, 368 Penny Ln\, Williamsburg\, KY\, 40769\, United States
END:VEVENT
BEGIN:VEVENT
DTSTART;TZID=America/Kentucky/Louisville:20260209T080000
DTEND;TZID=America/Kentucky/Louisville:20260209T150000
DTSTAMP:20260422T184424
CREATED:20250513T204428Z
LAST-MODIFIED:20250514T173049Z
UID:10000800-1770624000-1770649200@horizonhealthky.org
SUMMARY:Whitley Syringe Exchange
DESCRIPTION:Whitley County Health Department (368 Penny Ln\, Williamsburg\, KY 40769\, United States)
URL:https://horizonhealthky.org/event/whitley-syringe-exchange/2026-02-09/
LOCATION:Whitley County Health Department\, 368 Penny Ln\, Williamsburg\, KY\, 40769\, United States
END:VEVENT
BEGIN:VEVENT
DTSTART;TZID=America/Kentucky/Louisville:20260205T100000
DTEND;TZID=America/Kentucky/Louisville:20260205T140000
DTSTAMP:20260422T184424
CREATED:20250513T204828Z
LAST-MODIFIED:20250514T173142Z
UID:10001171-1770285600-1770300000@horizonhealthky.org
SUMMARY:Knox County Syringe Exchange
DESCRIPTION:Knox County Health Department (261 Hospital Dr\, Barbourville\, KY 40906\, United States)
URL:https://horizonhealthky.org/event/knox-county-syringe-exchange/2026-02-05/
LOCATION:Knox County Health Department\, 261 Hospital Dr\, Barbourville\, KY\, 40906\, United States
END:VEVENT
BEGIN:VEVENT
DTSTART;TZID=America/Kentucky/Louisville:20260205T100000
DTEND;TZID=America/Kentucky/Louisville:20260205T140000
DTSTAMP:20260422T184425
CREATED:20250513T204617Z
LAST-MODIFIED:20250514T173119Z
UID:10001013-1770285600-1770300000@horizonhealthky.org
SUMMARY:Laurel County Syringe Exchange
DESCRIPTION:Laurel County Health Department (525 Whitley St\, London\, KY 40741\, United States)
URL:https://horizonhealthky.org/event/laurel-county-syringe-exchange/2026-02-05/
LOCATION:Laurel County Health Department\, 525 Whitley St\, London\, KY\, 40741\, United States
END:VEVENT
END:VCALENDAR