BEGIN:VCALENDAR
VERSION:2.0
PRODID:-//Horizon Health - ECPv6.15.20//NONSGML v1.0//EN
CALSCALE:GREGORIAN
METHOD:PUBLISH
X-WR-CALNAME:Horizon Health
X-ORIGINAL-URL:https://horizonhealthky.org
X-WR-CALDESC:Events for Horizon Health
REFRESH-INTERVAL;VALUE=DURATION:PT1H
X-Robots-Tag:noindex
X-PUBLISHED-TTL:PT1H
BEGIN:VTIMEZONE
TZID:America/Kentucky/Louisville
BEGIN:DAYLIGHT
TZOFFSETFROM:-0500
TZOFFSETTO:-0400
TZNAME:EDT
DTSTART:20240310T070000
END:DAYLIGHT
BEGIN:STANDARD
TZOFFSETFROM:-0400
TZOFFSETTO:-0500
TZNAME:EST
DTSTART:20241103T060000
END:STANDARD
BEGIN:DAYLIGHT
TZOFFSETFROM:-0500
TZOFFSETTO:-0400
TZNAME:EDT
DTSTART:20250309T070000
END:DAYLIGHT
BEGIN:STANDARD
TZOFFSETFROM:-0400
TZOFFSETTO:-0500
TZNAME:EST
DTSTART:20251102T060000
END:STANDARD
BEGIN:DAYLIGHT
TZOFFSETFROM:-0500
TZOFFSETTO:-0400
TZNAME:EDT
DTSTART:20260308T070000
END:DAYLIGHT
BEGIN:STANDARD
TZOFFSETFROM:-0400
TZOFFSETTO:-0500
TZNAME:EST
DTSTART:20261101T060000
END:STANDARD
END:VTIMEZONE
BEGIN:VEVENT
DTSTART;TZID=America/Kentucky/Louisville:20251027T080000
DTEND;TZID=America/Kentucky/Louisville:20251027T150000
DTSTAMP:20260423T033444
CREATED:20250513T204428Z
LAST-MODIFIED:20250514T173049Z
UID:10000740-1761552000-1761577200@horizonhealthky.org
SUMMARY:Whitley Syringe Exchange
DESCRIPTION:Whitley County Health Department (368 Penny Ln\, Williamsburg\, KY 40769\, United States)
URL:https://horizonhealthky.org/event/whitley-syringe-exchange/2025-10-27/
LOCATION:Whitley County Health Department\, 368 Penny Ln\, Williamsburg\, KY\, 40769\, United States
END:VEVENT
BEGIN:VEVENT
DTSTART;TZID=America/Kentucky/Louisville:20251024T100000
DTEND;TZID=America/Kentucky/Louisville:20251024T140000
DTSTAMP:20260423T033444
CREATED:20250513T205155Z
LAST-MODIFIED:20250514T173205Z
UID:10001275-1761300000-1761314400@horizonhealthky.org
SUMMARY:Redemption & Recovery
DESCRIPTION:Redemption & Recovery at East Barbourville Baptist Church
URL:https://horizonhealthky.org/event/knox-county-redemption-recovery/2025-10-24/
LOCATION:East Barbourville Baptist Church\, 279 Old 25 E\, Barbourville\, KY\, 40906\, United States
END:VEVENT
BEGIN:VEVENT
DTSTART;TZID=America/Kentucky/Louisville:20251023T100000
DTEND;TZID=America/Kentucky/Louisville:20251023T140000
DTSTAMP:20260423T033444
CREATED:20250513T204828Z
LAST-MODIFIED:20250514T173142Z
UID:10001141-1761213600-1761228000@horizonhealthky.org
SUMMARY:Knox County Syringe Exchange
DESCRIPTION:Knox County Health Department (261 Hospital Dr\, Barbourville\, KY 40906\, United States)
URL:https://horizonhealthky.org/event/knox-county-syringe-exchange/2025-10-23/
LOCATION:Knox County Health Department\, 261 Hospital Dr\, Barbourville\, KY\, 40906\, United States
END:VEVENT
BEGIN:VEVENT
DTSTART;TZID=America/Kentucky/Louisville:20251023T100000
DTEND;TZID=America/Kentucky/Louisville:20251023T140000
DTSTAMP:20260423T033444
CREATED:20250513T204617Z
LAST-MODIFIED:20250514T173119Z
UID:10000983-1761213600-1761228000@horizonhealthky.org
SUMMARY:Laurel County Syringe Exchange
DESCRIPTION:Laurel County Health Department (525 Whitley St\, London\, KY 40741\, United States)
URL:https://horizonhealthky.org/event/laurel-county-syringe-exchange/2025-10-23/
LOCATION:Laurel County Health Department\, 525 Whitley St\, London\, KY\, 40741\, United States
END:VEVENT
BEGIN:VEVENT
DTSTART;TZID=America/Kentucky/Louisville:20251023T080000
DTEND;TZID=America/Kentucky/Louisville:20251023T150000
DTSTAMP:20260423T033444
CREATED:20250513T204428Z
LAST-MODIFIED:20250514T173049Z
UID:10000739-1761206400-1761231600@horizonhealthky.org
SUMMARY:Whitley Syringe Exchange
DESCRIPTION:Whitley County Health Department (368 Penny Ln\, Williamsburg\, KY 40769\, United States)
URL:https://horizonhealthky.org/event/whitley-syringe-exchange/2025-10-23/
LOCATION:Whitley County Health Department\, 368 Penny Ln\, Williamsburg\, KY\, 40769\, United States
END:VEVENT
BEGIN:VEVENT
DTSTART;TZID=America/Kentucky/Louisville:20251022T080000
DTEND;TZID=America/Kentucky/Louisville:20251022T150000
DTSTAMP:20260423T033444
CREATED:20250513T204428Z
LAST-MODIFIED:20250514T173049Z
UID:10000738-1761120000-1761145200@horizonhealthky.org
SUMMARY:Whitley Syringe Exchange
DESCRIPTION:Whitley County Health Department (368 Penny Ln\, Williamsburg\, KY 40769\, United States)
URL:https://horizonhealthky.org/event/whitley-syringe-exchange/2025-10-22/
LOCATION:Whitley County Health Department\, 368 Penny Ln\, Williamsburg\, KY\, 40769\, United States
END:VEVENT
BEGIN:VEVENT
DTSTART;TZID=America/Kentucky/Louisville:20251021T100000
DTEND;TZID=America/Kentucky/Louisville:20251021T140000
DTSTAMP:20260423T033444
CREATED:20250513T204828Z
LAST-MODIFIED:20250514T173142Z
UID:10001140-1761040800-1761055200@horizonhealthky.org
SUMMARY:Knox County Syringe Exchange
DESCRIPTION:Knox County Health Department (261 Hospital Dr\, Barbourville\, KY 40906\, United States)
URL:https://horizonhealthky.org/event/knox-county-syringe-exchange/2025-10-21/
LOCATION:Knox County Health Department\, 261 Hospital Dr\, Barbourville\, KY\, 40906\, United States
END:VEVENT
BEGIN:VEVENT
DTSTART;TZID=America/Kentucky/Louisville:20251021T100000
DTEND;TZID=America/Kentucky/Louisville:20251021T140000
DTSTAMP:20260423T033444
CREATED:20250513T204617Z
LAST-MODIFIED:20250514T173119Z
UID:10000982-1761040800-1761055200@horizonhealthky.org
SUMMARY:Laurel County Syringe Exchange
DESCRIPTION:Laurel County Health Department (525 Whitley St\, London\, KY 40741\, United States)
URL:https://horizonhealthky.org/event/laurel-county-syringe-exchange/2025-10-21/
LOCATION:Laurel County Health Department\, 525 Whitley St\, London\, KY\, 40741\, United States
END:VEVENT
BEGIN:VEVENT
DTSTART;TZID=America/Kentucky/Louisville:20251021T080000
DTEND;TZID=America/Kentucky/Louisville:20251021T150000
DTSTAMP:20260423T033444
CREATED:20250513T204428Z
LAST-MODIFIED:20250514T173049Z
UID:10000737-1761033600-1761058800@horizonhealthky.org
SUMMARY:Whitley Syringe Exchange
DESCRIPTION:Whitley County Health Department (368 Penny Ln\, Williamsburg\, KY 40769\, United States)
URL:https://horizonhealthky.org/event/whitley-syringe-exchange/2025-10-21/
LOCATION:Whitley County Health Department\, 368 Penny Ln\, Williamsburg\, KY\, 40769\, United States
END:VEVENT
BEGIN:VEVENT
DTSTART;TZID=America/Kentucky/Louisville:20251020T080000
DTEND;TZID=America/Kentucky/Louisville:20251020T150000
DTSTAMP:20260423T033444
CREATED:20250513T204428Z
LAST-MODIFIED:20250514T173049Z
UID:10000736-1760947200-1760972400@horizonhealthky.org
SUMMARY:Whitley Syringe Exchange
DESCRIPTION:Whitley County Health Department (368 Penny Ln\, Williamsburg\, KY 40769\, United States)
URL:https://horizonhealthky.org/event/whitley-syringe-exchange/2025-10-20/
LOCATION:Whitley County Health Department\, 368 Penny Ln\, Williamsburg\, KY\, 40769\, United States
END:VEVENT
BEGIN:VEVENT
DTSTART;TZID=America/Kentucky/Louisville:20251017T100000
DTEND;TZID=America/Kentucky/Louisville:20251017T140000
DTSTAMP:20260423T033444
CREATED:20250513T205155Z
LAST-MODIFIED:20250514T173205Z
UID:10001274-1760695200-1760709600@horizonhealthky.org
SUMMARY:Redemption & Recovery
DESCRIPTION:Redemption & Recovery at East Barbourville Baptist Church
URL:https://horizonhealthky.org/event/knox-county-redemption-recovery/2025-10-17/
LOCATION:East Barbourville Baptist Church\, 279 Old 25 E\, Barbourville\, KY\, 40906\, United States
END:VEVENT
BEGIN:VEVENT
DTSTART;TZID=America/Kentucky/Louisville:20251016T100000
DTEND;TZID=America/Kentucky/Louisville:20251016T140000
DTSTAMP:20260423T033444
CREATED:20250513T204828Z
LAST-MODIFIED:20250514T173142Z
UID:10001139-1760608800-1760623200@horizonhealthky.org
SUMMARY:Knox County Syringe Exchange
DESCRIPTION:Knox County Health Department (261 Hospital Dr\, Barbourville\, KY 40906\, United States)
URL:https://horizonhealthky.org/event/knox-county-syringe-exchange/2025-10-16/
LOCATION:Knox County Health Department\, 261 Hospital Dr\, Barbourville\, KY\, 40906\, United States
END:VEVENT
BEGIN:VEVENT
DTSTART;TZID=America/Kentucky/Louisville:20251016T100000
DTEND;TZID=America/Kentucky/Louisville:20251016T140000
DTSTAMP:20260423T033444
CREATED:20250513T204617Z
LAST-MODIFIED:20250514T173119Z
UID:10000981-1760608800-1760623200@horizonhealthky.org
SUMMARY:Laurel County Syringe Exchange
DESCRIPTION:Laurel County Health Department (525 Whitley St\, London\, KY 40741\, United States)
URL:https://horizonhealthky.org/event/laurel-county-syringe-exchange/2025-10-16/
LOCATION:Laurel County Health Department\, 525 Whitley St\, London\, KY\, 40741\, United States
END:VEVENT
BEGIN:VEVENT
DTSTART;TZID=America/Kentucky/Louisville:20251016T080000
DTEND;TZID=America/Kentucky/Louisville:20251016T150000
DTSTAMP:20260423T033444
CREATED:20250513T204428Z
LAST-MODIFIED:20250514T173049Z
UID:10000735-1760601600-1760626800@horizonhealthky.org
SUMMARY:Whitley Syringe Exchange
DESCRIPTION:Whitley County Health Department (368 Penny Ln\, Williamsburg\, KY 40769\, United States)
URL:https://horizonhealthky.org/event/whitley-syringe-exchange/2025-10-16/
LOCATION:Whitley County Health Department\, 368 Penny Ln\, Williamsburg\, KY\, 40769\, United States
END:VEVENT
BEGIN:VEVENT
DTSTART;TZID=America/Kentucky/Louisville:20251015T080000
DTEND;TZID=America/Kentucky/Louisville:20251015T150000
DTSTAMP:20260423T033444
CREATED:20250513T204428Z
LAST-MODIFIED:20250514T173049Z
UID:10000734-1760515200-1760540400@horizonhealthky.org
SUMMARY:Whitley Syringe Exchange
DESCRIPTION:Whitley County Health Department (368 Penny Ln\, Williamsburg\, KY 40769\, United States)
URL:https://horizonhealthky.org/event/whitley-syringe-exchange/2025-10-15/
LOCATION:Whitley County Health Department\, 368 Penny Ln\, Williamsburg\, KY\, 40769\, United States
END:VEVENT
BEGIN:VEVENT
DTSTART;TZID=America/Kentucky/Louisville:20251014T100000
DTEND;TZID=America/Kentucky/Louisville:20251014T140000
DTSTAMP:20260423T033444
CREATED:20250513T204828Z
LAST-MODIFIED:20250514T173142Z
UID:10001138-1760436000-1760450400@horizonhealthky.org
SUMMARY:Knox County Syringe Exchange
DESCRIPTION:Knox County Health Department (261 Hospital Dr\, Barbourville\, KY 40906\, United States)
URL:https://horizonhealthky.org/event/knox-county-syringe-exchange/2025-10-14/
LOCATION:Knox County Health Department\, 261 Hospital Dr\, Barbourville\, KY\, 40906\, United States
END:VEVENT
BEGIN:VEVENT
DTSTART;TZID=America/Kentucky/Louisville:20251014T100000
DTEND;TZID=America/Kentucky/Louisville:20251014T140000
DTSTAMP:20260423T033444
CREATED:20250513T204617Z
LAST-MODIFIED:20250514T173119Z
UID:10000980-1760436000-1760450400@horizonhealthky.org
SUMMARY:Laurel County Syringe Exchange
DESCRIPTION:Laurel County Health Department (525 Whitley St\, London\, KY 40741\, United States)
URL:https://horizonhealthky.org/event/laurel-county-syringe-exchange/2025-10-14/
LOCATION:Laurel County Health Department\, 525 Whitley St\, London\, KY\, 40741\, United States
END:VEVENT
BEGIN:VEVENT
DTSTART;TZID=America/Kentucky/Louisville:20251014T080000
DTEND;TZID=America/Kentucky/Louisville:20251014T150000
DTSTAMP:20260423T033444
CREATED:20250513T204428Z
LAST-MODIFIED:20250514T173049Z
UID:10000733-1760428800-1760454000@horizonhealthky.org
SUMMARY:Whitley Syringe Exchange
DESCRIPTION:Whitley County Health Department (368 Penny Ln\, Williamsburg\, KY 40769\, United States)
URL:https://horizonhealthky.org/event/whitley-syringe-exchange/2025-10-14/
LOCATION:Whitley County Health Department\, 368 Penny Ln\, Williamsburg\, KY\, 40769\, United States
END:VEVENT
BEGIN:VEVENT
DTSTART;TZID=America/Kentucky/Louisville:20251013T080000
DTEND;TZID=America/Kentucky/Louisville:20251013T150000
DTSTAMP:20260423T033444
CREATED:20250513T204428Z
LAST-MODIFIED:20250514T173049Z
UID:10000732-1760342400-1760367600@horizonhealthky.org
SUMMARY:Whitley Syringe Exchange
DESCRIPTION:Whitley County Health Department (368 Penny Ln\, Williamsburg\, KY 40769\, United States)
URL:https://horizonhealthky.org/event/whitley-syringe-exchange/2025-10-13/
LOCATION:Whitley County Health Department\, 368 Penny Ln\, Williamsburg\, KY\, 40769\, United States
END:VEVENT
BEGIN:VEVENT
DTSTART;TZID=America/Kentucky/Louisville:20251010T100000
DTEND;TZID=America/Kentucky/Louisville:20251010T140000
DTSTAMP:20260423T033444
CREATED:20250513T205155Z
LAST-MODIFIED:20250514T173205Z
UID:10001273-1760090400-1760104800@horizonhealthky.org
SUMMARY:Redemption & Recovery
DESCRIPTION:Redemption & Recovery at East Barbourville Baptist Church
URL:https://horizonhealthky.org/event/knox-county-redemption-recovery/2025-10-10/
LOCATION:East Barbourville Baptist Church\, 279 Old 25 E\, Barbourville\, KY\, 40906\, United States
END:VEVENT
BEGIN:VEVENT
DTSTART;TZID=America/Kentucky/Louisville:20251009T100000
DTEND;TZID=America/Kentucky/Louisville:20251009T140000
DTSTAMP:20260423T033444
CREATED:20250513T204828Z
LAST-MODIFIED:20250514T173142Z
UID:10001137-1760004000-1760018400@horizonhealthky.org
SUMMARY:Knox County Syringe Exchange
DESCRIPTION:Knox County Health Department (261 Hospital Dr\, Barbourville\, KY 40906\, United States)
URL:https://horizonhealthky.org/event/knox-county-syringe-exchange/2025-10-09/
LOCATION:Knox County Health Department\, 261 Hospital Dr\, Barbourville\, KY\, 40906\, United States
END:VEVENT
BEGIN:VEVENT
DTSTART;TZID=America/Kentucky/Louisville:20251009T100000
DTEND;TZID=America/Kentucky/Louisville:20251009T140000
DTSTAMP:20260423T033444
CREATED:20250513T204617Z
LAST-MODIFIED:20250514T173119Z
UID:10000979-1760004000-1760018400@horizonhealthky.org
SUMMARY:Laurel County Syringe Exchange
DESCRIPTION:Laurel County Health Department (525 Whitley St\, London\, KY 40741\, United States)
URL:https://horizonhealthky.org/event/laurel-county-syringe-exchange/2025-10-09/
LOCATION:Laurel County Health Department\, 525 Whitley St\, London\, KY\, 40741\, United States
END:VEVENT
BEGIN:VEVENT
DTSTART;TZID=America/Kentucky/Louisville:20251009T080000
DTEND;TZID=America/Kentucky/Louisville:20251009T150000
DTSTAMP:20260423T033444
CREATED:20250513T204428Z
LAST-MODIFIED:20250514T173049Z
UID:10000731-1759996800-1760022000@horizonhealthky.org
SUMMARY:Whitley Syringe Exchange
DESCRIPTION:Whitley County Health Department (368 Penny Ln\, Williamsburg\, KY 40769\, United States)
URL:https://horizonhealthky.org/event/whitley-syringe-exchange/2025-10-09/
LOCATION:Whitley County Health Department\, 368 Penny Ln\, Williamsburg\, KY\, 40769\, United States
END:VEVENT
BEGIN:VEVENT
DTSTART;TZID=America/Kentucky/Louisville:20251008T080000
DTEND;TZID=America/Kentucky/Louisville:20251008T150000
DTSTAMP:20260423T033444
CREATED:20250513T204428Z
LAST-MODIFIED:20250514T173049Z
UID:10000730-1759910400-1759935600@horizonhealthky.org
SUMMARY:Whitley Syringe Exchange
DESCRIPTION:Whitley County Health Department (368 Penny Ln\, Williamsburg\, KY 40769\, United States)
URL:https://horizonhealthky.org/event/whitley-syringe-exchange/2025-10-08/
LOCATION:Whitley County Health Department\, 368 Penny Ln\, Williamsburg\, KY\, 40769\, United States
END:VEVENT
BEGIN:VEVENT
DTSTART;TZID=America/Kentucky/Louisville:20251007T100000
DTEND;TZID=America/Kentucky/Louisville:20251007T140000
DTSTAMP:20260423T033444
CREATED:20250513T204828Z
LAST-MODIFIED:20250514T173142Z
UID:10001136-1759831200-1759845600@horizonhealthky.org
SUMMARY:Knox County Syringe Exchange
DESCRIPTION:Knox County Health Department (261 Hospital Dr\, Barbourville\, KY 40906\, United States)
URL:https://horizonhealthky.org/event/knox-county-syringe-exchange/2025-10-07/
LOCATION:Knox County Health Department\, 261 Hospital Dr\, Barbourville\, KY\, 40906\, United States
END:VEVENT
BEGIN:VEVENT
DTSTART;TZID=America/Kentucky/Louisville:20251007T100000
DTEND;TZID=America/Kentucky/Louisville:20251007T140000
DTSTAMP:20260423T033444
CREATED:20250513T204617Z
LAST-MODIFIED:20250514T173119Z
UID:10000978-1759831200-1759845600@horizonhealthky.org
SUMMARY:Laurel County Syringe Exchange
DESCRIPTION:Laurel County Health Department (525 Whitley St\, London\, KY 40741\, United States)
URL:https://horizonhealthky.org/event/laurel-county-syringe-exchange/2025-10-07/
LOCATION:Laurel County Health Department\, 525 Whitley St\, London\, KY\, 40741\, United States
END:VEVENT
BEGIN:VEVENT
DTSTART;TZID=America/Kentucky/Louisville:20251007T080000
DTEND;TZID=America/Kentucky/Louisville:20251007T150000
DTSTAMP:20260423T033444
CREATED:20250513T204428Z
LAST-MODIFIED:20250514T173049Z
UID:10000729-1759824000-1759849200@horizonhealthky.org
SUMMARY:Whitley Syringe Exchange
DESCRIPTION:Whitley County Health Department (368 Penny Ln\, Williamsburg\, KY 40769\, United States)
URL:https://horizonhealthky.org/event/whitley-syringe-exchange/2025-10-07/
LOCATION:Whitley County Health Department\, 368 Penny Ln\, Williamsburg\, KY\, 40769\, United States
END:VEVENT
BEGIN:VEVENT
DTSTART;TZID=America/Kentucky/Louisville:20251006T080000
DTEND;TZID=America/Kentucky/Louisville:20251006T150000
DTSTAMP:20260423T033444
CREATED:20250513T204428Z
LAST-MODIFIED:20250514T173049Z
UID:10000728-1759737600-1759762800@horizonhealthky.org
SUMMARY:Whitley Syringe Exchange
DESCRIPTION:Whitley County Health Department (368 Penny Ln\, Williamsburg\, KY 40769\, United States)
URL:https://horizonhealthky.org/event/whitley-syringe-exchange/2025-10-06/
LOCATION:Whitley County Health Department\, 368 Penny Ln\, Williamsburg\, KY\, 40769\, United States
END:VEVENT
BEGIN:VEVENT
DTSTART;TZID=America/Kentucky/Louisville:20251003T100000
DTEND;TZID=America/Kentucky/Louisville:20251003T140000
DTSTAMP:20260423T033444
CREATED:20250513T205155Z
LAST-MODIFIED:20250514T173205Z
UID:10001272-1759485600-1759500000@horizonhealthky.org
SUMMARY:Redemption & Recovery
DESCRIPTION:Redemption & Recovery at East Barbourville Baptist Church
URL:https://horizonhealthky.org/event/knox-county-redemption-recovery/2025-10-03/
LOCATION:East Barbourville Baptist Church\, 279 Old 25 E\, Barbourville\, KY\, 40906\, United States
END:VEVENT
BEGIN:VEVENT
DTSTART;TZID=America/Kentucky/Louisville:20251002T100000
DTEND;TZID=America/Kentucky/Louisville:20251002T140000
DTSTAMP:20260423T033444
CREATED:20250513T204828Z
LAST-MODIFIED:20250514T173142Z
UID:10001135-1759399200-1759413600@horizonhealthky.org
SUMMARY:Knox County Syringe Exchange
DESCRIPTION:Knox County Health Department (261 Hospital Dr\, Barbourville\, KY 40906\, United States)
URL:https://horizonhealthky.org/event/knox-county-syringe-exchange/2025-10-02/
LOCATION:Knox County Health Department\, 261 Hospital Dr\, Barbourville\, KY\, 40906\, United States
END:VEVENT
END:VCALENDAR