BEGIN:VCALENDAR
VERSION:2.0
PRODID:-//Horizon Health - ECPv6.15.20//NONSGML v1.0//EN
CALSCALE:GREGORIAN
METHOD:PUBLISH
X-ORIGINAL-URL:https://horizonhealthky.org
X-WR-CALDESC:Events for Horizon Health
REFRESH-INTERVAL;VALUE=DURATION:PT1H
X-Robots-Tag:noindex
X-PUBLISHED-TTL:PT1H
BEGIN:VTIMEZONE
TZID:America/Kentucky/Louisville
BEGIN:DAYLIGHT
TZOFFSETFROM:-0500
TZOFFSETTO:-0400
TZNAME:EDT
DTSTART:20240310T070000
END:DAYLIGHT
BEGIN:STANDARD
TZOFFSETFROM:-0400
TZOFFSETTO:-0500
TZNAME:EST
DTSTART:20241103T060000
END:STANDARD
BEGIN:DAYLIGHT
TZOFFSETFROM:-0500
TZOFFSETTO:-0400
TZNAME:EDT
DTSTART:20250309T070000
END:DAYLIGHT
BEGIN:STANDARD
TZOFFSETFROM:-0400
TZOFFSETTO:-0500
TZNAME:EST
DTSTART:20251102T060000
END:STANDARD
BEGIN:DAYLIGHT
TZOFFSETFROM:-0500
TZOFFSETTO:-0400
TZNAME:EDT
DTSTART:20260308T070000
END:DAYLIGHT
BEGIN:STANDARD
TZOFFSETFROM:-0400
TZOFFSETTO:-0500
TZNAME:EST
DTSTART:20261101T060000
END:STANDARD
END:VTIMEZONE
BEGIN:VEVENT
DTSTART;VALUE=DATE:20250925
DTEND;VALUE=DATE:20250926
DTSTAMP:20260423T031625
CREATED:20250826T140715Z
LAST-MODIFIED:20250826T140715Z
UID:10001283-1758758400-1758844799@horizonhealthky.org
SUMMARY:Save A Life Day 2025
DESCRIPTION:Horizon Health is proud to participate in Save A Life Day 2025! \nWe are the official Whitley County organizers for the September 25\, 2025 event and we’re calling on our fellow community partners to join us! Locations are finalized and we are looking for other local organizations to join us. If your organization would like to participate or learn more\, please contact Esperanza Perez at (606) 657-2030 (ext. 334).
URL:https://horizonhealthky.org/event/save-a-life-day-2025/
LOCATION:KY
ATTACH;FMTTYPE=image/png:https://horizonhealthky.org/wp-content/uploads/2025/08/S.A.L.D-Community-Partners-Web-scaled.png
ORGANIZER;CN="Esperanza Perez":MAILTO:eperez@horizonhealthky.org
END:VEVENT
BEGIN:VEVENT
DTSTART;TZID=America/Kentucky/Louisville:20250925T080000
DTEND;TZID=America/Kentucky/Louisville:20250925T150000
DTSTAMP:20260423T031625
CREATED:20250513T204428Z
LAST-MODIFIED:20250514T173049Z
UID:10000723-1758787200-1758812400@horizonhealthky.org
SUMMARY:Whitley Syringe Exchange
DESCRIPTION:Whitley County Health Department (368 Penny Ln\, Williamsburg\, KY 40769\, United States)
URL:https://horizonhealthky.org/event/whitley-syringe-exchange/2025-09-25/
LOCATION:Whitley County Health Department\, 368 Penny Ln\, Williamsburg\, KY\, 40769\, United States
END:VEVENT
BEGIN:VEVENT
DTSTART;TZID=America/Kentucky/Louisville:20250925T100000
DTEND;TZID=America/Kentucky/Louisville:20250925T140000
DTSTAMP:20260423T031625
CREATED:20250513T204617Z
LAST-MODIFIED:20250514T173119Z
UID:10000975-1758794400-1758808800@horizonhealthky.org
SUMMARY:Laurel County Syringe Exchange
DESCRIPTION:Laurel County Health Department (525 Whitley St\, London\, KY 40741\, United States)
URL:https://horizonhealthky.org/event/laurel-county-syringe-exchange/2025-09-25/
LOCATION:Laurel County Health Department\, 525 Whitley St\, London\, KY\, 40741\, United States
END:VEVENT
BEGIN:VEVENT
DTSTART;TZID=America/Kentucky/Louisville:20250925T100000
DTEND;TZID=America/Kentucky/Louisville:20250925T140000
DTSTAMP:20260423T031625
CREATED:20250513T204828Z
LAST-MODIFIED:20250514T173142Z
UID:10001133-1758794400-1758808800@horizonhealthky.org
SUMMARY:Knox County Syringe Exchange
DESCRIPTION:Knox County Health Department (261 Hospital Dr\, Barbourville\, KY 40906\, United States)
URL:https://horizonhealthky.org/event/knox-county-syringe-exchange/2025-09-25/
LOCATION:Knox County Health Department\, 261 Hospital Dr\, Barbourville\, KY\, 40906\, United States
END:VEVENT
END:VCALENDAR